BEGIN:VCALENDAR
VERSION:2.0
PRODID:-//Bauverein Rüstringen - ECPv6.15.11//NONSGML v1.0//EN
CALSCALE:GREGORIAN
METHOD:PUBLISH
X-ORIGINAL-URL:https://test.bauverein-ruestringen.de
X-WR-CALDESC:Veranstaltungen für Bauverein Rüstringen
REFRESH-INTERVAL;VALUE=DURATION:PT1H
X-Robots-Tag:noindex
X-PUBLISHED-TTL:PT1H
BEGIN:VTIMEZONE
TZID:Europe/Berlin
BEGIN:DAYLIGHT
TZOFFSETFROM:+0100
TZOFFSETTO:+0200
TZNAME:CEST
DTSTART:20290325T010000
END:DAYLIGHT
BEGIN:STANDARD
TZOFFSETFROM:+0200
TZOFFSETTO:+0100
TZNAME:CET
DTSTART:20291028T010000
END:STANDARD
BEGIN:DAYLIGHT
TZOFFSETFROM:+0100
TZOFFSETTO:+0200
TZNAME:CEST
DTSTART:20300331T010000
END:DAYLIGHT
BEGIN:STANDARD
TZOFFSETFROM:+0200
TZOFFSETTO:+0100
TZNAME:CET
DTSTART:20301027T010000
END:STANDARD
BEGIN:DAYLIGHT
TZOFFSETFROM:+0100
TZOFFSETTO:+0200
TZNAME:CEST
DTSTART:20310330T010000
END:DAYLIGHT
BEGIN:STANDARD
TZOFFSETFROM:+0200
TZOFFSETTO:+0100
TZNAME:CET
DTSTART:20311026T010000
END:STANDARD
END:VTIMEZONE
BEGIN:VEVENT
DTSTART;TZID=Europe/Berlin:20300515T100000
DTEND;TZID=Europe/Berlin:20300515T110000
DTSTAMP:20260420T020115
CREATED:20210223T125330Z
LAST-MODIFIED:20250224T200820Z
UID:10012725-1905069600-1905073200@test.bauverein-ruestringen.de
SUMMARY:Frühstück zur Marktzeit
DESCRIPTION:Kaffee\, Klönen\, Kontakte knüpfen. Frühstücken Sie in netter Runde gemeinsam mit anderen. Bitte melden Sie sich vorher an.
URL:https://test.bauverein-ruestringen.de/event/fruehstueck-zur-marktzeit/2030-05-15/
LOCATION:Treff – Auf Siebethsburg\, Störtebekerstraße 14c\, 26386 Wilhelmshaven\, Deutschland
CATEGORIES:Treff – Auf Siebethsburg
ATTACH;FMTTYPE=image/jpeg:https://test.bauverein-ruestringen.de/wp-content/uploads/2022/11/Fruehstueck.jpg
END:VEVENT
BEGIN:VEVENT
DTSTART;TZID=Europe/Berlin:20300515T183000
DTEND;TZID=Europe/Berlin:20300515T200000
DTSTAMP:20260420T020115
CREATED:20210223T133934Z
LAST-MODIFIED:20250224T200926Z
UID:10012902-1905100200-1905105600@test.bauverein-ruestringen.de
SUMMARY:Yoga am Abend
DESCRIPTION:Den Tag hinter sich lassen\, sich dehnen\, strecken\, den Körper spüren\, kräftigen\, atmen. Entdecken Sie die Wohltaten des Yoga! Für Menschen von 25-65 Jahren.
URL:https://test.bauverein-ruestringen.de/event/yoga-am-abend-5/2030-05-15/
LOCATION:Treff – Auf Siebethsburg\, Störtebekerstraße 14c\, 26386 Wilhelmshaven\, Deutschland
CATEGORIES:Treff – Auf Siebethsburg
ATTACH;FMTTYPE=image/jpeg:https://test.bauverein-ruestringen.de/wp-content/uploads/2022/11/yoga1.jpg
END:VEVENT
BEGIN:VEVENT
DTSTART;TZID=Europe/Berlin:20300515T190000
DTEND;TZID=Europe/Berlin:20300515T210000
DTSTAMP:20260420T020115
CREATED:20221129T155839Z
LAST-MODIFIED:20250224T200953Z
UID:10012726-1905102000-1905109200@test.bauverein-ruestringen.de
SUMMARY:WLAN-Cafè
DESCRIPTION:Für Menschen ab 16 Jahren. In entspannter Atmosphäre erhalten Sie Unterstützung rund um Smartphone\, Tablet und Laptop.
URL:https://test.bauverein-ruestringen.de/event/wlan-cafe/2030-05-15/
LOCATION:freiraum\, Störtebekerstraße 3 \, 26386 Wilhelmshaven\, Germany
CATEGORIES:freiraum
ATTACH;FMTTYPE=image/jpeg:https://test.bauverein-ruestringen.de/wp-content/uploads/2022/11/wlancafe.jpg
END:VEVENT
END:VCALENDAR