BEGIN:VCALENDAR
VERSION:2.0
PRODID:-//Bauverein Rüstringen - ECPv6.15.11//NONSGML v1.0//EN
CALSCALE:GREGORIAN
METHOD:PUBLISH
X-ORIGINAL-URL:https://test.bauverein-ruestringen.de
X-WR-CALDESC:Veranstaltungen für Bauverein Rüstringen
REFRESH-INTERVAL;VALUE=DURATION:PT1H
X-Robots-Tag:noindex
X-PUBLISHED-TTL:PT1H
BEGIN:VTIMEZONE
TZID:Europe/Berlin
BEGIN:DAYLIGHT
TZOFFSETFROM:+0100
TZOFFSETTO:+0200
TZNAME:CEST
DTSTART:20290325T010000
END:DAYLIGHT
BEGIN:STANDARD
TZOFFSETFROM:+0200
TZOFFSETTO:+0100
TZNAME:CET
DTSTART:20291028T010000
END:STANDARD
BEGIN:DAYLIGHT
TZOFFSETFROM:+0100
TZOFFSETTO:+0200
TZNAME:CEST
DTSTART:20300331T010000
END:DAYLIGHT
BEGIN:STANDARD
TZOFFSETFROM:+0200
TZOFFSETTO:+0100
TZNAME:CET
DTSTART:20301027T010000
END:STANDARD
BEGIN:DAYLIGHT
TZOFFSETFROM:+0100
TZOFFSETTO:+0200
TZNAME:CEST
DTSTART:20310330T010000
END:DAYLIGHT
BEGIN:STANDARD
TZOFFSETFROM:+0200
TZOFFSETTO:+0100
TZNAME:CET
DTSTART:20311026T010000
END:STANDARD
END:VTIMEZONE
BEGIN:VEVENT
DTSTART;TZID=Europe/Berlin:20301024T110000
DTEND;TZID=Europe/Berlin:20301024T120000
DTSTAMP:20260420T112354
CREATED:20210421T093201Z
LAST-MODIFIED:20250224T102240Z
UID:10013893-1919070000-1919073600@test.bauverein-ruestringen.de
SUMMARY:Digital-Kompass
DESCRIPTION:Unser Angebot für alle Senioren und Seniorinnen. Der Umgang mit Internet\, Smartphone\, Laptop und Tablet wird entspannt erklärt und geübt.
URL:https://test.bauverein-ruestringen.de/event/digital-kompass-3/2030-10-24/
LOCATION:freiraum\, Störtebekerstraße 3 \, 26386 Wilhelmshaven\, Germany
CATEGORIES:freiraum,Seniorenangebote,Treff – Auf Siebethsburg
ATTACH;FMTTYPE=image/jpeg:https://test.bauverein-ruestringen.de/wp-content/uploads/2021/04/Digital-Kompass_Bauverein_Ruestringen.jpg
END:VEVENT
BEGIN:VEVENT
DTSTART;TZID=Europe/Berlin:20301024T150000
DTEND;TZID=Europe/Berlin:20301024T160000
DTSTAMP:20260420T112354
CREATED:20210223T125813Z
LAST-MODIFIED:20221128T090233Z
UID:10013918-1919084400-1919088000@test.bauverein-ruestringen.de
SUMMARY:Senioren­sport (AWO)
DESCRIPTION:Beweglich bleiben\, auch im Alter! Der sportliche Treff für alle ab 60.
URL:https://test.bauverein-ruestringen.de/event/seniorensport/2030-10-24/
LOCATION:Treff – Auf Siebethsburg\, Störtebekerstraße 14c\, 26386 Wilhelmshaven\, Deutschland
CATEGORIES:Seniorenangebote,Treff – Auf Siebethsburg
ATTACH;FMTTYPE=image/jpeg:https://test.bauverein-ruestringen.de/wp-content/uploads/2021/02/Seniorensport_Bauverein_Ruestringen.jpg
END:VEVENT
BEGIN:VEVENT
DTSTART;TZID=Europe/Berlin:20301024T150000
DTEND;TZID=Europe/Berlin:20301024T163000
DTSTAMP:20260420T112354
CREATED:20250220T110359Z
LAST-MODIFIED:20250224T210413Z
UID:10014108-1919084400-1919089800@test.bauverein-ruestringen.de
SUMMARY:Treff für alleinerziehende Mütter
DESCRIPTION:Unterstützung und Vernetzung für Mütter mit Kindern im Alter von 0 bis 3 Jahren.
URL:https://test.bauverein-ruestringen.de/event/bastelgruppe-2/2030-10-24/
LOCATION:freiraum\, Störtebekerstraße 3 \, 26386 Wilhelmshaven\, Germany
CATEGORIES:freiraum
ATTACH;FMTTYPE=image/jpeg:https://test.bauverein-ruestringen.de/wp-content/uploads/2024/07/muetter.jpg
END:VEVENT
END:VCALENDAR