BEGIN:VCALENDAR
VERSION:2.0
PRODID:-//Bauverein Rüstringen - ECPv6.15.11//NONSGML v1.0//EN
CALSCALE:GREGORIAN
METHOD:PUBLISH
X-ORIGINAL-URL:https://test.bauverein-ruestringen.de
X-WR-CALDESC:Veranstaltungen für Bauverein Rüstringen
REFRESH-INTERVAL;VALUE=DURATION:PT1H
X-Robots-Tag:noindex
X-PUBLISHED-TTL:PT1H
BEGIN:VTIMEZONE
TZID:Europe/Berlin
BEGIN:DAYLIGHT
TZOFFSETFROM:+0100
TZOFFSETTO:+0200
TZNAME:CEST
DTSTART:20300331T010000
END:DAYLIGHT
BEGIN:STANDARD
TZOFFSETFROM:+0200
TZOFFSETTO:+0100
TZNAME:CET
DTSTART:20301027T010000
END:STANDARD
BEGIN:DAYLIGHT
TZOFFSETFROM:+0100
TZOFFSETTO:+0200
TZNAME:CEST
DTSTART:20310330T010000
END:DAYLIGHT
BEGIN:STANDARD
TZOFFSETFROM:+0200
TZOFFSETTO:+0100
TZNAME:CET
DTSTART:20311026T010000
END:STANDARD
BEGIN:DAYLIGHT
TZOFFSETFROM:+0100
TZOFFSETTO:+0200
TZNAME:CEST
DTSTART:20320328T010000
END:DAYLIGHT
BEGIN:STANDARD
TZOFFSETFROM:+0200
TZOFFSETTO:+0100
TZNAME:CET
DTSTART:20321031T010000
END:STANDARD
END:VTIMEZONE
BEGIN:VEVENT
DTSTART;TZID=Europe/Berlin:20310203T093000
DTEND;TZID=Europe/Berlin:20310203T103000
DTSTAMP:20260422T113841
CREATED:20210223T133852Z
LAST-MODIFIED:20250224T205813Z
UID:10014014-1927877400-1927881000@test.bauverein-ruestringen.de
SUMMARY:Yoga im Sitzen
DESCRIPTION:Beim Yoga auf dem Stuhl werden Beweglichkeit und Kraft besonders sanft geschult. Für alle Altersgruppen geeignet.
URL:https://test.bauverein-ruestringen.de/event/yoga-am-abend/2031-02-03/
LOCATION:Treff – Auf Siebethsburg\, Störtebekerstraße 14c\, 26386 Wilhelmshaven\, Deutschland
CATEGORIES:Treff – Auf Siebethsburg
ATTACH;FMTTYPE=image/jpeg:https://test.bauverein-ruestringen.de/wp-content/uploads/2022/11/yoga2-1.jpg
END:VEVENT
BEGIN:VEVENT
DTSTART;TZID=Europe/Berlin:20310203T140000
DTEND;TZID=Europe/Berlin:20310203T170000
DTSTAMP:20260422T113841
CREATED:20210423T092454Z
LAST-MODIFIED:20250224T210539Z
UID:10014039-1927893600-1927904400@test.bauverein-ruestringen.de
SUMMARY:Nähstübchen
DESCRIPTION:Nähen ein einsames Hobby? Das muss nicht sein! Im Näh-Café finden Sie Gleichgesinnte. Tauschen Sie sich aus und bekommen Sie beim gemeinsamen Nähen in kreativer Atmosphäre neue Ideen.
URL:https://test.bauverein-ruestringen.de/event/naeh-cafe/2031-02-03/
LOCATION:Treff – Auf Siebethsburg\, Störtebekerstraße 14c\, 26386 Wilhelmshaven\, Deutschland
CATEGORIES:Treff – Auf Siebethsburg
ATTACH;FMTTYPE=image/jpeg:https://test.bauverein-ruestringen.de/wp-content/uploads/2021/04/Naeh_Cafe_Bauverein_Ruestringen.jpg
END:VEVENT
BEGIN:VEVENT
DTSTART;TZID=Europe/Berlin:20310204T100000
DTEND;TZID=Europe/Berlin:20310204T110000
DTSTAMP:20260422T113841
CREATED:20210901T132110Z
LAST-MODIFIED:20250224T165741Z
UID:10014064-1927965600-1927969200@test.bauverein-ruestringen.de
SUMMARY:Tai Chi
DESCRIPTION:Tai Chi\, das ist:\nSich spüren\, bewegen – langsam und bewusst. Dem Fluss des Atems folgen und die Kräfte des Lebens stärken. Entspannung für Geist und Körper. \nEs heißt\, wer Tai Chi übt\, wird gesund und stark wie ein Holzfäller\, so geschmeidig wie ein Kind und gelassen wie ein Weiser.
URL:https://test.bauverein-ruestringen.de/event/thai-chi-2/2031-02-04/
LOCATION:Treff – Auf Siebethsburg\, Störtebekerstraße 14c\, 26386 Wilhelmshaven\, Deutschland
CATEGORIES:Treff – Auf Siebethsburg
ATTACH;FMTTYPE=image/jpeg:https://test.bauverein-ruestringen.de/wp-content/uploads/2021/09/Thai_Chi.jpg
END:VEVENT
BEGIN:VEVENT
DTSTART;TZID=Europe/Berlin:20310205T100000
DTEND;TZID=Europe/Berlin:20310205T110000
DTSTAMP:20260422T113841
CREATED:20210223T125330Z
LAST-MODIFIED:20250224T200820Z
UID:10014096-1928052000-1928055600@test.bauverein-ruestringen.de
SUMMARY:Frühstück zur Marktzeit
DESCRIPTION:Kaffee\, Klönen\, Kontakte knüpfen. Frühstücken Sie in netter Runde gemeinsam mit anderen. Bitte melden Sie sich vorher an.
URL:https://test.bauverein-ruestringen.de/event/fruehstueck-zur-marktzeit/2031-02-05/
LOCATION:Treff – Auf Siebethsburg\, Störtebekerstraße 14c\, 26386 Wilhelmshaven\, Deutschland
CATEGORIES:Treff – Auf Siebethsburg
ATTACH;FMTTYPE=image/jpeg:https://test.bauverein-ruestringen.de/wp-content/uploads/2022/11/Fruehstueck.jpg
END:VEVENT
BEGIN:VEVENT
DTSTART;TZID=Europe/Berlin:20310205T183000
DTEND;TZID=Europe/Berlin:20310205T200000
DTSTAMP:20260422T113841
CREATED:20210223T133934Z
LAST-MODIFIED:20250224T200926Z
UID:10013856-1928082600-1928088000@test.bauverein-ruestringen.de
SUMMARY:Yoga am Abend
DESCRIPTION:Den Tag hinter sich lassen\, sich dehnen\, strecken\, den Körper spüren\, kräftigen\, atmen. Entdecken Sie die Wohltaten des Yoga! Für Menschen von 25-65 Jahren.
URL:https://test.bauverein-ruestringen.de/event/yoga-am-abend-5/2031-02-05/
LOCATION:Treff – Auf Siebethsburg\, Störtebekerstraße 14c\, 26386 Wilhelmshaven\, Deutschland
CATEGORIES:Treff – Auf Siebethsburg
ATTACH;FMTTYPE=image/jpeg:https://test.bauverein-ruestringen.de/wp-content/uploads/2022/11/yoga1.jpg
END:VEVENT
BEGIN:VEVENT
DTSTART;TZID=Europe/Berlin:20310205T190000
DTEND;TZID=Europe/Berlin:20310205T210000
DTSTAMP:20260422T113841
CREATED:20221129T155839Z
LAST-MODIFIED:20250224T200953Z
UID:10013882-1928084400-1928091600@test.bauverein-ruestringen.de
SUMMARY:WLAN-Cafè
DESCRIPTION:Für Menschen ab 16 Jahren. In entspannter Atmosphäre erhalten Sie Unterstützung rund um Smartphone\, Tablet und Laptop.
URL:https://test.bauverein-ruestringen.de/event/wlan-cafe/2031-02-05/
LOCATION:freiraum\, Störtebekerstraße 3 \, 26386 Wilhelmshaven\, Germany
CATEGORIES:freiraum
ATTACH;FMTTYPE=image/jpeg:https://test.bauverein-ruestringen.de/wp-content/uploads/2022/11/wlancafe.jpg
END:VEVENT
BEGIN:VEVENT
DTSTART;TZID=Europe/Berlin:20310206T110000
DTEND;TZID=Europe/Berlin:20310206T120000
DTSTAMP:20260422T113841
CREATED:20210421T093201Z
LAST-MODIFIED:20250224T102240Z
UID:10013908-1928142000-1928145600@test.bauverein-ruestringen.de
SUMMARY:Digital-Kompass
DESCRIPTION:Unser Angebot für alle Senioren und Seniorinnen. Der Umgang mit Internet\, Smartphone\, Laptop und Tablet wird entspannt erklärt und geübt.
URL:https://test.bauverein-ruestringen.de/event/digital-kompass-3/2031-02-06/
LOCATION:freiraum\, Störtebekerstraße 3 \, 26386 Wilhelmshaven\, Germany
CATEGORIES:freiraum,Seniorenangebote,Treff – Auf Siebethsburg
ATTACH;FMTTYPE=image/jpeg:https://test.bauverein-ruestringen.de/wp-content/uploads/2021/04/Digital-Kompass_Bauverein_Ruestringen.jpg
END:VEVENT
BEGIN:VEVENT
DTSTART;TZID=Europe/Berlin:20310206T150000
DTEND;TZID=Europe/Berlin:20310206T160000
DTSTAMP:20260422T113841
CREATED:20210223T125813Z
LAST-MODIFIED:20221128T090233Z
UID:10013933-1928156400-1928160000@test.bauverein-ruestringen.de
SUMMARY:Senioren­sport (AWO)
DESCRIPTION:Beweglich bleiben\, auch im Alter! Der sportliche Treff für alle ab 60.
URL:https://test.bauverein-ruestringen.de/event/seniorensport/2031-02-06/
LOCATION:Treff – Auf Siebethsburg\, Störtebekerstraße 14c\, 26386 Wilhelmshaven\, Deutschland
CATEGORIES:Seniorenangebote,Treff – Auf Siebethsburg
ATTACH;FMTTYPE=image/jpeg:https://test.bauverein-ruestringen.de/wp-content/uploads/2021/02/Seniorensport_Bauverein_Ruestringen.jpg
END:VEVENT
BEGIN:VEVENT
DTSTART;TZID=Europe/Berlin:20310207T100000
DTEND;TZID=Europe/Berlin:20310207T110000
DTSTAMP:20260422T113841
CREATED:20250220T110357Z
LAST-MODIFIED:20250224T212153Z
UID:10013964-1928224800-1928228400@test.bauverein-ruestringen.de
SUMMARY:Tai Chi
DESCRIPTION:Tai Chi\, das ist:\nSich spüren\, bewegen – langsam und bewusst. Dem Fluss des Atems folgen und die Kräfte des Lebens stärken. Entspannung für Geist und Körper. \nEs heißt\, wer Tai Chi übt\, wird gesund und stark wie ein Holzfäller\, so geschmeidig wie ein Kind und gelassen wie ein Weiser.
URL:https://test.bauverein-ruestringen.de/event/thai-chi/2031-02-07/
LOCATION:Treff – Auf Siebethsburg\, Störtebekerstraße 14c\, 26386 Wilhelmshaven\, Deutschland
CATEGORIES:Treff – Auf Siebethsburg
ATTACH;FMTTYPE=image/jpeg:https://test.bauverein-ruestringen.de/wp-content/uploads/2021/09/Thai_Chi.jpg
END:VEVENT
BEGIN:VEVENT
DTSTART;TZID=Europe/Berlin:20310207T140000
DTEND;TZID=Europe/Berlin:20310207T163000
DTSTAMP:20260422T113841
CREATED:20210422T164755Z
LAST-MODIFIED:20250224T202425Z
UID:10014125-1928239200-1928248200@test.bauverein-ruestringen.de
SUMMARY:Bingo
DESCRIPTION:Aufmerksamkeit ist gefragt: Bingo ist ein heiteres\, geselliges Spiel für alle Altersgruppen. Termine auf Anfrage. \n 
URL:https://test.bauverein-ruestringen.de/event/bingo-2/2031-02-07/
LOCATION:freiraum\, Störtebekerstraße 3 \, 26386 Wilhelmshaven\, Germany
CATEGORIES:freiraum
ATTACH;FMTTYPE=image/jpeg:https://test.bauverein-ruestringen.de/wp-content/uploads/2021/04/Bingo_Bauverein_Ruestringen.jpg
END:VEVENT
BEGIN:VEVENT
DTSTART;TZID=Europe/Berlin:20310210T093000
DTEND;TZID=Europe/Berlin:20310210T103000
DTSTAMP:20260422T113841
CREATED:20210223T133852Z
LAST-MODIFIED:20250224T205813Z
UID:10014015-1928482200-1928485800@test.bauverein-ruestringen.de
SUMMARY:Yoga im Sitzen
DESCRIPTION:Beim Yoga auf dem Stuhl werden Beweglichkeit und Kraft besonders sanft geschult. Für alle Altersgruppen geeignet.
URL:https://test.bauverein-ruestringen.de/event/yoga-am-abend/2031-02-10/
LOCATION:Treff – Auf Siebethsburg\, Störtebekerstraße 14c\, 26386 Wilhelmshaven\, Deutschland
CATEGORIES:Treff – Auf Siebethsburg
ATTACH;FMTTYPE=image/jpeg:https://test.bauverein-ruestringen.de/wp-content/uploads/2022/11/yoga2-1.jpg
END:VEVENT
BEGIN:VEVENT
DTSTART;TZID=Europe/Berlin:20310210T140000
DTEND;TZID=Europe/Berlin:20310210T170000
DTSTAMP:20260422T113841
CREATED:20210423T092454Z
LAST-MODIFIED:20250224T210539Z
UID:10014040-1928498400-1928509200@test.bauverein-ruestringen.de
SUMMARY:Nähstübchen
DESCRIPTION:Nähen ein einsames Hobby? Das muss nicht sein! Im Näh-Café finden Sie Gleichgesinnte. Tauschen Sie sich aus und bekommen Sie beim gemeinsamen Nähen in kreativer Atmosphäre neue Ideen.
URL:https://test.bauverein-ruestringen.de/event/naeh-cafe/2031-02-10/
LOCATION:Treff – Auf Siebethsburg\, Störtebekerstraße 14c\, 26386 Wilhelmshaven\, Deutschland
CATEGORIES:Treff – Auf Siebethsburg
ATTACH;FMTTYPE=image/jpeg:https://test.bauverein-ruestringen.de/wp-content/uploads/2021/04/Naeh_Cafe_Bauverein_Ruestringen.jpg
END:VEVENT
BEGIN:VEVENT
DTSTART;TZID=Europe/Berlin:20310211T100000
DTEND;TZID=Europe/Berlin:20310211T110000
DTSTAMP:20260422T113841
CREATED:20210901T132110Z
LAST-MODIFIED:20250224T165741Z
UID:10014065-1928570400-1928574000@test.bauverein-ruestringen.de
SUMMARY:Tai Chi
DESCRIPTION:Tai Chi\, das ist:\nSich spüren\, bewegen – langsam und bewusst. Dem Fluss des Atems folgen und die Kräfte des Lebens stärken. Entspannung für Geist und Körper. \nEs heißt\, wer Tai Chi übt\, wird gesund und stark wie ein Holzfäller\, so geschmeidig wie ein Kind und gelassen wie ein Weiser.
URL:https://test.bauverein-ruestringen.de/event/thai-chi-2/2031-02-11/
LOCATION:Treff – Auf Siebethsburg\, Störtebekerstraße 14c\, 26386 Wilhelmshaven\, Deutschland
CATEGORIES:Treff – Auf Siebethsburg
ATTACH;FMTTYPE=image/jpeg:https://test.bauverein-ruestringen.de/wp-content/uploads/2021/09/Thai_Chi.jpg
END:VEVENT
BEGIN:VEVENT
DTSTART;TZID=Europe/Berlin:20310212T100000
DTEND;TZID=Europe/Berlin:20310212T110000
DTSTAMP:20260422T113841
CREATED:20210223T125330Z
LAST-MODIFIED:20250224T200820Z
UID:10014097-1928656800-1928660400@test.bauverein-ruestringen.de
SUMMARY:Frühstück zur Marktzeit
DESCRIPTION:Kaffee\, Klönen\, Kontakte knüpfen. Frühstücken Sie in netter Runde gemeinsam mit anderen. Bitte melden Sie sich vorher an.
URL:https://test.bauverein-ruestringen.de/event/fruehstueck-zur-marktzeit/2031-02-12/
LOCATION:Treff – Auf Siebethsburg\, Störtebekerstraße 14c\, 26386 Wilhelmshaven\, Deutschland
CATEGORIES:Treff – Auf Siebethsburg
ATTACH;FMTTYPE=image/jpeg:https://test.bauverein-ruestringen.de/wp-content/uploads/2022/11/Fruehstueck.jpg
END:VEVENT
BEGIN:VEVENT
DTSTART;TZID=Europe/Berlin:20310212T183000
DTEND;TZID=Europe/Berlin:20310212T200000
DTSTAMP:20260422T113841
CREATED:20210223T133934Z
LAST-MODIFIED:20250224T200926Z
UID:10013857-1928687400-1928692800@test.bauverein-ruestringen.de
SUMMARY:Yoga am Abend
DESCRIPTION:Den Tag hinter sich lassen\, sich dehnen\, strecken\, den Körper spüren\, kräftigen\, atmen. Entdecken Sie die Wohltaten des Yoga! Für Menschen von 25-65 Jahren.
URL:https://test.bauverein-ruestringen.de/event/yoga-am-abend-5/2031-02-12/
LOCATION:Treff – Auf Siebethsburg\, Störtebekerstraße 14c\, 26386 Wilhelmshaven\, Deutschland
CATEGORIES:Treff – Auf Siebethsburg
ATTACH;FMTTYPE=image/jpeg:https://test.bauverein-ruestringen.de/wp-content/uploads/2022/11/yoga1.jpg
END:VEVENT
BEGIN:VEVENT
DTSTART;TZID=Europe/Berlin:20310212T190000
DTEND;TZID=Europe/Berlin:20310212T210000
DTSTAMP:20260422T113841
CREATED:20221129T155839Z
LAST-MODIFIED:20250224T200953Z
UID:10013883-1928689200-1928696400@test.bauverein-ruestringen.de
SUMMARY:WLAN-Cafè
DESCRIPTION:Für Menschen ab 16 Jahren. In entspannter Atmosphäre erhalten Sie Unterstützung rund um Smartphone\, Tablet und Laptop.
URL:https://test.bauverein-ruestringen.de/event/wlan-cafe/2031-02-12/
LOCATION:freiraum\, Störtebekerstraße 3 \, 26386 Wilhelmshaven\, Germany
CATEGORIES:freiraum
ATTACH;FMTTYPE=image/jpeg:https://test.bauverein-ruestringen.de/wp-content/uploads/2022/11/wlancafe.jpg
END:VEVENT
BEGIN:VEVENT
DTSTART;TZID=Europe/Berlin:20310213T110000
DTEND;TZID=Europe/Berlin:20310213T120000
DTSTAMP:20260422T113841
CREATED:20210421T093201Z
LAST-MODIFIED:20250224T102240Z
UID:10013909-1928746800-1928750400@test.bauverein-ruestringen.de
SUMMARY:Digital-Kompass
DESCRIPTION:Unser Angebot für alle Senioren und Seniorinnen. Der Umgang mit Internet\, Smartphone\, Laptop und Tablet wird entspannt erklärt und geübt.
URL:https://test.bauverein-ruestringen.de/event/digital-kompass-3/2031-02-13/
LOCATION:freiraum\, Störtebekerstraße 3 \, 26386 Wilhelmshaven\, Germany
CATEGORIES:freiraum,Seniorenangebote,Treff – Auf Siebethsburg
ATTACH;FMTTYPE=image/jpeg:https://test.bauverein-ruestringen.de/wp-content/uploads/2021/04/Digital-Kompass_Bauverein_Ruestringen.jpg
END:VEVENT
BEGIN:VEVENT
DTSTART;TZID=Europe/Berlin:20310213T150000
DTEND;TZID=Europe/Berlin:20310213T160000
DTSTAMP:20260422T113841
CREATED:20210223T125813Z
LAST-MODIFIED:20221128T090233Z
UID:10013934-1928761200-1928764800@test.bauverein-ruestringen.de
SUMMARY:Senioren­sport (AWO)
DESCRIPTION:Beweglich bleiben\, auch im Alter! Der sportliche Treff für alle ab 60.
URL:https://test.bauverein-ruestringen.de/event/seniorensport/2031-02-13/
LOCATION:Treff – Auf Siebethsburg\, Störtebekerstraße 14c\, 26386 Wilhelmshaven\, Deutschland
CATEGORIES:Seniorenangebote,Treff – Auf Siebethsburg
ATTACH;FMTTYPE=image/jpeg:https://test.bauverein-ruestringen.de/wp-content/uploads/2021/02/Seniorensport_Bauverein_Ruestringen.jpg
END:VEVENT
BEGIN:VEVENT
DTSTART;TZID=Europe/Berlin:20310214T100000
DTEND;TZID=Europe/Berlin:20310214T110000
DTSTAMP:20260422T113841
CREATED:20250220T110357Z
LAST-MODIFIED:20250224T212153Z
UID:10013965-1928829600-1928833200@test.bauverein-ruestringen.de
SUMMARY:Tai Chi
DESCRIPTION:Tai Chi\, das ist:\nSich spüren\, bewegen – langsam und bewusst. Dem Fluss des Atems folgen und die Kräfte des Lebens stärken. Entspannung für Geist und Körper. \nEs heißt\, wer Tai Chi übt\, wird gesund und stark wie ein Holzfäller\, so geschmeidig wie ein Kind und gelassen wie ein Weiser.
URL:https://test.bauverein-ruestringen.de/event/thai-chi/2031-02-14/
LOCATION:Treff – Auf Siebethsburg\, Störtebekerstraße 14c\, 26386 Wilhelmshaven\, Deutschland
CATEGORIES:Treff – Auf Siebethsburg
ATTACH;FMTTYPE=image/jpeg:https://test.bauverein-ruestringen.de/wp-content/uploads/2021/09/Thai_Chi.jpg
END:VEVENT
BEGIN:VEVENT
DTSTART;TZID=Europe/Berlin:20310214T170000
DTEND;TZID=Europe/Berlin:20310214T190000
DTSTAMP:20260422T113841
CREATED:20240703T091914Z
LAST-MODIFIED:20250224T210331Z
UID:10013981-1928854800-1928862000@test.bauverein-ruestringen.de
SUMMARY:Haste Töne
DESCRIPTION:Jeder\, der Spaß am Musizieren oder Singen hat ist willkommen.
URL:https://test.bauverein-ruestringen.de/event/mal-anders-2-2/2031-02-14/
LOCATION:freiraum\, Störtebekerstraße 3 \, 26386 Wilhelmshaven\, Germany
CATEGORIES:freiraum
ATTACH;FMTTYPE=image/jpeg:https://test.bauverein-ruestringen.de/wp-content/uploads/2024/07/musik.jpg
END:VEVENT
BEGIN:VEVENT
DTSTART;TZID=Europe/Berlin:20310217T093000
DTEND;TZID=Europe/Berlin:20310217T103000
DTSTAMP:20260422T113841
CREATED:20210223T133852Z
LAST-MODIFIED:20250224T205813Z
UID:10014016-1929087000-1929090600@test.bauverein-ruestringen.de
SUMMARY:Yoga im Sitzen
DESCRIPTION:Beim Yoga auf dem Stuhl werden Beweglichkeit und Kraft besonders sanft geschult. Für alle Altersgruppen geeignet.
URL:https://test.bauverein-ruestringen.de/event/yoga-am-abend/2031-02-17/
LOCATION:Treff – Auf Siebethsburg\, Störtebekerstraße 14c\, 26386 Wilhelmshaven\, Deutschland
CATEGORIES:Treff – Auf Siebethsburg
ATTACH;FMTTYPE=image/jpeg:https://test.bauverein-ruestringen.de/wp-content/uploads/2022/11/yoga2-1.jpg
END:VEVENT
BEGIN:VEVENT
DTSTART;TZID=Europe/Berlin:20310217T140000
DTEND;TZID=Europe/Berlin:20310217T170000
DTSTAMP:20260422T113841
CREATED:20210423T092454Z
LAST-MODIFIED:20250224T210539Z
UID:10014041-1929103200-1929114000@test.bauverein-ruestringen.de
SUMMARY:Nähstübchen
DESCRIPTION:Nähen ein einsames Hobby? Das muss nicht sein! Im Näh-Café finden Sie Gleichgesinnte. Tauschen Sie sich aus und bekommen Sie beim gemeinsamen Nähen in kreativer Atmosphäre neue Ideen.
URL:https://test.bauverein-ruestringen.de/event/naeh-cafe/2031-02-17/
LOCATION:Treff – Auf Siebethsburg\, Störtebekerstraße 14c\, 26386 Wilhelmshaven\, Deutschland
CATEGORIES:Treff – Auf Siebethsburg
ATTACH;FMTTYPE=image/jpeg:https://test.bauverein-ruestringen.de/wp-content/uploads/2021/04/Naeh_Cafe_Bauverein_Ruestringen.jpg
END:VEVENT
BEGIN:VEVENT
DTSTART;TZID=Europe/Berlin:20310218T100000
DTEND;TZID=Europe/Berlin:20310218T110000
DTSTAMP:20260422T113841
CREATED:20210901T132110Z
LAST-MODIFIED:20250224T165741Z
UID:10014066-1929175200-1929178800@test.bauverein-ruestringen.de
SUMMARY:Tai Chi
DESCRIPTION:Tai Chi\, das ist:\nSich spüren\, bewegen – langsam und bewusst. Dem Fluss des Atems folgen und die Kräfte des Lebens stärken. Entspannung für Geist und Körper. \nEs heißt\, wer Tai Chi übt\, wird gesund und stark wie ein Holzfäller\, so geschmeidig wie ein Kind und gelassen wie ein Weiser.
URL:https://test.bauverein-ruestringen.de/event/thai-chi-2/2031-02-18/
LOCATION:Treff – Auf Siebethsburg\, Störtebekerstraße 14c\, 26386 Wilhelmshaven\, Deutschland
CATEGORIES:Treff – Auf Siebethsburg
ATTACH;FMTTYPE=image/jpeg:https://test.bauverein-ruestringen.de/wp-content/uploads/2021/09/Thai_Chi.jpg
END:VEVENT
BEGIN:VEVENT
DTSTART;TZID=Europe/Berlin:20310219T100000
DTEND;TZID=Europe/Berlin:20310219T110000
DTSTAMP:20260422T113841
CREATED:20210223T125330Z
LAST-MODIFIED:20250224T200820Z
UID:10014098-1929261600-1929265200@test.bauverein-ruestringen.de
SUMMARY:Frühstück zur Marktzeit
DESCRIPTION:Kaffee\, Klönen\, Kontakte knüpfen. Frühstücken Sie in netter Runde gemeinsam mit anderen. Bitte melden Sie sich vorher an.
URL:https://test.bauverein-ruestringen.de/event/fruehstueck-zur-marktzeit/2031-02-19/
LOCATION:Treff – Auf Siebethsburg\, Störtebekerstraße 14c\, 26386 Wilhelmshaven\, Deutschland
CATEGORIES:Treff – Auf Siebethsburg
ATTACH;FMTTYPE=image/jpeg:https://test.bauverein-ruestringen.de/wp-content/uploads/2022/11/Fruehstueck.jpg
END:VEVENT
BEGIN:VEVENT
DTSTART;TZID=Europe/Berlin:20310219T183000
DTEND;TZID=Europe/Berlin:20310219T200000
DTSTAMP:20260422T113841
CREATED:20210223T133934Z
LAST-MODIFIED:20250224T200926Z
UID:10013858-1929292200-1929297600@test.bauverein-ruestringen.de
SUMMARY:Yoga am Abend
DESCRIPTION:Den Tag hinter sich lassen\, sich dehnen\, strecken\, den Körper spüren\, kräftigen\, atmen. Entdecken Sie die Wohltaten des Yoga! Für Menschen von 25-65 Jahren.
URL:https://test.bauverein-ruestringen.de/event/yoga-am-abend-5/2031-02-19/
LOCATION:Treff – Auf Siebethsburg\, Störtebekerstraße 14c\, 26386 Wilhelmshaven\, Deutschland
CATEGORIES:Treff – Auf Siebethsburg
ATTACH;FMTTYPE=image/jpeg:https://test.bauverein-ruestringen.de/wp-content/uploads/2022/11/yoga1.jpg
END:VEVENT
BEGIN:VEVENT
DTSTART;TZID=Europe/Berlin:20310219T190000
DTEND;TZID=Europe/Berlin:20310219T210000
DTSTAMP:20260422T113841
CREATED:20221129T155839Z
LAST-MODIFIED:20250224T200953Z
UID:10013884-1929294000-1929301200@test.bauverein-ruestringen.de
SUMMARY:WLAN-Cafè
DESCRIPTION:Für Menschen ab 16 Jahren. In entspannter Atmosphäre erhalten Sie Unterstützung rund um Smartphone\, Tablet und Laptop.
URL:https://test.bauverein-ruestringen.de/event/wlan-cafe/2031-02-19/
LOCATION:freiraum\, Störtebekerstraße 3 \, 26386 Wilhelmshaven\, Germany
CATEGORIES:freiraum
ATTACH;FMTTYPE=image/jpeg:https://test.bauverein-ruestringen.de/wp-content/uploads/2022/11/wlancafe.jpg
END:VEVENT
BEGIN:VEVENT
DTSTART;TZID=Europe/Berlin:20310220T110000
DTEND;TZID=Europe/Berlin:20310220T120000
DTSTAMP:20260422T113841
CREATED:20210421T093201Z
LAST-MODIFIED:20250224T102240Z
UID:10013910-1929351600-1929355200@test.bauverein-ruestringen.de
SUMMARY:Digital-Kompass
DESCRIPTION:Unser Angebot für alle Senioren und Seniorinnen. Der Umgang mit Internet\, Smartphone\, Laptop und Tablet wird entspannt erklärt und geübt.
URL:https://test.bauverein-ruestringen.de/event/digital-kompass-3/2031-02-20/
LOCATION:freiraum\, Störtebekerstraße 3 \, 26386 Wilhelmshaven\, Germany
CATEGORIES:freiraum,Seniorenangebote,Treff – Auf Siebethsburg
ATTACH;FMTTYPE=image/jpeg:https://test.bauverein-ruestringen.de/wp-content/uploads/2021/04/Digital-Kompass_Bauverein_Ruestringen.jpg
END:VEVENT
BEGIN:VEVENT
DTSTART;TZID=Europe/Berlin:20310220T150000
DTEND;TZID=Europe/Berlin:20310220T160000
DTSTAMP:20260422T113841
CREATED:20210223T125813Z
LAST-MODIFIED:20221128T090233Z
UID:10013935-1929366000-1929369600@test.bauverein-ruestringen.de
SUMMARY:Senioren­sport (AWO)
DESCRIPTION:Beweglich bleiben\, auch im Alter! Der sportliche Treff für alle ab 60.
URL:https://test.bauverein-ruestringen.de/event/seniorensport/2031-02-20/
LOCATION:Treff – Auf Siebethsburg\, Störtebekerstraße 14c\, 26386 Wilhelmshaven\, Deutschland
CATEGORIES:Seniorenangebote,Treff – Auf Siebethsburg
ATTACH;FMTTYPE=image/jpeg:https://test.bauverein-ruestringen.de/wp-content/uploads/2021/02/Seniorensport_Bauverein_Ruestringen.jpg
END:VEVENT
BEGIN:VEVENT
DTSTART;TZID=Europe/Berlin:20310220T170000
DTEND;TZID=Europe/Berlin:20310220T190000
DTSTAMP:20260422T113841
CREATED:20250220T110339Z
LAST-MODIFIED:20250224T210353Z
UID:10013945-1929373200-1929380400@test.bauverein-ruestringen.de
SUMMARY:Lesekreis
DESCRIPTION:Lesebegeisterte Menschen jeden Alters teilen das Interesse für Bücher und tauschen sich aus.
URL:https://test.bauverein-ruestringen.de/event/gedaechtnistraining-2/2031-02-20/
LOCATION:freiraum\, Störtebekerstraße 3 \, 26386 Wilhelmshaven\, Germany
CATEGORIES:freiraum,Seniorenangebote,Treff – Auf Siebethsburg
ATTACH;FMTTYPE=image/jpeg:https://test.bauverein-ruestringen.de/wp-content/uploads/2024/07/lesekreis.jpg
END:VEVENT
BEGIN:VEVENT
DTSTART;TZID=Europe/Berlin:20310221T100000
DTEND;TZID=Europe/Berlin:20310221T110000
DTSTAMP:20260422T113841
CREATED:20250220T110357Z
LAST-MODIFIED:20250224T212153Z
UID:10013966-1929434400-1929438000@test.bauverein-ruestringen.de
SUMMARY:Tai Chi
DESCRIPTION:Tai Chi\, das ist:\nSich spüren\, bewegen – langsam und bewusst. Dem Fluss des Atems folgen und die Kräfte des Lebens stärken. Entspannung für Geist und Körper. \nEs heißt\, wer Tai Chi übt\, wird gesund und stark wie ein Holzfäller\, so geschmeidig wie ein Kind und gelassen wie ein Weiser.
URL:https://test.bauverein-ruestringen.de/event/thai-chi/2031-02-21/
LOCATION:Treff – Auf Siebethsburg\, Störtebekerstraße 14c\, 26386 Wilhelmshaven\, Deutschland
CATEGORIES:Treff – Auf Siebethsburg
ATTACH;FMTTYPE=image/jpeg:https://test.bauverein-ruestringen.de/wp-content/uploads/2021/09/Thai_Chi.jpg
END:VEVENT
END:VCALENDAR