BEGIN:VCALENDAR
VERSION:2.0
PRODID:-//Bauverein Rüstringen - ECPv6.15.11//NONSGML v1.0//EN
CALSCALE:GREGORIAN
METHOD:PUBLISH
X-ORIGINAL-URL:https://test.bauverein-ruestringen.de
X-WR-CALDESC:Veranstaltungen für Bauverein Rüstringen
REFRESH-INTERVAL;VALUE=DURATION:PT1H
X-Robots-Tag:noindex
X-PUBLISHED-TTL:PT1H
BEGIN:VTIMEZONE
TZID:Europe/Berlin
BEGIN:DAYLIGHT
TZOFFSETFROM:+0100
TZOFFSETTO:+0200
TZNAME:CEST
DTSTART:20260329T010000
END:DAYLIGHT
BEGIN:STANDARD
TZOFFSETFROM:+0200
TZOFFSETTO:+0100
TZNAME:CET
DTSTART:20261025T010000
END:STANDARD
BEGIN:DAYLIGHT
TZOFFSETFROM:+0100
TZOFFSETTO:+0200
TZNAME:CEST
DTSTART:20270328T010000
END:DAYLIGHT
BEGIN:STANDARD
TZOFFSETFROM:+0200
TZOFFSETTO:+0100
TZNAME:CET
DTSTART:20271031T010000
END:STANDARD
BEGIN:DAYLIGHT
TZOFFSETFROM:+0100
TZOFFSETTO:+0200
TZNAME:CEST
DTSTART:20280326T010000
END:DAYLIGHT
BEGIN:STANDARD
TZOFFSETFROM:+0200
TZOFFSETTO:+0100
TZNAME:CET
DTSTART:20281029T010000
END:STANDARD
END:VTIMEZONE
BEGIN:VEVENT
DTSTART;TZID=Europe/Berlin:20270506T143000
DTEND;TZID=Europe/Berlin:20270506T153000
DTSTAMP:20260424T123558
CREATED:20210223T121557Z
LAST-MODIFIED:20250224T202459Z
UID:10011024-1809613800-1809617400@test.bauverein-ruestringen.de
SUMMARY:Lesekreis
DESCRIPTION:Lesebegeisterte Menschen jeden Alters teilen das Interesse für Bücher und tauschen sich aus.
URL:https://test.bauverein-ruestringen.de/event/gedaechtnistraining-2-2/2027-05-06/
LOCATION:freiraum\, Störtebekerstraße 3 \, 26386 Wilhelmshaven\, Deutschland
CATEGORIES:freiraum,Seniorenangebote,Treff – Auf Siebethsburg
ATTACH;FMTTYPE=image/jpeg:https://test.bauverein-ruestringen.de/wp-content/uploads/2024/07/lesekreis.jpg
END:VEVENT
BEGIN:VEVENT
DTSTART;TZID=Europe/Berlin:20270506T150000
DTEND;TZID=Europe/Berlin:20270506T160000
DTSTAMP:20260424T123558
CREATED:20210223T125813Z
LAST-MODIFIED:20221128T090233Z
UID:10012386-1809615600-1809619200@test.bauverein-ruestringen.de
SUMMARY:Senioren­sport (AWO)
DESCRIPTION:Beweglich bleiben\, auch im Alter! Der sportliche Treff für alle ab 60.
URL:https://test.bauverein-ruestringen.de/event/seniorensport/2027-05-06/
LOCATION:Treff – Auf Siebethsburg\, Störtebekerstraße 14c\, 26386 Wilhelmshaven\, Deutschland
CATEGORIES:Seniorenangebote,Treff – Auf Siebethsburg
ATTACH;FMTTYPE=image/jpeg:https://test.bauverein-ruestringen.de/wp-content/uploads/2021/02/Seniorensport_Bauverein_Ruestringen.jpg
END:VEVENT
BEGIN:VEVENT
DTSTART;TZID=Europe/Berlin:20270507T100000
DTEND;TZID=Europe/Berlin:20270507T110000
DTSTAMP:20260424T123558
CREATED:20250220T110357Z
LAST-MODIFIED:20250224T212153Z
UID:10012071-1809684000-1809687600@test.bauverein-ruestringen.de
SUMMARY:Tai Chi
DESCRIPTION:Tai Chi\, das ist:\nSich spüren\, bewegen – langsam und bewusst. Dem Fluss des Atems folgen und die Kräfte des Lebens stärken. Entspannung für Geist und Körper. \nEs heißt\, wer Tai Chi übt\, wird gesund und stark wie ein Holzfäller\, so geschmeidig wie ein Kind und gelassen wie ein Weiser.
URL:https://test.bauverein-ruestringen.de/event/thai-chi/2027-05-07/
LOCATION:Treff – Auf Siebethsburg\, Störtebekerstraße 14c\, 26386 Wilhelmshaven\, Deutschland
CATEGORIES:Treff – Auf Siebethsburg
ATTACH;FMTTYPE=image/jpeg:https://test.bauverein-ruestringen.de/wp-content/uploads/2021/09/Thai_Chi.jpg
END:VEVENT
BEGIN:VEVENT
DTSTART;TZID=Europe/Berlin:20270507T140000
DTEND;TZID=Europe/Berlin:20270507T163000
DTSTAMP:20260424T123558
CREATED:20210422T164755Z
LAST-MODIFIED:20250224T202425Z
UID:10013450-1809698400-1809707400@test.bauverein-ruestringen.de
SUMMARY:Bingo
DESCRIPTION:Aufmerksamkeit ist gefragt: Bingo ist ein heiteres\, geselliges Spiel für alle Altersgruppen. Termine auf Anfrage. \n 
URL:https://test.bauverein-ruestringen.de/event/bingo-2/2027-05-07/
LOCATION:freiraum\, Störtebekerstraße 3 \, 26386 Wilhelmshaven\, Deutschland
CATEGORIES:freiraum
ATTACH;FMTTYPE=image/jpeg:https://test.bauverein-ruestringen.de/wp-content/uploads/2021/04/Bingo_Bauverein_Ruestringen.jpg
END:VEVENT
BEGIN:VEVENT
DTSTART;TZID=Europe/Berlin:20270510T093000
DTEND;TZID=Europe/Berlin:20270510T104500
DTSTAMP:20260424T123558
CREATED:20210223T133852Z
LAST-MODIFIED:20260424T100626Z
UID:10013546-1809941400-1809945900@test.bauverein-ruestringen.de
SUMMARY:Yoga im Sitzen
DESCRIPTION:Beim Yoga auf dem Stuhl werden Beweglichkeit und Kraft besonders sanft geschult. Für alle Altersgruppen geeignet.
URL:https://test.bauverein-ruestringen.de/event/yoga-am-abend/2027-05-10/
LOCATION:Treff – Auf Siebethsburg\, Störtebekerstraße 14c\, 26386 Wilhelmshaven\, Deutschland
CATEGORIES:Treff – Auf Siebethsburg
ATTACH;FMTTYPE=image/jpeg:https://test.bauverein-ruestringen.de/wp-content/uploads/2022/11/yoga2-1.jpg
END:VEVENT
BEGIN:VEVENT
DTSTART;TZID=Europe/Berlin:20270510T140000
DTEND;TZID=Europe/Berlin:20270510T160000
DTSTAMP:20260424T123558
CREATED:20210423T092454Z
LAST-MODIFIED:20260424T093428Z
UID:10011679-1809957600-1809964800@test.bauverein-ruestringen.de
SUMMARY:Nähstübchen
DESCRIPTION:Nähen ein einsames Hobby? Das muss nicht sein! Im Näh-Café finden Sie Gleichgesinnte. Tauschen Sie sich aus und bekommen Sie beim gemeinsamen Nähen in kreativer Atmosphäre neue Ideen.
URL:https://test.bauverein-ruestringen.de/event/naeh-cafe/2027-05-10/
LOCATION:Treff – Auf Siebethsburg\, Störtebekerstraße 14c\, 26386 Wilhelmshaven\, Deutschland
CATEGORIES:Treff – Auf Siebethsburg
ATTACH;FMTTYPE=image/jpeg:https://test.bauverein-ruestringen.de/wp-content/uploads/2021/04/Naeh_Cafe_Bauverein_Ruestringen.jpg
END:VEVENT
BEGIN:VEVENT
DTSTART;TZID=Europe/Berlin:20270511T100000
DTEND;TZID=Europe/Berlin:20270511T110000
DTSTAMP:20260424T123558
CREATED:20210901T132110Z
LAST-MODIFIED:20250224T165741Z
UID:10009939-1810029600-1810033200@test.bauverein-ruestringen.de
SUMMARY:Tai Chi
DESCRIPTION:Tai Chi\, das ist:\nSich spüren\, bewegen – langsam und bewusst. Dem Fluss des Atems folgen und die Kräfte des Lebens stärken. Entspannung für Geist und Körper. \nEs heißt\, wer Tai Chi übt\, wird gesund und stark wie ein Holzfäller\, so geschmeidig wie ein Kind und gelassen wie ein Weiser.
URL:https://test.bauverein-ruestringen.de/event/thai-chi-2/2027-05-11/
LOCATION:Treff – Auf Siebethsburg\, Störtebekerstraße 14c\, 26386 Wilhelmshaven\, Deutschland
CATEGORIES:Treff – Auf Siebethsburg
ATTACH;FMTTYPE=image/jpeg:https://test.bauverein-ruestringen.de/wp-content/uploads/2021/09/Thai_Chi.jpg
END:VEVENT
BEGIN:VEVENT
DTSTART;TZID=Europe/Berlin:20270511T143000
DTEND;TZID=Europe/Berlin:20270511T163000
DTSTAMP:20260424T123558
CREATED:20210423T091629Z
LAST-MODIFIED:20240702T101013Z
UID:10012990-1810045800-1810053000@test.bauverein-ruestringen.de
SUMMARY:Erzählcafè
DESCRIPTION:Gesellige nachbarschaftliche Begegnungen und Informationen zu unterschiedlichen\, aktuellen Themen.
URL:https://test.bauverein-ruestringen.de/event/erzaehlcafe/2027-05-11/
LOCATION:Treff – Auf Siebethsburg\, Störtebekerstraße 14c\, 26386 Wilhelmshaven\, Deutschland
CATEGORIES:Seniorenangebote,Treff – Auf Siebethsburg
ATTACH;FMTTYPE=image/jpeg:https://test.bauverein-ruestringen.de/wp-content/uploads/2022/11/Erzaehlcafe.jpg
END:VEVENT
BEGIN:VEVENT
DTSTART;TZID=Europe/Berlin:20270512T100000
DTEND;TZID=Europe/Berlin:20270512T110000
DTSTAMP:20260424T123558
CREATED:20210223T125330Z
LAST-MODIFIED:20250224T200820Z
UID:10010289-1810116000-1810119600@test.bauverein-ruestringen.de
SUMMARY:Frühstück zur Marktzeit
DESCRIPTION:Kaffee\, Klönen\, Kontakte knüpfen. Frühstücken Sie in netter Runde gemeinsam mit anderen. Bitte melden Sie sich vorher an.
URL:https://test.bauverein-ruestringen.de/event/fruehstueck-zur-marktzeit/2027-05-12/
LOCATION:Treff – Auf Siebethsburg\, Störtebekerstraße 14c\, 26386 Wilhelmshaven\, Deutschland
CATEGORIES:Treff – Auf Siebethsburg
ATTACH;FMTTYPE=image/jpeg:https://test.bauverein-ruestringen.de/wp-content/uploads/2022/11/Fruehstueck.jpg
END:VEVENT
BEGIN:VEVENT
DTSTART;TZID=Europe/Berlin:20270512T183000
DTEND;TZID=Europe/Berlin:20270512T200000
DTSTAMP:20260424T123558
CREATED:20210223T133934Z
LAST-MODIFIED:20250224T200926Z
UID:10010446-1810146600-1810152000@test.bauverein-ruestringen.de
SUMMARY:Yoga am Abend
DESCRIPTION:Den Tag hinter sich lassen\, sich dehnen\, strecken\, den Körper spüren\, kräftigen\, atmen. Entdecken Sie die Wohltaten des Yoga! Für Menschen von 25-65 Jahren.
URL:https://test.bauverein-ruestringen.de/event/yoga-am-abend-5/2027-05-12/
LOCATION:Treff – Auf Siebethsburg\, Störtebekerstraße 14c\, 26386 Wilhelmshaven\, Deutschland
CATEGORIES:Treff – Auf Siebethsburg
ATTACH;FMTTYPE=image/jpeg:https://test.bauverein-ruestringen.de/wp-content/uploads/2022/11/yoga1.jpg
END:VEVENT
BEGIN:VEVENT
DTSTART;TZID=Europe/Berlin:20270512T190000
DTEND;TZID=Europe/Berlin:20270512T210000
DTSTAMP:20260424T123558
CREATED:20221129T155839Z
LAST-MODIFIED:20250224T200953Z
UID:10010603-1810148400-1810155600@test.bauverein-ruestringen.de
SUMMARY:WLAN-Cafè
DESCRIPTION:Für Menschen ab 16 Jahren. In entspannter Atmosphäre erhalten Sie Unterstützung rund um Smartphone\, Tablet und Laptop.
URL:https://test.bauverein-ruestringen.de/event/wlan-cafe/2027-05-12/
LOCATION:freiraum\, Störtebekerstraße 3 \, 26386 Wilhelmshaven\, Deutschland
CATEGORIES:freiraum
ATTACH;FMTTYPE=image/jpeg:https://test.bauverein-ruestringen.de/wp-content/uploads/2022/11/wlancafe.jpg
END:VEVENT
BEGIN:VEVENT
DTSTART;TZID=Europe/Berlin:20270513T100000
DTEND;TZID=Europe/Berlin:20270513T113000
DTSTAMP:20260424T123558
CREATED:20210421T093201Z
LAST-MODIFIED:20260424T094602Z
UID:10014254-1810202400-1810207800@test.bauverein-ruestringen.de
SUMMARY:Digital-Kompass
DESCRIPTION:Unser Angebot für alle Senioren und Seniorinnen. Der Umgang mit Internet\, Smartphone\, Laptop und Tablet wird entspannt erklärt und geübt.
URL:https://test.bauverein-ruestringen.de/event/digital-kompass-3/2027-05-13/
LOCATION:freiraum\, Störtebekerstraße 3 \, 26386 Wilhelmshaven\, Deutschland
CATEGORIES:freiraum,Seniorenangebote
ATTACH;FMTTYPE=image/jpeg:https://test.bauverein-ruestringen.de/wp-content/uploads/2021/04/Digital-Kompass_Bauverein_Ruestringen.jpg
END:VEVENT
BEGIN:VEVENT
DTSTART;TZID=Europe/Berlin:20270513T150000
DTEND;TZID=Europe/Berlin:20270513T160000
DTSTAMP:20260424T123558
CREATED:20210223T125813Z
LAST-MODIFIED:20221128T090233Z
UID:10012387-1810220400-1810224000@test.bauverein-ruestringen.de
SUMMARY:Senioren­sport (AWO)
DESCRIPTION:Beweglich bleiben\, auch im Alter! Der sportliche Treff für alle ab 60.
URL:https://test.bauverein-ruestringen.de/event/seniorensport/2027-05-13/
LOCATION:Treff – Auf Siebethsburg\, Störtebekerstraße 14c\, 26386 Wilhelmshaven\, Deutschland
CATEGORIES:Seniorenangebote,Treff – Auf Siebethsburg
ATTACH;FMTTYPE=image/jpeg:https://test.bauverein-ruestringen.de/wp-content/uploads/2021/02/Seniorensport_Bauverein_Ruestringen.jpg
END:VEVENT
BEGIN:VEVENT
DTSTART;TZID=Europe/Berlin:20270513T183000
DTEND;TZID=Europe/Berlin:20270513T210000
DTSTAMP:20260424T123558
CREATED:20230630T091532Z
LAST-MODIFIED:20260424T093101Z
UID:10011327-1810233000-1810242000@test.bauverein-ruestringen.de
SUMMARY:Fotografieren auf Siebethsburg
DESCRIPTION:Offener Austausch für Interessierte\, die Spaß am Fotografieren haben.
URL:https://test.bauverein-ruestringen.de/event/fotografieren-auf-siebethsburg/2027-05-13/
LOCATION:freiraum\, Störtebekerstraße 3 \, 26386 Wilhelmshaven\, Deutschland
ATTACH;FMTTYPE=image/jpeg:https://test.bauverein-ruestringen.de/wp-content/uploads/2023/06/Fotografieren.jpg
END:VEVENT
BEGIN:VEVENT
DTSTART;TZID=Europe/Berlin:20270514T100000
DTEND;TZID=Europe/Berlin:20270514T110000
DTSTAMP:20260424T123558
CREATED:20250220T110357Z
LAST-MODIFIED:20250224T212153Z
UID:10012072-1810288800-1810292400@test.bauverein-ruestringen.de
SUMMARY:Tai Chi
DESCRIPTION:Tai Chi\, das ist:\nSich spüren\, bewegen – langsam und bewusst. Dem Fluss des Atems folgen und die Kräfte des Lebens stärken. Entspannung für Geist und Körper. \nEs heißt\, wer Tai Chi übt\, wird gesund und stark wie ein Holzfäller\, so geschmeidig wie ein Kind und gelassen wie ein Weiser.
URL:https://test.bauverein-ruestringen.de/event/thai-chi/2027-05-14/
LOCATION:Treff – Auf Siebethsburg\, Störtebekerstraße 14c\, 26386 Wilhelmshaven\, Deutschland
CATEGORIES:Treff – Auf Siebethsburg
ATTACH;FMTTYPE=image/jpeg:https://test.bauverein-ruestringen.de/wp-content/uploads/2021/09/Thai_Chi.jpg
END:VEVENT
BEGIN:VEVENT
DTSTART;TZID=Europe/Berlin:20270514T170000
DTEND;TZID=Europe/Berlin:20270514T190000
DTSTAMP:20260424T123558
CREATED:20240703T091914Z
LAST-MODIFIED:20250224T210331Z
UID:10013074-1810314000-1810321200@test.bauverein-ruestringen.de
SUMMARY:Haste Töne
DESCRIPTION:Jeder\, der Spaß am Musizieren oder Singen hat ist willkommen.
URL:https://test.bauverein-ruestringen.de/event/mal-anders-2-2/2027-05-14/
LOCATION:freiraum\, Störtebekerstraße 3 \, 26386 Wilhelmshaven\, Deutschland
CATEGORIES:freiraum
ATTACH;FMTTYPE=image/jpeg:https://test.bauverein-ruestringen.de/wp-content/uploads/2024/07/musik.jpg
END:VEVENT
BEGIN:VEVENT
DTSTART;TZID=Europe/Berlin:20270517T093000
DTEND;TZID=Europe/Berlin:20270517T104500
DTSTAMP:20260424T123558
CREATED:20210223T133852Z
LAST-MODIFIED:20260424T100626Z
UID:10013547-1810546200-1810550700@test.bauverein-ruestringen.de
SUMMARY:Yoga im Sitzen
DESCRIPTION:Beim Yoga auf dem Stuhl werden Beweglichkeit und Kraft besonders sanft geschult. Für alle Altersgruppen geeignet.
URL:https://test.bauverein-ruestringen.de/event/yoga-am-abend/2027-05-17/
LOCATION:Treff – Auf Siebethsburg\, Störtebekerstraße 14c\, 26386 Wilhelmshaven\, Deutschland
CATEGORIES:Treff – Auf Siebethsburg
ATTACH;FMTTYPE=image/jpeg:https://test.bauverein-ruestringen.de/wp-content/uploads/2022/11/yoga2-1.jpg
END:VEVENT
BEGIN:VEVENT
DTSTART;TZID=Europe/Berlin:20270517T140000
DTEND;TZID=Europe/Berlin:20270517T160000
DTSTAMP:20260424T123558
CREATED:20210423T092454Z
LAST-MODIFIED:20260424T093428Z
UID:10011680-1810562400-1810569600@test.bauverein-ruestringen.de
SUMMARY:Nähstübchen
DESCRIPTION:Nähen ein einsames Hobby? Das muss nicht sein! Im Näh-Café finden Sie Gleichgesinnte. Tauschen Sie sich aus und bekommen Sie beim gemeinsamen Nähen in kreativer Atmosphäre neue Ideen.
URL:https://test.bauverein-ruestringen.de/event/naeh-cafe/2027-05-17/
LOCATION:Treff – Auf Siebethsburg\, Störtebekerstraße 14c\, 26386 Wilhelmshaven\, Deutschland
CATEGORIES:Treff – Auf Siebethsburg
ATTACH;FMTTYPE=image/jpeg:https://test.bauverein-ruestringen.de/wp-content/uploads/2021/04/Naeh_Cafe_Bauverein_Ruestringen.jpg
END:VEVENT
BEGIN:VEVENT
DTSTART;TZID=Europe/Berlin:20270518T100000
DTEND;TZID=Europe/Berlin:20270518T110000
DTSTAMP:20260424T123558
CREATED:20210901T132110Z
LAST-MODIFIED:20250224T165741Z
UID:10009940-1810634400-1810638000@test.bauverein-ruestringen.de
SUMMARY:Tai Chi
DESCRIPTION:Tai Chi\, das ist:\nSich spüren\, bewegen – langsam und bewusst. Dem Fluss des Atems folgen und die Kräfte des Lebens stärken. Entspannung für Geist und Körper. \nEs heißt\, wer Tai Chi übt\, wird gesund und stark wie ein Holzfäller\, so geschmeidig wie ein Kind und gelassen wie ein Weiser.
URL:https://test.bauverein-ruestringen.de/event/thai-chi-2/2027-05-18/
LOCATION:Treff – Auf Siebethsburg\, Störtebekerstraße 14c\, 26386 Wilhelmshaven\, Deutschland
CATEGORIES:Treff – Auf Siebethsburg
ATTACH;FMTTYPE=image/jpeg:https://test.bauverein-ruestringen.de/wp-content/uploads/2021/09/Thai_Chi.jpg
END:VEVENT
BEGIN:VEVENT
DTSTART;TZID=Europe/Berlin:20270518T103000
DTEND;TZID=Europe/Berlin:20270518T140000
DTSTAMP:20260424T123558
CREATED:20221129T124759Z
LAST-MODIFIED:20260424T093009Z
UID:10011060-1810636200-1810648800@test.bauverein-ruestringen.de
SUMMARY:Kochgruppe "Männer unter Dampf"
DESCRIPTION:Mit Spaß und Neugier steht das „starke Geschlecht“ unter Anleitung am Herd\, gemeinsam wird gekocht und gegessen.
URL:https://test.bauverein-ruestringen.de/event/kochkurs-maenner-unter-dampf/2027-05-18/
LOCATION:Treff – Auf Siebethsburg\, Störtebekerstraße 14c\, 26386 Wilhelmshaven\, Deutschland
CATEGORIES:Seniorenangebote,Treff – Auf Siebethsburg
ATTACH;FMTTYPE=image/jpeg:https://test.bauverein-ruestringen.de/wp-content/uploads/2022/11/kochkurs.jpg
END:VEVENT
BEGIN:VEVENT
DTSTART;TZID=Europe/Berlin:20270519T100000
DTEND;TZID=Europe/Berlin:20270519T110000
DTSTAMP:20260424T123558
CREATED:20210223T125330Z
LAST-MODIFIED:20250224T200820Z
UID:10010290-1810720800-1810724400@test.bauverein-ruestringen.de
SUMMARY:Frühstück zur Marktzeit
DESCRIPTION:Kaffee\, Klönen\, Kontakte knüpfen. Frühstücken Sie in netter Runde gemeinsam mit anderen. Bitte melden Sie sich vorher an.
URL:https://test.bauverein-ruestringen.de/event/fruehstueck-zur-marktzeit/2027-05-19/
LOCATION:Treff – Auf Siebethsburg\, Störtebekerstraße 14c\, 26386 Wilhelmshaven\, Deutschland
CATEGORIES:Treff – Auf Siebethsburg
ATTACH;FMTTYPE=image/jpeg:https://test.bauverein-ruestringen.de/wp-content/uploads/2022/11/Fruehstueck.jpg
END:VEVENT
BEGIN:VEVENT
DTSTART;TZID=Europe/Berlin:20270519T183000
DTEND;TZID=Europe/Berlin:20270519T200000
DTSTAMP:20260424T123558
CREATED:20210223T133934Z
LAST-MODIFIED:20250224T200926Z
UID:10010447-1810751400-1810756800@test.bauverein-ruestringen.de
SUMMARY:Yoga am Abend
DESCRIPTION:Den Tag hinter sich lassen\, sich dehnen\, strecken\, den Körper spüren\, kräftigen\, atmen. Entdecken Sie die Wohltaten des Yoga! Für Menschen von 25-65 Jahren.
URL:https://test.bauverein-ruestringen.de/event/yoga-am-abend-5/2027-05-19/
LOCATION:Treff – Auf Siebethsburg\, Störtebekerstraße 14c\, 26386 Wilhelmshaven\, Deutschland
CATEGORIES:Treff – Auf Siebethsburg
ATTACH;FMTTYPE=image/jpeg:https://test.bauverein-ruestringen.de/wp-content/uploads/2022/11/yoga1.jpg
END:VEVENT
BEGIN:VEVENT
DTSTART;TZID=Europe/Berlin:20270519T190000
DTEND;TZID=Europe/Berlin:20270519T210000
DTSTAMP:20260424T123558
CREATED:20221129T155839Z
LAST-MODIFIED:20250224T200953Z
UID:10010604-1810753200-1810760400@test.bauverein-ruestringen.de
SUMMARY:WLAN-Cafè
DESCRIPTION:Für Menschen ab 16 Jahren. In entspannter Atmosphäre erhalten Sie Unterstützung rund um Smartphone\, Tablet und Laptop.
URL:https://test.bauverein-ruestringen.de/event/wlan-cafe/2027-05-19/
LOCATION:freiraum\, Störtebekerstraße 3 \, 26386 Wilhelmshaven\, Deutschland
CATEGORIES:freiraum
ATTACH;FMTTYPE=image/jpeg:https://test.bauverein-ruestringen.de/wp-content/uploads/2022/11/wlancafe.jpg
END:VEVENT
BEGIN:VEVENT
DTSTART;TZID=Europe/Berlin:20270520T100000
DTEND;TZID=Europe/Berlin:20270520T113000
DTSTAMP:20260424T123558
CREATED:20210421T093201Z
LAST-MODIFIED:20260424T094602Z
UID:10014255-1810807200-1810812600@test.bauverein-ruestringen.de
SUMMARY:Digital-Kompass
DESCRIPTION:Unser Angebot für alle Senioren und Seniorinnen. Der Umgang mit Internet\, Smartphone\, Laptop und Tablet wird entspannt erklärt und geübt.
URL:https://test.bauverein-ruestringen.de/event/digital-kompass-3/2027-05-20/
LOCATION:freiraum\, Störtebekerstraße 3 \, 26386 Wilhelmshaven\, Deutschland
CATEGORIES:freiraum,Seniorenangebote
ATTACH;FMTTYPE=image/jpeg:https://test.bauverein-ruestringen.de/wp-content/uploads/2021/04/Digital-Kompass_Bauverein_Ruestringen.jpg
END:VEVENT
BEGIN:VEVENT
DTSTART;TZID=Europe/Berlin:20270520T150000
DTEND;TZID=Europe/Berlin:20270520T160000
DTSTAMP:20260424T123558
CREATED:20210223T125813Z
LAST-MODIFIED:20221128T090233Z
UID:10012388-1810825200-1810828800@test.bauverein-ruestringen.de
SUMMARY:Senioren­sport (AWO)
DESCRIPTION:Beweglich bleiben\, auch im Alter! Der sportliche Treff für alle ab 60.
URL:https://test.bauverein-ruestringen.de/event/seniorensport/2027-05-20/
LOCATION:Treff – Auf Siebethsburg\, Störtebekerstraße 14c\, 26386 Wilhelmshaven\, Deutschland
CATEGORIES:Seniorenangebote,Treff – Auf Siebethsburg
ATTACH;FMTTYPE=image/jpeg:https://test.bauverein-ruestringen.de/wp-content/uploads/2021/02/Seniorensport_Bauverein_Ruestringen.jpg
END:VEVENT
BEGIN:VEVENT
DTSTART;TZID=Europe/Berlin:20270520T170000
DTEND;TZID=Europe/Berlin:20270520T190000
DTSTAMP:20260424T123558
CREATED:20250220T110339Z
LAST-MODIFIED:20250224T210353Z
UID:10011441-1810832400-1810839600@test.bauverein-ruestringen.de
SUMMARY:Lesekreis
DESCRIPTION:Lesebegeisterte Menschen jeden Alters teilen das Interesse für Bücher und tauschen sich aus.
URL:https://test.bauverein-ruestringen.de/event/gedaechtnistraining-2/2027-05-20/
LOCATION:freiraum\, Störtebekerstraße 3 \, 26386 Wilhelmshaven\, Deutschland
CATEGORIES:freiraum,Seniorenangebote,Treff – Auf Siebethsburg
ATTACH;FMTTYPE=image/jpeg:https://test.bauverein-ruestringen.de/wp-content/uploads/2024/07/lesekreis.jpg
END:VEVENT
BEGIN:VEVENT
DTSTART;TZID=Europe/Berlin:20270521T100000
DTEND;TZID=Europe/Berlin:20270521T110000
DTSTAMP:20260424T123558
CREATED:20250220T110357Z
LAST-MODIFIED:20250224T212153Z
UID:10012073-1810893600-1810897200@test.bauverein-ruestringen.de
SUMMARY:Tai Chi
DESCRIPTION:Tai Chi\, das ist:\nSich spüren\, bewegen – langsam und bewusst. Dem Fluss des Atems folgen und die Kräfte des Lebens stärken. Entspannung für Geist und Körper. \nEs heißt\, wer Tai Chi übt\, wird gesund und stark wie ein Holzfäller\, so geschmeidig wie ein Kind und gelassen wie ein Weiser.
URL:https://test.bauverein-ruestringen.de/event/thai-chi/2027-05-21/
LOCATION:Treff – Auf Siebethsburg\, Störtebekerstraße 14c\, 26386 Wilhelmshaven\, Deutschland
CATEGORIES:Treff – Auf Siebethsburg
ATTACH;FMTTYPE=image/jpeg:https://test.bauverein-ruestringen.de/wp-content/uploads/2021/09/Thai_Chi.jpg
END:VEVENT
BEGIN:VEVENT
DTSTART;TZID=Europe/Berlin:20270521T140000
DTEND;TZID=Europe/Berlin:20270521T163000
DTSTAMP:20260424T123558
CREATED:20210422T164755Z
LAST-MODIFIED:20250224T202425Z
UID:10013451-1810908000-1810917000@test.bauverein-ruestringen.de
SUMMARY:Bingo
DESCRIPTION:Aufmerksamkeit ist gefragt: Bingo ist ein heiteres\, geselliges Spiel für alle Altersgruppen. Termine auf Anfrage. \n 
URL:https://test.bauverein-ruestringen.de/event/bingo-2/2027-05-21/
LOCATION:freiraum\, Störtebekerstraße 3 \, 26386 Wilhelmshaven\, Deutschland
CATEGORIES:freiraum
ATTACH;FMTTYPE=image/jpeg:https://test.bauverein-ruestringen.de/wp-content/uploads/2021/04/Bingo_Bauverein_Ruestringen.jpg
END:VEVENT
BEGIN:VEVENT
DTSTART;TZID=Europe/Berlin:20270524T093000
DTEND;TZID=Europe/Berlin:20270524T104500
DTSTAMP:20260424T123558
CREATED:20210223T133852Z
LAST-MODIFIED:20260424T100626Z
UID:10013548-1811151000-1811155500@test.bauverein-ruestringen.de
SUMMARY:Yoga im Sitzen
DESCRIPTION:Beim Yoga auf dem Stuhl werden Beweglichkeit und Kraft besonders sanft geschult. Für alle Altersgruppen geeignet.
URL:https://test.bauverein-ruestringen.de/event/yoga-am-abend/2027-05-24/
LOCATION:Treff – Auf Siebethsburg\, Störtebekerstraße 14c\, 26386 Wilhelmshaven\, Deutschland
CATEGORIES:Treff – Auf Siebethsburg
ATTACH;FMTTYPE=image/jpeg:https://test.bauverein-ruestringen.de/wp-content/uploads/2022/11/yoga2-1.jpg
END:VEVENT
BEGIN:VEVENT
DTSTART;TZID=Europe/Berlin:20270524T140000
DTEND;TZID=Europe/Berlin:20270524T160000
DTSTAMP:20260424T123558
CREATED:20210423T092454Z
LAST-MODIFIED:20260424T093428Z
UID:10011681-1811167200-1811174400@test.bauverein-ruestringen.de
SUMMARY:Nähstübchen
DESCRIPTION:Nähen ein einsames Hobby? Das muss nicht sein! Im Näh-Café finden Sie Gleichgesinnte. Tauschen Sie sich aus und bekommen Sie beim gemeinsamen Nähen in kreativer Atmosphäre neue Ideen.
URL:https://test.bauverein-ruestringen.de/event/naeh-cafe/2027-05-24/
LOCATION:Treff – Auf Siebethsburg\, Störtebekerstraße 14c\, 26386 Wilhelmshaven\, Deutschland
CATEGORIES:Treff – Auf Siebethsburg
ATTACH;FMTTYPE=image/jpeg:https://test.bauverein-ruestringen.de/wp-content/uploads/2021/04/Naeh_Cafe_Bauverein_Ruestringen.jpg
END:VEVENT
END:VCALENDAR