BEGIN:VCALENDAR
VERSION:2.0
PRODID:-//Bauverein Rüstringen - ECPv6.15.11//NONSGML v1.0//EN
CALSCALE:GREGORIAN
METHOD:PUBLISH
X-ORIGINAL-URL:https://test.bauverein-ruestringen.de
X-WR-CALDESC:Veranstaltungen für Bauverein Rüstringen
REFRESH-INTERVAL;VALUE=DURATION:PT1H
X-Robots-Tag:noindex
X-PUBLISHED-TTL:PT1H
BEGIN:VTIMEZONE
TZID:Europe/Berlin
BEGIN:DAYLIGHT
TZOFFSETFROM:+0100
TZOFFSETTO:+0200
TZNAME:CEST
DTSTART:20260329T010000
END:DAYLIGHT
BEGIN:STANDARD
TZOFFSETFROM:+0200
TZOFFSETTO:+0100
TZNAME:CET
DTSTART:20261025T010000
END:STANDARD
BEGIN:DAYLIGHT
TZOFFSETFROM:+0100
TZOFFSETTO:+0200
TZNAME:CEST
DTSTART:20270328T010000
END:DAYLIGHT
BEGIN:STANDARD
TZOFFSETFROM:+0200
TZOFFSETTO:+0100
TZNAME:CET
DTSTART:20271031T010000
END:STANDARD
BEGIN:DAYLIGHT
TZOFFSETFROM:+0100
TZOFFSETTO:+0200
TZNAME:CEST
DTSTART:20280326T010000
END:DAYLIGHT
BEGIN:STANDARD
TZOFFSETFROM:+0200
TZOFFSETTO:+0100
TZNAME:CET
DTSTART:20281029T010000
END:STANDARD
END:VTIMEZONE
BEGIN:VEVENT
DTSTART;TZID=Europe/Berlin:20270405T133000
DTEND;TZID=Europe/Berlin:20270405T163000
DTSTAMP:20260426T050109
CREATED:20260424T103906Z
LAST-MODIFIED:20260424T104227Z
UID:10015050-1806931800-1806942600@test.bauverein-ruestringen.de
SUMMARY:Spielenachmittag
DESCRIPTION:Wir spielen Karten-\, Brett- und Würfelspiele\, auch selbst mitgebrachte Spiele sind gern gesehen. Alle Altersgruppen sind willkommen.
URL:https://test.bauverein-ruestringen.de/event/spielenachmittag-2/2027-04-05/
LOCATION:Treff – Auf Siebethsburg\, Störtebekerstraße 14c\, 26386 Wilhelmshaven\, Deutschland
CATEGORIES:Treff – Auf Siebethsburg
ATTACH;FMTTYPE=image/jpeg:https://test.bauverein-ruestringen.de/wp-content/uploads/2026/04/Bauverein-Ruestringen-Spielabend.jpg
END:VEVENT
BEGIN:VEVENT
DTSTART;TZID=Europe/Berlin:20270405T140000
DTEND;TZID=Europe/Berlin:20270405T160000
DTSTAMP:20260426T050109
CREATED:20210423T092454Z
LAST-MODIFIED:20260424T093428Z
UID:10011674-1806933600-1806940800@test.bauverein-ruestringen.de
SUMMARY:Nähstübchen
DESCRIPTION:Nähen ein einsames Hobby? Das muss nicht sein! Im Näh-Café finden Sie Gleichgesinnte. Tauschen Sie sich aus und bekommen Sie beim gemeinsamen Nähen in kreativer Atmosphäre neue Ideen.
URL:https://test.bauverein-ruestringen.de/event/naeh-cafe/2027-04-05/
LOCATION:Treff – Auf Siebethsburg\, Störtebekerstraße 14c\, 26386 Wilhelmshaven\, Deutschland
CATEGORIES:Treff – Auf Siebethsburg
ATTACH;FMTTYPE=image/jpeg:https://test.bauverein-ruestringen.de/wp-content/uploads/2021/04/Naeh_Cafe_Bauverein_Ruestringen.jpg
END:VEVENT
BEGIN:VEVENT
DTSTART;TZID=Europe/Berlin:20270405T183000
DTEND;TZID=Europe/Berlin:20270405T203000
DTSTAMP:20260426T050109
CREATED:20260424T104036Z
LAST-MODIFIED:20260424T104036Z
UID:10014790-1806949800-1806957000@test.bauverein-ruestringen.de
SUMMARY:Frauen in Bewegung
DESCRIPTION:In der Gruppe macht Bewegung noch mehr Spaß! Willkommen sind Frauen jeder Altersstufe zu Gymnastik\, Stretching\, Kraftübungen. Im Sommer auch draußen.
URL:https://test.bauverein-ruestringen.de/event/frauen-in-bewegung-2/2027-04-05/
LOCATION:Treff – Auf Siebethsburg\, Störtebekerstraße 14c\, 26386 Wilhelmshaven\, Deutschland
CATEGORIES:Treff – Auf Siebethsburg
ATTACH;FMTTYPE=image/jpeg:https://test.bauverein-ruestringen.de/wp-content/uploads/2026/04/Bauverein-Ruestringen-Frauen-in-Bewegung.jpg
END:VEVENT
BEGIN:VEVENT
DTSTART;TZID=Europe/Berlin:20270406T100000
DTEND;TZID=Europe/Berlin:20270406T110000
DTSTAMP:20260426T050109
CREATED:20210901T132110Z
LAST-MODIFIED:20250224T165741Z
UID:10009934-1807005600-1807009200@test.bauverein-ruestringen.de
SUMMARY:Tai Chi
DESCRIPTION:Tai Chi\, das ist:\nSich spüren\, bewegen – langsam und bewusst. Dem Fluss des Atems folgen und die Kräfte des Lebens stärken. Entspannung für Geist und Körper. \nEs heißt\, wer Tai Chi übt\, wird gesund und stark wie ein Holzfäller\, so geschmeidig wie ein Kind und gelassen wie ein Weiser.
URL:https://test.bauverein-ruestringen.de/event/thai-chi-2/2027-04-06/
LOCATION:Treff – Auf Siebethsburg\, Störtebekerstraße 14c\, 26386 Wilhelmshaven\, Deutschland
CATEGORIES:Treff – Auf Siebethsburg
ATTACH;FMTTYPE=image/jpeg:https://test.bauverein-ruestringen.de/wp-content/uploads/2021/09/Thai_Chi.jpg
END:VEVENT
BEGIN:VEVENT
DTSTART;TZID=Europe/Berlin:20270406T150000
DTEND;TZID=Europe/Berlin:20270406T160000
DTSTAMP:20260426T050109
CREATED:20260424T105006Z
LAST-MODIFIED:20260424T105108Z
UID:10015311-1807023600-1807027200@test.bauverein-ruestringen.de
SUMMARY: Frische Brise für den Kopf
DESCRIPTION:Bringen Sie Ihre grauen Zellen in Schwung. Unter Anleitung macht das besonders viel Spaß! Ab 60 Jahren.
URL:https://test.bauverein-ruestringen.de/event/frische-brise-fuer-den-kopf/2027-04-06/
LOCATION:freiraum\, Störtebekerstraße 3 \, 26386 Wilhelmshaven\, Deutschland
CATEGORIES:freiraum,Seniorenangebote
ATTACH;FMTTYPE=image/jpeg:https://test.bauverein-ruestringen.de/wp-content/uploads/2026/04/Bauverein-Ruestringen-Brise-fuer-den-Kopf.jpg
END:VEVENT
BEGIN:VEVENT
DTSTART;TZID=Europe/Berlin:20270407T100000
DTEND;TZID=Europe/Berlin:20270407T110000
DTSTAMP:20260426T050109
CREATED:20210223T125330Z
LAST-MODIFIED:20250224T200820Z
UID:10010284-1807092000-1807095600@test.bauverein-ruestringen.de
SUMMARY:Frühstück zur Marktzeit
DESCRIPTION:Kaffee\, Klönen\, Kontakte knüpfen. Frühstücken Sie in netter Runde gemeinsam mit anderen. Bitte melden Sie sich vorher an.
URL:https://test.bauverein-ruestringen.de/event/fruehstueck-zur-marktzeit/2027-04-07/
LOCATION:Treff – Auf Siebethsburg\, Störtebekerstraße 14c\, 26386 Wilhelmshaven\, Deutschland
CATEGORIES:Treff – Auf Siebethsburg
ATTACH;FMTTYPE=image/jpeg:https://test.bauverein-ruestringen.de/wp-content/uploads/2022/11/Fruehstueck.jpg
END:VEVENT
BEGIN:VEVENT
DTSTART;TZID=Europe/Berlin:20270407T104500
DTEND;TZID=Europe/Berlin:20270407T114500
DTSTAMP:20260426T050109
CREATED:20260424T110648Z
LAST-MODIFIED:20260424T110648Z
UID:10015574-1807094700-1807098300@test.bauverein-ruestringen.de
SUMMARY:Tanzen „Querbeet“
DESCRIPTION:In kleiner Gruppe wird mit viel Spaß in Reihen\, gemischt oder im Kreis getanzt.
URL:https://test.bauverein-ruestringen.de/event/tanzen-querbeet/2027-04-07/
LOCATION:freiraum\, Störtebekerstraße 3 \, 26386 Wilhelmshaven\, Deutschland
CATEGORIES:freiraum
ATTACH;FMTTYPE=image/jpeg:https://test.bauverein-ruestringen.de/wp-content/uploads/2026/04/Bauverein-Ruestringen-Tanz-Querbeet.jpg
END:VEVENT
BEGIN:VEVENT
DTSTART;TZID=Europe/Berlin:20270407T140000
DTEND;TZID=Europe/Berlin:20270407T160000
DTSTAMP:20260426T050109
CREATED:20260424T111010Z
LAST-MODIFIED:20260424T111010Z
UID:10015836-1807106400-1807113600@test.bauverein-ruestringen.de
SUMMARY:Handarbeitsgruppe
DESCRIPTION:Für alle Altersgruppen: Wenn Sie Spaß am Stricken\, Häkeln\, Handarbeit etc. haben\, kommen Sie gern vorbei.
URL:https://test.bauverein-ruestringen.de/event/handarbeitsgruppe/2027-04-07/
LOCATION:Treff – Auf Siebethsburg\, Störtebekerstraße 14c\, 26386 Wilhelmshaven\, Deutschland
CATEGORIES:Treff – Auf Siebethsburg
ATTACH;FMTTYPE=image/jpeg:https://test.bauverein-ruestringen.de/wp-content/uploads/2026/04/Bauverein-Ruestringen-Handarbeitsgruppe.jpg
END:VEVENT
BEGIN:VEVENT
DTSTART;TZID=Europe/Berlin:20270407T150000
DTEND;TZID=Europe/Berlin:20270407T163000
DTSTAMP:20260426T050109
CREATED:20260424T111302Z
LAST-MODIFIED:20260424T111302Z
UID:10016060-1807110000-1807115400@test.bauverein-ruestringen.de
SUMMARY:Plattdeutsch
DESCRIPTION:Plattsnacker finden sich zusammen unter dem Motto: „Snack keen dumm Tüch\, sondern platt!“
URL:https://test.bauverein-ruestringen.de/event/plattdeutsch/2027-04-07/
LOCATION:Treff – Auf Siebethsburg\, Störtebekerstraße 14c\, 26386 Wilhelmshaven\, Deutschland
CATEGORIES:Seniorenangebote,Treff – Auf Siebethsburg
ATTACH;FMTTYPE=image/jpeg:https://test.bauverein-ruestringen.de/wp-content/uploads/2026/04/Bauverein-Ruestringen-Die-Plattsnacker.jpg
END:VEVENT
BEGIN:VEVENT
DTSTART;TZID=Europe/Berlin:20270407T183000
DTEND;TZID=Europe/Berlin:20270407T200000
DTSTAMP:20260426T050109
CREATED:20210223T133934Z
LAST-MODIFIED:20250224T200926Z
UID:10010441-1807122600-1807128000@test.bauverein-ruestringen.de
SUMMARY:Yoga am Abend
DESCRIPTION:Den Tag hinter sich lassen\, sich dehnen\, strecken\, den Körper spüren\, kräftigen\, atmen. Entdecken Sie die Wohltaten des Yoga! Für Menschen von 25-65 Jahren.
URL:https://test.bauverein-ruestringen.de/event/yoga-am-abend-5/2027-04-07/
LOCATION:Treff – Auf Siebethsburg\, Störtebekerstraße 14c\, 26386 Wilhelmshaven\, Deutschland
CATEGORIES:Treff – Auf Siebethsburg
ATTACH;FMTTYPE=image/jpeg:https://test.bauverein-ruestringen.de/wp-content/uploads/2022/11/yoga1.jpg
END:VEVENT
BEGIN:VEVENT
DTSTART;TZID=Europe/Berlin:20270407T190000
DTEND;TZID=Europe/Berlin:20270407T210000
DTSTAMP:20260426T050109
CREATED:20221129T155839Z
LAST-MODIFIED:20250224T200953Z
UID:10010598-1807124400-1807131600@test.bauverein-ruestringen.de
SUMMARY:WLAN-Cafè
DESCRIPTION:Für Menschen ab 16 Jahren. In entspannter Atmosphäre erhalten Sie Unterstützung rund um Smartphone\, Tablet und Laptop.
URL:https://test.bauverein-ruestringen.de/event/wlan-cafe/2027-04-07/
LOCATION:freiraum\, Störtebekerstraße 3 \, 26386 Wilhelmshaven\, Deutschland
CATEGORIES:freiraum
ATTACH;FMTTYPE=image/jpeg:https://test.bauverein-ruestringen.de/wp-content/uploads/2022/11/wlancafe.jpg
END:VEVENT
BEGIN:VEVENT
DTSTART;TZID=Europe/Berlin:20270408T093000
DTEND;TZID=Europe/Berlin:20270408T110000
DTSTAMP:20260426T050109
CREATED:20260424T113132Z
LAST-MODIFIED:20260424T130226Z
UID:10016543-1807176600-1807182000@test.bauverein-ruestringen.de
SUMMARY:Café Kinderwagen
DESCRIPTION:Der Treff für Eltern und ihre Kinder von 0 bis 1 Jahren. Kleine und große Siebethsburger lernen sich kennen und verbringen eine gute Zeit miteinander.
URL:https://test.bauverein-ruestringen.de/event/cafe-kinderwagen-2/2027-04-08/
LOCATION:Treff – Auf Siebethsburg\, Störtebekerstraße 14c\, 26386 Wilhelmshaven\, Deutschland
CATEGORIES:Treff – Auf Siebethsburg
ATTACH;FMTTYPE=image/jpeg:https://test.bauverein-ruestringen.de/wp-content/uploads/2026/04/Bauverein-Ruestringen-Cafe-Kinderwagen.jpg
END:VEVENT
BEGIN:VEVENT
DTSTART;TZID=Europe/Berlin:20270408T100000
DTEND;TZID=Europe/Berlin:20270408T113000
DTSTAMP:20260426T050109
CREATED:20210421T093201Z
LAST-MODIFIED:20260424T094602Z
UID:10014249-1807178400-1807183800@test.bauverein-ruestringen.de
SUMMARY:Digital-Kompass
DESCRIPTION:Unser Angebot für alle Senioren und Seniorinnen. Der Umgang mit Internet\, Smartphone\, Laptop und Tablet wird entspannt erklärt und geübt.
URL:https://test.bauverein-ruestringen.de/event/digital-kompass-3/2027-04-08/
LOCATION:freiraum\, Störtebekerstraße 3 \, 26386 Wilhelmshaven\, Deutschland
CATEGORIES:freiraum,Seniorenangebote
ATTACH;FMTTYPE=image/jpeg:https://test.bauverein-ruestringen.de/wp-content/uploads/2021/04/Digital-Kompass_Bauverein_Ruestringen.jpg
END:VEVENT
BEGIN:VEVENT
DTSTART;TZID=Europe/Berlin:20270408T110000
DTEND;TZID=Europe/Berlin:20270408T120000
DTSTAMP:20260426T050109
CREATED:20260424T112803Z
LAST-MODIFIED:20260424T112803Z
UID:10016281-1807182000-1807185600@test.bauverein-ruestringen.de
SUMMARY:Walking
DESCRIPTION:Spaß an Bewegung in und um Siebethsburg für Menschen\, die sich (wieder) mehr bewegen wollen.
URL:https://test.bauverein-ruestringen.de/event/walking/2027-04-08/
LOCATION:Treff – Auf Siebethsburg\, Störtebekerstraße 14c\, 26386 Wilhelmshaven\, Deutschland
CATEGORIES:Treff – Auf Siebethsburg
ATTACH;FMTTYPE=image/jpeg:https://test.bauverein-ruestringen.de/wp-content/uploads/2026/04/Bauverein-Ruestringen-Walking.jpg
END:VEVENT
BEGIN:VEVENT
DTSTART;TZID=Europe/Berlin:20270408T150000
DTEND;TZID=Europe/Berlin:20270408T160000
DTSTAMP:20260426T050109
CREATED:20210223T125813Z
LAST-MODIFIED:20260424T131024Z
UID:10012382-1807196400-1807200000@test.bauverein-ruestringen.de
SUMMARY:Senioren­sport (AWO)
DESCRIPTION:Der sportliche Treff für alle ab 60. Wir trainieren mit Freude unsere Kraft und Beweglichkeit\, altersgerecht und ohne Überforderung.
URL:https://test.bauverein-ruestringen.de/event/seniorensport/2027-04-08/
LOCATION:Treff – Auf Siebethsburg\, Störtebekerstraße 14c\, 26386 Wilhelmshaven\, Deutschland
CATEGORIES:Seniorenangebote,Treff – Auf Siebethsburg
ATTACH;FMTTYPE=image/jpeg:https://test.bauverein-ruestringen.de/wp-content/uploads/2021/02/Seniorensport_Bauverein_Ruestringen.jpg
END:VEVENT
BEGIN:VEVENT
DTSTART;TZID=Europe/Berlin:20270408T183000
DTEND;TZID=Europe/Berlin:20270408T210000
DTSTAMP:20260426T050109
CREATED:20230630T091532Z
LAST-MODIFIED:20260424T093101Z
UID:10011326-1807209000-1807218000@test.bauverein-ruestringen.de
SUMMARY:Fotografieren auf Siebethsburg
DESCRIPTION:Offener Austausch für Interessierte\, die Spaß am Fotografieren haben.
URL:https://test.bauverein-ruestringen.de/event/fotografieren-auf-siebethsburg/2027-04-08/
LOCATION:freiraum\, Störtebekerstraße 3 \, 26386 Wilhelmshaven\, Deutschland
ATTACH;FMTTYPE=image/jpeg:https://test.bauverein-ruestringen.de/wp-content/uploads/2023/06/Fotografieren.jpg
END:VEVENT
BEGIN:VEVENT
DTSTART;TZID=Europe/Berlin:20270409T100000
DTEND;TZID=Europe/Berlin:20270409T110000
DTSTAMP:20260426T050109
CREATED:20250220T110357Z
LAST-MODIFIED:20250224T212153Z
UID:10012067-1807264800-1807268400@test.bauverein-ruestringen.de
SUMMARY:Tai Chi
DESCRIPTION:Tai Chi\, das ist:\nSich spüren\, bewegen – langsam und bewusst. Dem Fluss des Atems folgen und die Kräfte des Lebens stärken. Entspannung für Geist und Körper. \nEs heißt\, wer Tai Chi übt\, wird gesund und stark wie ein Holzfäller\, so geschmeidig wie ein Kind und gelassen wie ein Weiser.
URL:https://test.bauverein-ruestringen.de/event/thai-chi/2027-04-09/
LOCATION:Treff – Auf Siebethsburg\, Störtebekerstraße 14c\, 26386 Wilhelmshaven\, Deutschland
CATEGORIES:Treff – Auf Siebethsburg
ATTACH;FMTTYPE=image/jpeg:https://test.bauverein-ruestringen.de/wp-content/uploads/2021/09/Thai_Chi.jpg
END:VEVENT
BEGIN:VEVENT
DTSTART;TZID=Europe/Berlin:20270409T140000
DTEND;TZID=Europe/Berlin:20270409T163000
DTSTAMP:20260426T050109
CREATED:20210422T164755Z
LAST-MODIFIED:20250224T202425Z
UID:10013448-1807279200-1807288200@test.bauverein-ruestringen.de
SUMMARY:Bingo
DESCRIPTION:Aufmerksamkeit ist gefragt: Bingo ist ein heiteres\, geselliges Spiel für alle Altersgruppen. Termine auf Anfrage. \n 
URL:https://test.bauverein-ruestringen.de/event/bingo-2/2027-04-09/
LOCATION:freiraum\, Störtebekerstraße 3 \, 26386 Wilhelmshaven\, Deutschland
CATEGORIES:freiraum
ATTACH;FMTTYPE=image/jpeg:https://test.bauverein-ruestringen.de/wp-content/uploads/2021/04/Bingo_Bauverein_Ruestringen.jpg
END:VEVENT
BEGIN:VEVENT
DTSTART;TZID=Europe/Berlin:20270412T093000
DTEND;TZID=Europe/Berlin:20270412T104500
DTSTAMP:20260426T050109
CREATED:20210223T133852Z
LAST-MODIFIED:20260424T100626Z
UID:10011101-1807522200-1807526700@test.bauverein-ruestringen.de
SUMMARY:Yoga im Sitzen
DESCRIPTION:Beim Yoga auf dem Stuhl werden Beweglichkeit und Kraft besonders sanft geschult. Für alle Altersgruppen geeignet.
URL:https://test.bauverein-ruestringen.de/event/yoga-am-abend/2027-04-12/
LOCATION:Treff – Auf Siebethsburg\, Störtebekerstraße 14c\, 26386 Wilhelmshaven\, Deutschland
CATEGORIES:Treff – Auf Siebethsburg
ATTACH;FMTTYPE=image/jpeg:https://test.bauverein-ruestringen.de/wp-content/uploads/2022/11/yoga2-1.jpg
END:VEVENT
BEGIN:VEVENT
DTSTART;TZID=Europe/Berlin:20270412T133000
DTEND;TZID=Europe/Berlin:20270412T163000
DTSTAMP:20260426T050109
CREATED:20260424T103906Z
LAST-MODIFIED:20260424T104227Z
UID:10015051-1807536600-1807547400@test.bauverein-ruestringen.de
SUMMARY:Spielenachmittag
DESCRIPTION:Wir spielen Karten-\, Brett- und Würfelspiele\, auch selbst mitgebrachte Spiele sind gern gesehen. Alle Altersgruppen sind willkommen.
URL:https://test.bauverein-ruestringen.de/event/spielenachmittag-2/2027-04-12/
LOCATION:Treff – Auf Siebethsburg\, Störtebekerstraße 14c\, 26386 Wilhelmshaven\, Deutschland
CATEGORIES:Treff – Auf Siebethsburg
ATTACH;FMTTYPE=image/jpeg:https://test.bauverein-ruestringen.de/wp-content/uploads/2026/04/Bauverein-Ruestringen-Spielabend.jpg
END:VEVENT
BEGIN:VEVENT
DTSTART;TZID=Europe/Berlin:20270412T140000
DTEND;TZID=Europe/Berlin:20270412T160000
DTSTAMP:20260426T050109
CREATED:20210423T092454Z
LAST-MODIFIED:20260424T093428Z
UID:10011675-1807538400-1807545600@test.bauverein-ruestringen.de
SUMMARY:Nähstübchen
DESCRIPTION:Nähen ein einsames Hobby? Das muss nicht sein! Im Näh-Café finden Sie Gleichgesinnte. Tauschen Sie sich aus und bekommen Sie beim gemeinsamen Nähen in kreativer Atmosphäre neue Ideen.
URL:https://test.bauverein-ruestringen.de/event/naeh-cafe/2027-04-12/
LOCATION:Treff – Auf Siebethsburg\, Störtebekerstraße 14c\, 26386 Wilhelmshaven\, Deutschland
CATEGORIES:Treff – Auf Siebethsburg
ATTACH;FMTTYPE=image/jpeg:https://test.bauverein-ruestringen.de/wp-content/uploads/2021/04/Naeh_Cafe_Bauverein_Ruestringen.jpg
END:VEVENT
BEGIN:VEVENT
DTSTART;TZID=Europe/Berlin:20270412T183000
DTEND;TZID=Europe/Berlin:20270412T203000
DTSTAMP:20260426T050109
CREATED:20260424T104036Z
LAST-MODIFIED:20260424T104036Z
UID:10014791-1807554600-1807561800@test.bauverein-ruestringen.de
SUMMARY:Frauen in Bewegung
DESCRIPTION:In der Gruppe macht Bewegung noch mehr Spaß! Willkommen sind Frauen jeder Altersstufe zu Gymnastik\, Stretching\, Kraftübungen. Im Sommer auch draußen.
URL:https://test.bauverein-ruestringen.de/event/frauen-in-bewegung-2/2027-04-12/
LOCATION:Treff – Auf Siebethsburg\, Störtebekerstraße 14c\, 26386 Wilhelmshaven\, Deutschland
CATEGORIES:Treff – Auf Siebethsburg
ATTACH;FMTTYPE=image/jpeg:https://test.bauverein-ruestringen.de/wp-content/uploads/2026/04/Bauverein-Ruestringen-Frauen-in-Bewegung.jpg
END:VEVENT
BEGIN:VEVENT
DTSTART;TZID=Europe/Berlin:20270413T100000
DTEND;TZID=Europe/Berlin:20270413T110000
DTSTAMP:20260426T050109
CREATED:20210901T132110Z
LAST-MODIFIED:20250224T165741Z
UID:10009935-1807610400-1807614000@test.bauverein-ruestringen.de
SUMMARY:Tai Chi
DESCRIPTION:Tai Chi\, das ist:\nSich spüren\, bewegen – langsam und bewusst. Dem Fluss des Atems folgen und die Kräfte des Lebens stärken. Entspannung für Geist und Körper. \nEs heißt\, wer Tai Chi übt\, wird gesund und stark wie ein Holzfäller\, so geschmeidig wie ein Kind und gelassen wie ein Weiser.
URL:https://test.bauverein-ruestringen.de/event/thai-chi-2/2027-04-13/
LOCATION:Treff – Auf Siebethsburg\, Störtebekerstraße 14c\, 26386 Wilhelmshaven\, Deutschland
CATEGORIES:Treff – Auf Siebethsburg
ATTACH;FMTTYPE=image/jpeg:https://test.bauverein-ruestringen.de/wp-content/uploads/2021/09/Thai_Chi.jpg
END:VEVENT
BEGIN:VEVENT
DTSTART;TZID=Europe/Berlin:20270413T143000
DTEND;TZID=Europe/Berlin:20270413T163000
DTSTAMP:20260426T050109
CREATED:20210423T091629Z
LAST-MODIFIED:20240702T101013Z
UID:10012989-1807626600-1807633800@test.bauverein-ruestringen.de
SUMMARY:Erzählcafè
DESCRIPTION:Gesellige nachbarschaftliche Begegnungen und Informationen zu unterschiedlichen\, aktuellen Themen.
URL:https://test.bauverein-ruestringen.de/event/erzaehlcafe/2027-04-13/
LOCATION:Treff – Auf Siebethsburg\, Störtebekerstraße 14c\, 26386 Wilhelmshaven\, Deutschland
CATEGORIES:Seniorenangebote,Treff – Auf Siebethsburg
ATTACH;FMTTYPE=image/jpeg:https://test.bauverein-ruestringen.de/wp-content/uploads/2022/11/Erzaehlcafe.jpg
END:VEVENT
BEGIN:VEVENT
DTSTART;TZID=Europe/Berlin:20270413T150000
DTEND;TZID=Europe/Berlin:20270413T160000
DTSTAMP:20260426T050109
CREATED:20260424T105006Z
LAST-MODIFIED:20260424T105108Z
UID:10015312-1807628400-1807632000@test.bauverein-ruestringen.de
SUMMARY: Frische Brise für den Kopf
DESCRIPTION:Bringen Sie Ihre grauen Zellen in Schwung. Unter Anleitung macht das besonders viel Spaß! Ab 60 Jahren.
URL:https://test.bauverein-ruestringen.de/event/frische-brise-fuer-den-kopf/2027-04-13/
LOCATION:freiraum\, Störtebekerstraße 3 \, 26386 Wilhelmshaven\, Deutschland
CATEGORIES:freiraum,Seniorenangebote
ATTACH;FMTTYPE=image/jpeg:https://test.bauverein-ruestringen.de/wp-content/uploads/2026/04/Bauverein-Ruestringen-Brise-fuer-den-Kopf.jpg
END:VEVENT
BEGIN:VEVENT
DTSTART;TZID=Europe/Berlin:20270414T100000
DTEND;TZID=Europe/Berlin:20270414T110000
DTSTAMP:20260426T050109
CREATED:20210223T125330Z
LAST-MODIFIED:20250224T200820Z
UID:10010285-1807696800-1807700400@test.bauverein-ruestringen.de
SUMMARY:Frühstück zur Marktzeit
DESCRIPTION:Kaffee\, Klönen\, Kontakte knüpfen. Frühstücken Sie in netter Runde gemeinsam mit anderen. Bitte melden Sie sich vorher an.
URL:https://test.bauverein-ruestringen.de/event/fruehstueck-zur-marktzeit/2027-04-14/
LOCATION:Treff – Auf Siebethsburg\, Störtebekerstraße 14c\, 26386 Wilhelmshaven\, Deutschland
CATEGORIES:Treff – Auf Siebethsburg
ATTACH;FMTTYPE=image/jpeg:https://test.bauverein-ruestringen.de/wp-content/uploads/2022/11/Fruehstueck.jpg
END:VEVENT
BEGIN:VEVENT
DTSTART;TZID=Europe/Berlin:20270414T104500
DTEND;TZID=Europe/Berlin:20270414T114500
DTSTAMP:20260426T050109
CREATED:20260424T110648Z
LAST-MODIFIED:20260424T110648Z
UID:10015575-1807699500-1807703100@test.bauverein-ruestringen.de
SUMMARY:Tanzen „Querbeet“
DESCRIPTION:In kleiner Gruppe wird mit viel Spaß in Reihen\, gemischt oder im Kreis getanzt.
URL:https://test.bauverein-ruestringen.de/event/tanzen-querbeet/2027-04-14/
LOCATION:freiraum\, Störtebekerstraße 3 \, 26386 Wilhelmshaven\, Deutschland
CATEGORIES:freiraum
ATTACH;FMTTYPE=image/jpeg:https://test.bauverein-ruestringen.de/wp-content/uploads/2026/04/Bauverein-Ruestringen-Tanz-Querbeet.jpg
END:VEVENT
BEGIN:VEVENT
DTSTART;TZID=Europe/Berlin:20270414T140000
DTEND;TZID=Europe/Berlin:20270414T160000
DTSTAMP:20260426T050109
CREATED:20260424T111010Z
LAST-MODIFIED:20260424T111010Z
UID:10015837-1807711200-1807718400@test.bauverein-ruestringen.de
SUMMARY:Handarbeitsgruppe
DESCRIPTION:Für alle Altersgruppen: Wenn Sie Spaß am Stricken\, Häkeln\, Handarbeit etc. haben\, kommen Sie gern vorbei.
URL:https://test.bauverein-ruestringen.de/event/handarbeitsgruppe/2027-04-14/
LOCATION:Treff – Auf Siebethsburg\, Störtebekerstraße 14c\, 26386 Wilhelmshaven\, Deutschland
CATEGORIES:Treff – Auf Siebethsburg
ATTACH;FMTTYPE=image/jpeg:https://test.bauverein-ruestringen.de/wp-content/uploads/2026/04/Bauverein-Ruestringen-Handarbeitsgruppe.jpg
END:VEVENT
BEGIN:VEVENT
DTSTART;TZID=Europe/Berlin:20270414T183000
DTEND;TZID=Europe/Berlin:20270414T200000
DTSTAMP:20260426T050109
CREATED:20210223T133934Z
LAST-MODIFIED:20250224T200926Z
UID:10010442-1807727400-1807732800@test.bauverein-ruestringen.de
SUMMARY:Yoga am Abend
DESCRIPTION:Den Tag hinter sich lassen\, sich dehnen\, strecken\, den Körper spüren\, kräftigen\, atmen. Entdecken Sie die Wohltaten des Yoga! Für Menschen von 25-65 Jahren.
URL:https://test.bauverein-ruestringen.de/event/yoga-am-abend-5/2027-04-14/
LOCATION:Treff – Auf Siebethsburg\, Störtebekerstraße 14c\, 26386 Wilhelmshaven\, Deutschland
CATEGORIES:Treff – Auf Siebethsburg
ATTACH;FMTTYPE=image/jpeg:https://test.bauverein-ruestringen.de/wp-content/uploads/2022/11/yoga1.jpg
END:VEVENT
BEGIN:VEVENT
DTSTART;TZID=Europe/Berlin:20270414T190000
DTEND;TZID=Europe/Berlin:20270414T210000
DTSTAMP:20260426T050109
CREATED:20221129T155839Z
LAST-MODIFIED:20250224T200953Z
UID:10010599-1807729200-1807736400@test.bauverein-ruestringen.de
SUMMARY:WLAN-Cafè
DESCRIPTION:Für Menschen ab 16 Jahren. In entspannter Atmosphäre erhalten Sie Unterstützung rund um Smartphone\, Tablet und Laptop.
URL:https://test.bauverein-ruestringen.de/event/wlan-cafe/2027-04-14/
LOCATION:freiraum\, Störtebekerstraße 3 \, 26386 Wilhelmshaven\, Deutschland
CATEGORIES:freiraum
ATTACH;FMTTYPE=image/jpeg:https://test.bauverein-ruestringen.de/wp-content/uploads/2022/11/wlancafe.jpg
END:VEVENT
END:VCALENDAR