BEGIN:VCALENDAR
VERSION:2.0
PRODID:-//Bauverein Rüstringen - ECPv6.15.11//NONSGML v1.0//EN
CALSCALE:GREGORIAN
METHOD:PUBLISH
X-ORIGINAL-URL:https://test.bauverein-ruestringen.de
X-WR-CALDESC:Veranstaltungen für Bauverein Rüstringen
REFRESH-INTERVAL;VALUE=DURATION:PT1H
X-Robots-Tag:noindex
X-PUBLISHED-TTL:PT1H
BEGIN:VTIMEZONE
TZID:Europe/Berlin
BEGIN:DAYLIGHT
TZOFFSETFROM:+0100
TZOFFSETTO:+0200
TZNAME:CEST
DTSTART:20260329T010000
END:DAYLIGHT
BEGIN:STANDARD
TZOFFSETFROM:+0200
TZOFFSETTO:+0100
TZNAME:CET
DTSTART:20261025T010000
END:STANDARD
BEGIN:DAYLIGHT
TZOFFSETFROM:+0100
TZOFFSETTO:+0200
TZNAME:CEST
DTSTART:20270328T010000
END:DAYLIGHT
BEGIN:STANDARD
TZOFFSETFROM:+0200
TZOFFSETTO:+0100
TZNAME:CET
DTSTART:20271031T010000
END:STANDARD
BEGIN:DAYLIGHT
TZOFFSETFROM:+0100
TZOFFSETTO:+0200
TZNAME:CEST
DTSTART:20280326T010000
END:DAYLIGHT
BEGIN:STANDARD
TZOFFSETFROM:+0200
TZOFFSETTO:+0100
TZNAME:CET
DTSTART:20281029T010000
END:STANDARD
END:VTIMEZONE
BEGIN:VEVENT
DTSTART;TZID=Europe/Berlin:20270930T110000
DTEND;TZID=Europe/Berlin:20270930T120000
DTSTAMP:20260422T103702
CREATED:20210421T093201Z
LAST-MODIFIED:20250224T102240Z
UID:10013274-1822302000-1822305600@test.bauverein-ruestringen.de
SUMMARY:Digital-Kompass
DESCRIPTION:Unser Angebot für alle Senioren und Seniorinnen. Der Umgang mit Internet\, Smartphone\, Laptop und Tablet wird entspannt erklärt und geübt.
URL:https://test.bauverein-ruestringen.de/event/digital-kompass-3/2027-09-30/
LOCATION:freiraum\, Störtebekerstraße 3 \, 26386 Wilhelmshaven\, Germany
CATEGORIES:freiraum,Seniorenangebote,Treff – Auf Siebethsburg
ATTACH;FMTTYPE=image/jpeg:https://test.bauverein-ruestringen.de/wp-content/uploads/2021/04/Digital-Kompass_Bauverein_Ruestringen.jpg
END:VEVENT
BEGIN:VEVENT
DTSTART;TZID=Europe/Berlin:20271001T170000
DTEND;TZID=Europe/Berlin:20271001T190000
DTSTAMP:20260422T103702
CREATED:20240703T091914Z
LAST-MODIFIED:20250224T210331Z
UID:10013084-1822410000-1822417200@test.bauverein-ruestringen.de
SUMMARY:Haste Töne
DESCRIPTION:Jeder\, der Spaß am Musizieren oder Singen hat ist willkommen.
URL:https://test.bauverein-ruestringen.de/event/mal-anders-2-2/2027-10-01/
LOCATION:freiraum\, Störtebekerstraße 3 \, 26386 Wilhelmshaven\, Germany
CATEGORIES:freiraum
ATTACH;FMTTYPE=image/jpeg:https://test.bauverein-ruestringen.de/wp-content/uploads/2024/07/musik.jpg
END:VEVENT
BEGIN:VEVENT
DTSTART;TZID=Europe/Berlin:20271006T190000
DTEND;TZID=Europe/Berlin:20271006T210000
DTSTAMP:20260422T103702
CREATED:20221129T155839Z
LAST-MODIFIED:20250224T200953Z
UID:10010624-1822849200-1822856400@test.bauverein-ruestringen.de
SUMMARY:WLAN-Cafè
DESCRIPTION:Für Menschen ab 16 Jahren. In entspannter Atmosphäre erhalten Sie Unterstützung rund um Smartphone\, Tablet und Laptop.
URL:https://test.bauverein-ruestringen.de/event/wlan-cafe/2027-10-06/
LOCATION:freiraum\, Störtebekerstraße 3 \, 26386 Wilhelmshaven\, Germany
CATEGORIES:freiraum
ATTACH;FMTTYPE=image/jpeg:https://test.bauverein-ruestringen.de/wp-content/uploads/2022/11/wlancafe.jpg
END:VEVENT
BEGIN:VEVENT
DTSTART;TZID=Europe/Berlin:20271007T110000
DTEND;TZID=Europe/Berlin:20271007T120000
DTSTAMP:20260422T103702
CREATED:20210421T093201Z
LAST-MODIFIED:20250224T102240Z
UID:10013275-1822906800-1822910400@test.bauverein-ruestringen.de
SUMMARY:Digital-Kompass
DESCRIPTION:Unser Angebot für alle Senioren und Seniorinnen. Der Umgang mit Internet\, Smartphone\, Laptop und Tablet wird entspannt erklärt und geübt.
URL:https://test.bauverein-ruestringen.de/event/digital-kompass-3/2027-10-07/
LOCATION:freiraum\, Störtebekerstraße 3 \, 26386 Wilhelmshaven\, Germany
CATEGORIES:freiraum,Seniorenangebote,Treff – Auf Siebethsburg
ATTACH;FMTTYPE=image/jpeg:https://test.bauverein-ruestringen.de/wp-content/uploads/2021/04/Digital-Kompass_Bauverein_Ruestringen.jpg
END:VEVENT
BEGIN:VEVENT
DTSTART;TZID=Europe/Berlin:20271007T143000
DTEND;TZID=Europe/Berlin:20271007T153000
DTSTAMP:20260422T103702
CREATED:20210223T121557Z
LAST-MODIFIED:20250224T202459Z
UID:10011029-1822919400-1822923000@test.bauverein-ruestringen.de
SUMMARY:Lesekreis
DESCRIPTION:Lesebegeisterte Menschen jeden Alters teilen das Interesse für Bücher und tauschen sich aus.
URL:https://test.bauverein-ruestringen.de/event/gedaechtnistraining-2-2/2027-10-07/
LOCATION:freiraum\, Störtebekerstraße 3 \, 26386 Wilhelmshaven\, Germany
CATEGORIES:freiraum,Seniorenangebote,Treff – Auf Siebethsburg
ATTACH;FMTTYPE=image/jpeg:https://test.bauverein-ruestringen.de/wp-content/uploads/2024/07/lesekreis.jpg
END:VEVENT
BEGIN:VEVENT
DTSTART;TZID=Europe/Berlin:20271008T140000
DTEND;TZID=Europe/Berlin:20271008T163000
DTSTAMP:20260422T103702
CREATED:20210422T164755Z
LAST-MODIFIED:20250224T202425Z
UID:10013461-1823004000-1823013000@test.bauverein-ruestringen.de
SUMMARY:Bingo
DESCRIPTION:Aufmerksamkeit ist gefragt: Bingo ist ein heiteres\, geselliges Spiel für alle Altersgruppen. Termine auf Anfrage. \n 
URL:https://test.bauverein-ruestringen.de/event/bingo-2/2027-10-08/
LOCATION:freiraum\, Störtebekerstraße 3 \, 26386 Wilhelmshaven\, Germany
CATEGORIES:freiraum
ATTACH;FMTTYPE=image/jpeg:https://test.bauverein-ruestringen.de/wp-content/uploads/2021/04/Bingo_Bauverein_Ruestringen.jpg
END:VEVENT
BEGIN:VEVENT
DTSTART;TZID=Europe/Berlin:20271013T190000
DTEND;TZID=Europe/Berlin:20271013T210000
DTSTAMP:20260422T103702
CREATED:20221129T155839Z
LAST-MODIFIED:20250224T200953Z
UID:10010625-1823454000-1823461200@test.bauverein-ruestringen.de
SUMMARY:WLAN-Cafè
DESCRIPTION:Für Menschen ab 16 Jahren. In entspannter Atmosphäre erhalten Sie Unterstützung rund um Smartphone\, Tablet und Laptop.
URL:https://test.bauverein-ruestringen.de/event/wlan-cafe/2027-10-13/
LOCATION:freiraum\, Störtebekerstraße 3 \, 26386 Wilhelmshaven\, Germany
CATEGORIES:freiraum
ATTACH;FMTTYPE=image/jpeg:https://test.bauverein-ruestringen.de/wp-content/uploads/2022/11/wlancafe.jpg
END:VEVENT
BEGIN:VEVENT
DTSTART;TZID=Europe/Berlin:20271014T110000
DTEND;TZID=Europe/Berlin:20271014T120000
DTSTAMP:20260422T103702
CREATED:20210421T093201Z
LAST-MODIFIED:20250224T102240Z
UID:10013276-1823511600-1823515200@test.bauverein-ruestringen.de
SUMMARY:Digital-Kompass
DESCRIPTION:Unser Angebot für alle Senioren und Seniorinnen. Der Umgang mit Internet\, Smartphone\, Laptop und Tablet wird entspannt erklärt und geübt.
URL:https://test.bauverein-ruestringen.de/event/digital-kompass-3/2027-10-14/
LOCATION:freiraum\, Störtebekerstraße 3 \, 26386 Wilhelmshaven\, Germany
CATEGORIES:freiraum,Seniorenangebote,Treff – Auf Siebethsburg
ATTACH;FMTTYPE=image/jpeg:https://test.bauverein-ruestringen.de/wp-content/uploads/2021/04/Digital-Kompass_Bauverein_Ruestringen.jpg
END:VEVENT
BEGIN:VEVENT
DTSTART;TZID=Europe/Berlin:20271014T140000
DTEND;TZID=Europe/Berlin:20271014T163000
DTSTAMP:20260422T103702
CREATED:20221129T162209Z
LAST-MODIFIED:20240705T081757Z
UID:10012934-1823522400-1823531400@test.bauverein-ruestringen.de
SUMMARY:Treff für alleinerziehende Mütter
DESCRIPTION:Unterstützung und Vernetzung für Mütter mit Kindern im Alter von 0 bis 3 Jahren.
URL:https://test.bauverein-ruestringen.de/event/bastelgruppe/2027-10-14/
LOCATION:freiraum\, Störtebekerstraße 3 \, 26386 Wilhelmshaven\, Germany
CATEGORIES:freiraum
ATTACH;FMTTYPE=image/jpeg:https://test.bauverein-ruestringen.de/wp-content/uploads/2024/07/muetter.jpg
END:VEVENT
BEGIN:VEVENT
DTSTART;TZID=Europe/Berlin:20271014T183000
DTEND;TZID=Europe/Berlin:20271014T200000
DTSTAMP:20260422T103702
CREATED:20230630T091532Z
LAST-MODIFIED:20250224T205920Z
UID:10011332-1823538600-1823544000@test.bauverein-ruestringen.de
SUMMARY:Fotografieren auf Siebethsburg
DESCRIPTION:Offener Austausch für Interessierte\, die Spaß am Fotografieren haben.
URL:https://test.bauverein-ruestringen.de/event/fotografieren-auf-siebethsburg/2027-10-14/
LOCATION:freiraum\, Störtebekerstraße 3 \, 26386 Wilhelmshaven\, Germany
ATTACH;FMTTYPE=image/jpeg:https://test.bauverein-ruestringen.de/wp-content/uploads/2023/06/Fotografieren.jpg
END:VEVENT
BEGIN:VEVENT
DTSTART;TZID=Europe/Berlin:20271015T170000
DTEND;TZID=Europe/Berlin:20271015T190000
DTSTAMP:20260422T103702
CREATED:20240703T091914Z
LAST-MODIFIED:20250224T210331Z
UID:10013085-1823619600-1823626800@test.bauverein-ruestringen.de
SUMMARY:Haste Töne
DESCRIPTION:Jeder\, der Spaß am Musizieren oder Singen hat ist willkommen.
URL:https://test.bauverein-ruestringen.de/event/mal-anders-2-2/2027-10-15/
LOCATION:freiraum\, Störtebekerstraße 3 \, 26386 Wilhelmshaven\, Germany
CATEGORIES:freiraum
ATTACH;FMTTYPE=image/jpeg:https://test.bauverein-ruestringen.de/wp-content/uploads/2024/07/musik.jpg
END:VEVENT
BEGIN:VEVENT
DTSTART;TZID=Europe/Berlin:20271020T190000
DTEND;TZID=Europe/Berlin:20271020T210000
DTSTAMP:20260422T103702
CREATED:20221129T155839Z
LAST-MODIFIED:20250224T200953Z
UID:10010626-1824058800-1824066000@test.bauverein-ruestringen.de
SUMMARY:WLAN-Cafè
DESCRIPTION:Für Menschen ab 16 Jahren. In entspannter Atmosphäre erhalten Sie Unterstützung rund um Smartphone\, Tablet und Laptop.
URL:https://test.bauverein-ruestringen.de/event/wlan-cafe/2027-10-20/
LOCATION:freiraum\, Störtebekerstraße 3 \, 26386 Wilhelmshaven\, Germany
CATEGORIES:freiraum
ATTACH;FMTTYPE=image/jpeg:https://test.bauverein-ruestringen.de/wp-content/uploads/2022/11/wlancafe.jpg
END:VEVENT
BEGIN:VEVENT
DTSTART;TZID=Europe/Berlin:20271021T110000
DTEND;TZID=Europe/Berlin:20271021T120000
DTSTAMP:20260422T103702
CREATED:20210421T093201Z
LAST-MODIFIED:20250224T102240Z
UID:10013277-1824116400-1824120000@test.bauverein-ruestringen.de
SUMMARY:Digital-Kompass
DESCRIPTION:Unser Angebot für alle Senioren und Seniorinnen. Der Umgang mit Internet\, Smartphone\, Laptop und Tablet wird entspannt erklärt und geübt.
URL:https://test.bauverein-ruestringen.de/event/digital-kompass-3/2027-10-21/
LOCATION:freiraum\, Störtebekerstraße 3 \, 26386 Wilhelmshaven\, Germany
CATEGORIES:freiraum,Seniorenangebote,Treff – Auf Siebethsburg
ATTACH;FMTTYPE=image/jpeg:https://test.bauverein-ruestringen.de/wp-content/uploads/2021/04/Digital-Kompass_Bauverein_Ruestringen.jpg
END:VEVENT
BEGIN:VEVENT
DTSTART;TZID=Europe/Berlin:20271021T170000
DTEND;TZID=Europe/Berlin:20271021T190000
DTSTAMP:20260422T103702
CREATED:20250220T110339Z
LAST-MODIFIED:20250224T210353Z
UID:10011446-1824138000-1824145200@test.bauverein-ruestringen.de
SUMMARY:Lesekreis
DESCRIPTION:Lesebegeisterte Menschen jeden Alters teilen das Interesse für Bücher und tauschen sich aus.
URL:https://test.bauverein-ruestringen.de/event/gedaechtnistraining-2/2027-10-21/
LOCATION:freiraum\, Störtebekerstraße 3 \, 26386 Wilhelmshaven\, Germany
CATEGORIES:freiraum,Seniorenangebote,Treff – Auf Siebethsburg
ATTACH;FMTTYPE=image/jpeg:https://test.bauverein-ruestringen.de/wp-content/uploads/2024/07/lesekreis.jpg
END:VEVENT
BEGIN:VEVENT
DTSTART;TZID=Europe/Berlin:20271022T140000
DTEND;TZID=Europe/Berlin:20271022T163000
DTSTAMP:20260422T103702
CREATED:20210422T164755Z
LAST-MODIFIED:20250224T202425Z
UID:10013462-1824213600-1824222600@test.bauverein-ruestringen.de
SUMMARY:Bingo
DESCRIPTION:Aufmerksamkeit ist gefragt: Bingo ist ein heiteres\, geselliges Spiel für alle Altersgruppen. Termine auf Anfrage. \n 
URL:https://test.bauverein-ruestringen.de/event/bingo-2/2027-10-22/
LOCATION:freiraum\, Störtebekerstraße 3 \, 26386 Wilhelmshaven\, Germany
CATEGORIES:freiraum
ATTACH;FMTTYPE=image/jpeg:https://test.bauverein-ruestringen.de/wp-content/uploads/2021/04/Bingo_Bauverein_Ruestringen.jpg
END:VEVENT
BEGIN:VEVENT
DTSTART;TZID=Europe/Berlin:20271027T190000
DTEND;TZID=Europe/Berlin:20271027T210000
DTSTAMP:20260422T103702
CREATED:20221129T155839Z
LAST-MODIFIED:20250224T200953Z
UID:10010627-1824663600-1824670800@test.bauverein-ruestringen.de
SUMMARY:WLAN-Cafè
DESCRIPTION:Für Menschen ab 16 Jahren. In entspannter Atmosphäre erhalten Sie Unterstützung rund um Smartphone\, Tablet und Laptop.
URL:https://test.bauverein-ruestringen.de/event/wlan-cafe/2027-10-27/
LOCATION:freiraum\, Störtebekerstraße 3 \, 26386 Wilhelmshaven\, Germany
CATEGORIES:freiraum
ATTACH;FMTTYPE=image/jpeg:https://test.bauverein-ruestringen.de/wp-content/uploads/2022/11/wlancafe.jpg
END:VEVENT
BEGIN:VEVENT
DTSTART;TZID=Europe/Berlin:20271028T110000
DTEND;TZID=Europe/Berlin:20271028T120000
DTSTAMP:20260422T103702
CREATED:20210421T093201Z
LAST-MODIFIED:20250224T102240Z
UID:10013278-1824721200-1824724800@test.bauverein-ruestringen.de
SUMMARY:Digital-Kompass
DESCRIPTION:Unser Angebot für alle Senioren und Seniorinnen. Der Umgang mit Internet\, Smartphone\, Laptop und Tablet wird entspannt erklärt und geübt.
URL:https://test.bauverein-ruestringen.de/event/digital-kompass-3/2027-10-28/
LOCATION:freiraum\, Störtebekerstraße 3 \, 26386 Wilhelmshaven\, Germany
CATEGORIES:freiraum,Seniorenangebote,Treff – Auf Siebethsburg
ATTACH;FMTTYPE=image/jpeg:https://test.bauverein-ruestringen.de/wp-content/uploads/2021/04/Digital-Kompass_Bauverein_Ruestringen.jpg
END:VEVENT
BEGIN:VEVENT
DTSTART;TZID=Europe/Berlin:20271028T150000
DTEND;TZID=Europe/Berlin:20271028T163000
DTSTAMP:20260422T103702
CREATED:20250220T110359Z
LAST-MODIFIED:20250224T210413Z
UID:10011483-1824735600-1824741000@test.bauverein-ruestringen.de
SUMMARY:Treff für alleinerziehende Mütter
DESCRIPTION:Unterstützung und Vernetzung für Mütter mit Kindern im Alter von 0 bis 3 Jahren.
URL:https://test.bauverein-ruestringen.de/event/bastelgruppe-2/2027-10-28/
LOCATION:freiraum\, Störtebekerstraße 3 \, 26386 Wilhelmshaven\, Germany
CATEGORIES:freiraum
ATTACH;FMTTYPE=image/jpeg:https://test.bauverein-ruestringen.de/wp-content/uploads/2024/07/muetter.jpg
END:VEVENT
BEGIN:VEVENT
DTSTART;TZID=Europe/Berlin:20271029T170000
DTEND;TZID=Europe/Berlin:20271029T190000
DTSTAMP:20260422T103702
CREATED:20240703T091914Z
LAST-MODIFIED:20250224T210331Z
UID:10013086-1824829200-1824836400@test.bauverein-ruestringen.de
SUMMARY:Haste Töne
DESCRIPTION:Jeder\, der Spaß am Musizieren oder Singen hat ist willkommen.
URL:https://test.bauverein-ruestringen.de/event/mal-anders-2-2/2027-10-29/
LOCATION:freiraum\, Störtebekerstraße 3 \, 26386 Wilhelmshaven\, Germany
CATEGORIES:freiraum
ATTACH;FMTTYPE=image/jpeg:https://test.bauverein-ruestringen.de/wp-content/uploads/2024/07/musik.jpg
END:VEVENT
BEGIN:VEVENT
DTSTART;TZID=Europe/Berlin:20271103T190000
DTEND;TZID=Europe/Berlin:20271103T210000
DTSTAMP:20260422T103702
CREATED:20221129T155839Z
LAST-MODIFIED:20250224T200953Z
UID:10010628-1825268400-1825275600@test.bauverein-ruestringen.de
SUMMARY:WLAN-Cafè
DESCRIPTION:Für Menschen ab 16 Jahren. In entspannter Atmosphäre erhalten Sie Unterstützung rund um Smartphone\, Tablet und Laptop.
URL:https://test.bauverein-ruestringen.de/event/wlan-cafe/2027-11-03/
LOCATION:freiraum\, Störtebekerstraße 3 \, 26386 Wilhelmshaven\, Germany
CATEGORIES:freiraum
ATTACH;FMTTYPE=image/jpeg:https://test.bauverein-ruestringen.de/wp-content/uploads/2022/11/wlancafe.jpg
END:VEVENT
BEGIN:VEVENT
DTSTART;TZID=Europe/Berlin:20271104T110000
DTEND;TZID=Europe/Berlin:20271104T120000
DTSTAMP:20260422T103702
CREATED:20210421T093201Z
LAST-MODIFIED:20250224T102240Z
UID:10013279-1825326000-1825329600@test.bauverein-ruestringen.de
SUMMARY:Digital-Kompass
DESCRIPTION:Unser Angebot für alle Senioren und Seniorinnen. Der Umgang mit Internet\, Smartphone\, Laptop und Tablet wird entspannt erklärt und geübt.
URL:https://test.bauverein-ruestringen.de/event/digital-kompass-3/2027-11-04/
LOCATION:freiraum\, Störtebekerstraße 3 \, 26386 Wilhelmshaven\, Germany
CATEGORIES:freiraum,Seniorenangebote,Treff – Auf Siebethsburg
ATTACH;FMTTYPE=image/jpeg:https://test.bauverein-ruestringen.de/wp-content/uploads/2021/04/Digital-Kompass_Bauverein_Ruestringen.jpg
END:VEVENT
BEGIN:VEVENT
DTSTART;TZID=Europe/Berlin:20271104T143000
DTEND;TZID=Europe/Berlin:20271104T153000
DTSTAMP:20260422T103702
CREATED:20210223T121557Z
LAST-MODIFIED:20250224T202459Z
UID:10011030-1825338600-1825342200@test.bauverein-ruestringen.de
SUMMARY:Lesekreis
DESCRIPTION:Lesebegeisterte Menschen jeden Alters teilen das Interesse für Bücher und tauschen sich aus.
URL:https://test.bauverein-ruestringen.de/event/gedaechtnistraining-2-2/2027-11-04/
LOCATION:freiraum\, Störtebekerstraße 3 \, 26386 Wilhelmshaven\, Germany
CATEGORIES:freiraum,Seniorenangebote,Treff – Auf Siebethsburg
ATTACH;FMTTYPE=image/jpeg:https://test.bauverein-ruestringen.de/wp-content/uploads/2024/07/lesekreis.jpg
END:VEVENT
BEGIN:VEVENT
DTSTART;TZID=Europe/Berlin:20271105T140000
DTEND;TZID=Europe/Berlin:20271105T163000
DTSTAMP:20260422T103702
CREATED:20210422T164755Z
LAST-MODIFIED:20250224T202425Z
UID:10013463-1825423200-1825432200@test.bauverein-ruestringen.de
SUMMARY:Bingo
DESCRIPTION:Aufmerksamkeit ist gefragt: Bingo ist ein heiteres\, geselliges Spiel für alle Altersgruppen. Termine auf Anfrage. \n 
URL:https://test.bauverein-ruestringen.de/event/bingo-2/2027-11-05/
LOCATION:freiraum\, Störtebekerstraße 3 \, 26386 Wilhelmshaven\, Germany
CATEGORIES:freiraum
ATTACH;FMTTYPE=image/jpeg:https://test.bauverein-ruestringen.de/wp-content/uploads/2021/04/Bingo_Bauverein_Ruestringen.jpg
END:VEVENT
BEGIN:VEVENT
DTSTART;TZID=Europe/Berlin:20271110T190000
DTEND;TZID=Europe/Berlin:20271110T210000
DTSTAMP:20260422T103702
CREATED:20221129T155839Z
LAST-MODIFIED:20250224T200953Z
UID:10010629-1825873200-1825880400@test.bauverein-ruestringen.de
SUMMARY:WLAN-Cafè
DESCRIPTION:Für Menschen ab 16 Jahren. In entspannter Atmosphäre erhalten Sie Unterstützung rund um Smartphone\, Tablet und Laptop.
URL:https://test.bauverein-ruestringen.de/event/wlan-cafe/2027-11-10/
LOCATION:freiraum\, Störtebekerstraße 3 \, 26386 Wilhelmshaven\, Germany
CATEGORIES:freiraum
ATTACH;FMTTYPE=image/jpeg:https://test.bauverein-ruestringen.de/wp-content/uploads/2022/11/wlancafe.jpg
END:VEVENT
BEGIN:VEVENT
DTSTART;TZID=Europe/Berlin:20271111T110000
DTEND;TZID=Europe/Berlin:20271111T120000
DTSTAMP:20260422T103702
CREATED:20210421T093201Z
LAST-MODIFIED:20250224T102240Z
UID:10013280-1825930800-1825934400@test.bauverein-ruestringen.de
SUMMARY:Digital-Kompass
DESCRIPTION:Unser Angebot für alle Senioren und Seniorinnen. Der Umgang mit Internet\, Smartphone\, Laptop und Tablet wird entspannt erklärt und geübt.
URL:https://test.bauverein-ruestringen.de/event/digital-kompass-3/2027-11-11/
LOCATION:freiraum\, Störtebekerstraße 3 \, 26386 Wilhelmshaven\, Germany
CATEGORIES:freiraum,Seniorenangebote,Treff – Auf Siebethsburg
ATTACH;FMTTYPE=image/jpeg:https://test.bauverein-ruestringen.de/wp-content/uploads/2021/04/Digital-Kompass_Bauverein_Ruestringen.jpg
END:VEVENT
BEGIN:VEVENT
DTSTART;TZID=Europe/Berlin:20271111T140000
DTEND;TZID=Europe/Berlin:20271111T163000
DTSTAMP:20260422T103702
CREATED:20221129T162209Z
LAST-MODIFIED:20240705T081757Z
UID:10012935-1825941600-1825950600@test.bauverein-ruestringen.de
SUMMARY:Treff für alleinerziehende Mütter
DESCRIPTION:Unterstützung und Vernetzung für Mütter mit Kindern im Alter von 0 bis 3 Jahren.
URL:https://test.bauverein-ruestringen.de/event/bastelgruppe/2027-11-11/
LOCATION:freiraum\, Störtebekerstraße 3 \, 26386 Wilhelmshaven\, Germany
CATEGORIES:freiraum
ATTACH;FMTTYPE=image/jpeg:https://test.bauverein-ruestringen.de/wp-content/uploads/2024/07/muetter.jpg
END:VEVENT
BEGIN:VEVENT
DTSTART;TZID=Europe/Berlin:20271111T183000
DTEND;TZID=Europe/Berlin:20271111T200000
DTSTAMP:20260422T103702
CREATED:20230630T091532Z
LAST-MODIFIED:20250224T205920Z
UID:10011333-1825957800-1825963200@test.bauverein-ruestringen.de
SUMMARY:Fotografieren auf Siebethsburg
DESCRIPTION:Offener Austausch für Interessierte\, die Spaß am Fotografieren haben.
URL:https://test.bauverein-ruestringen.de/event/fotografieren-auf-siebethsburg/2027-11-11/
LOCATION:freiraum\, Störtebekerstraße 3 \, 26386 Wilhelmshaven\, Germany
ATTACH;FMTTYPE=image/jpeg:https://test.bauverein-ruestringen.de/wp-content/uploads/2023/06/Fotografieren.jpg
END:VEVENT
BEGIN:VEVENT
DTSTART;TZID=Europe/Berlin:20271112T170000
DTEND;TZID=Europe/Berlin:20271112T190000
DTSTAMP:20260422T103702
CREATED:20240703T091914Z
LAST-MODIFIED:20250224T210331Z
UID:10013087-1826038800-1826046000@test.bauverein-ruestringen.de
SUMMARY:Haste Töne
DESCRIPTION:Jeder\, der Spaß am Musizieren oder Singen hat ist willkommen.
URL:https://test.bauverein-ruestringen.de/event/mal-anders-2-2/2027-11-12/
LOCATION:freiraum\, Störtebekerstraße 3 \, 26386 Wilhelmshaven\, Germany
CATEGORIES:freiraum
ATTACH;FMTTYPE=image/jpeg:https://test.bauverein-ruestringen.de/wp-content/uploads/2024/07/musik.jpg
END:VEVENT
BEGIN:VEVENT
DTSTART;TZID=Europe/Berlin:20271117T190000
DTEND;TZID=Europe/Berlin:20271117T210000
DTSTAMP:20260422T103702
CREATED:20221129T155839Z
LAST-MODIFIED:20250224T200953Z
UID:10010630-1826478000-1826485200@test.bauverein-ruestringen.de
SUMMARY:WLAN-Cafè
DESCRIPTION:Für Menschen ab 16 Jahren. In entspannter Atmosphäre erhalten Sie Unterstützung rund um Smartphone\, Tablet und Laptop.
URL:https://test.bauverein-ruestringen.de/event/wlan-cafe/2027-11-17/
LOCATION:freiraum\, Störtebekerstraße 3 \, 26386 Wilhelmshaven\, Germany
CATEGORIES:freiraum
ATTACH;FMTTYPE=image/jpeg:https://test.bauverein-ruestringen.de/wp-content/uploads/2022/11/wlancafe.jpg
END:VEVENT
BEGIN:VEVENT
DTSTART;TZID=Europe/Berlin:20271118T110000
DTEND;TZID=Europe/Berlin:20271118T120000
DTSTAMP:20260422T103702
CREATED:20210421T093201Z
LAST-MODIFIED:20250224T102240Z
UID:10013281-1826535600-1826539200@test.bauverein-ruestringen.de
SUMMARY:Digital-Kompass
DESCRIPTION:Unser Angebot für alle Senioren und Seniorinnen. Der Umgang mit Internet\, Smartphone\, Laptop und Tablet wird entspannt erklärt und geübt.
URL:https://test.bauverein-ruestringen.de/event/digital-kompass-3/2027-11-18/
LOCATION:freiraum\, Störtebekerstraße 3 \, 26386 Wilhelmshaven\, Germany
CATEGORIES:freiraum,Seniorenangebote,Treff – Auf Siebethsburg
ATTACH;FMTTYPE=image/jpeg:https://test.bauverein-ruestringen.de/wp-content/uploads/2021/04/Digital-Kompass_Bauverein_Ruestringen.jpg
END:VEVENT
END:VCALENDAR