BEGIN:VCALENDAR
VERSION:2.0
PRODID:-//Bauverein Rüstringen - ECPv6.15.11//NONSGML v1.0//EN
CALSCALE:GREGORIAN
METHOD:PUBLISH
X-ORIGINAL-URL:https://test.bauverein-ruestringen.de
X-WR-CALDESC:Veranstaltungen für Bauverein Rüstringen
REFRESH-INTERVAL;VALUE=DURATION:PT1H
X-Robots-Tag:noindex
X-PUBLISHED-TTL:PT1H
BEGIN:VTIMEZONE
TZID:Europe/Berlin
BEGIN:DAYLIGHT
TZOFFSETFROM:+0100
TZOFFSETTO:+0200
TZNAME:CEST
DTSTART:20270328T010000
END:DAYLIGHT
BEGIN:STANDARD
TZOFFSETFROM:+0200
TZOFFSETTO:+0100
TZNAME:CET
DTSTART:20271031T010000
END:STANDARD
BEGIN:DAYLIGHT
TZOFFSETFROM:+0100
TZOFFSETTO:+0200
TZNAME:CEST
DTSTART:20280326T010000
END:DAYLIGHT
BEGIN:STANDARD
TZOFFSETFROM:+0200
TZOFFSETTO:+0100
TZNAME:CET
DTSTART:20281029T010000
END:STANDARD
BEGIN:DAYLIGHT
TZOFFSETFROM:+0100
TZOFFSETTO:+0200
TZNAME:CEST
DTSTART:20290325T010000
END:DAYLIGHT
BEGIN:STANDARD
TZOFFSETFROM:+0200
TZOFFSETTO:+0100
TZNAME:CET
DTSTART:20291028T010000
END:STANDARD
END:VTIMEZONE
BEGIN:VEVENT
DTSTART;TZID=Europe/Berlin:20280128T140000
DTEND;TZID=Europe/Berlin:20280128T163000
DTSTAMP:20260422T201055
CREATED:20210422T164755Z
LAST-MODIFIED:20250224T202425Z
UID:10013469-1832680800-1832689800@test.bauverein-ruestringen.de
SUMMARY:Bingo
DESCRIPTION:Aufmerksamkeit ist gefragt: Bingo ist ein heiteres\, geselliges Spiel für alle Altersgruppen. Termine auf Anfrage. \n 
URL:https://test.bauverein-ruestringen.de/event/bingo-2/2028-01-28/
LOCATION:freiraum\, Störtebekerstraße 3 \, 26386 Wilhelmshaven\, Germany
CATEGORIES:freiraum
ATTACH;FMTTYPE=image/jpeg:https://test.bauverein-ruestringen.de/wp-content/uploads/2021/04/Bingo_Bauverein_Ruestringen.jpg
END:VEVENT
BEGIN:VEVENT
DTSTART;TZID=Europe/Berlin:20280202T190000
DTEND;TZID=Europe/Berlin:20280202T210000
DTSTAMP:20260422T201055
CREATED:20221129T155839Z
LAST-MODIFIED:20250224T200953Z
UID:10010641-1833130800-1833138000@test.bauverein-ruestringen.de
SUMMARY:WLAN-Cafè
DESCRIPTION:Für Menschen ab 16 Jahren. In entspannter Atmosphäre erhalten Sie Unterstützung rund um Smartphone\, Tablet und Laptop.
URL:https://test.bauverein-ruestringen.de/event/wlan-cafe/2028-02-02/
LOCATION:freiraum\, Störtebekerstraße 3 \, 26386 Wilhelmshaven\, Germany
CATEGORIES:freiraum
ATTACH;FMTTYPE=image/jpeg:https://test.bauverein-ruestringen.de/wp-content/uploads/2022/11/wlancafe.jpg
END:VEVENT
BEGIN:VEVENT
DTSTART;TZID=Europe/Berlin:20280203T110000
DTEND;TZID=Europe/Berlin:20280203T120000
DTSTAMP:20260422T201055
CREATED:20210421T093201Z
LAST-MODIFIED:20250224T102240Z
UID:10013292-1833188400-1833192000@test.bauverein-ruestringen.de
SUMMARY:Digital-Kompass
DESCRIPTION:Unser Angebot für alle Senioren und Seniorinnen. Der Umgang mit Internet\, Smartphone\, Laptop und Tablet wird entspannt erklärt und geübt.
URL:https://test.bauverein-ruestringen.de/event/digital-kompass-3/2028-02-03/
LOCATION:freiraum\, Störtebekerstraße 3 \, 26386 Wilhelmshaven\, Germany
CATEGORIES:freiraum,Seniorenangebote,Treff – Auf Siebethsburg
ATTACH;FMTTYPE=image/jpeg:https://test.bauverein-ruestringen.de/wp-content/uploads/2021/04/Digital-Kompass_Bauverein_Ruestringen.jpg
END:VEVENT
BEGIN:VEVENT
DTSTART;TZID=Europe/Berlin:20280203T143000
DTEND;TZID=Europe/Berlin:20280203T153000
DTSTAMP:20260422T201055
CREATED:20210223T121557Z
LAST-MODIFIED:20250224T202459Z
UID:10011033-1833201000-1833204600@test.bauverein-ruestringen.de
SUMMARY:Lesekreis
DESCRIPTION:Lesebegeisterte Menschen jeden Alters teilen das Interesse für Bücher und tauschen sich aus.
URL:https://test.bauverein-ruestringen.de/event/gedaechtnistraining-2-2/2028-02-03/
LOCATION:freiraum\, Störtebekerstraße 3 \, 26386 Wilhelmshaven\, Germany
CATEGORIES:freiraum,Seniorenangebote,Treff – Auf Siebethsburg
ATTACH;FMTTYPE=image/jpeg:https://test.bauverein-ruestringen.de/wp-content/uploads/2024/07/lesekreis.jpg
END:VEVENT
BEGIN:VEVENT
DTSTART;TZID=Europe/Berlin:20280204T170000
DTEND;TZID=Europe/Berlin:20280204T190000
DTSTAMP:20260422T201055
CREATED:20240703T091914Z
LAST-MODIFIED:20250224T210331Z
UID:10013093-1833296400-1833303600@test.bauverein-ruestringen.de
SUMMARY:Haste Töne
DESCRIPTION:Jeder\, der Spaß am Musizieren oder Singen hat ist willkommen.
URL:https://test.bauverein-ruestringen.de/event/mal-anders-2-2/2028-02-04/
LOCATION:freiraum\, Störtebekerstraße 3 \, 26386 Wilhelmshaven\, Germany
CATEGORIES:freiraum
ATTACH;FMTTYPE=image/jpeg:https://test.bauverein-ruestringen.de/wp-content/uploads/2024/07/musik.jpg
END:VEVENT
BEGIN:VEVENT
DTSTART;TZID=Europe/Berlin:20280209T190000
DTEND;TZID=Europe/Berlin:20280209T210000
DTSTAMP:20260422T201055
CREATED:20221129T155839Z
LAST-MODIFIED:20250224T200953Z
UID:10010642-1833735600-1833742800@test.bauverein-ruestringen.de
SUMMARY:WLAN-Cafè
DESCRIPTION:Für Menschen ab 16 Jahren. In entspannter Atmosphäre erhalten Sie Unterstützung rund um Smartphone\, Tablet und Laptop.
URL:https://test.bauverein-ruestringen.de/event/wlan-cafe/2028-02-09/
LOCATION:freiraum\, Störtebekerstraße 3 \, 26386 Wilhelmshaven\, Germany
CATEGORIES:freiraum
ATTACH;FMTTYPE=image/jpeg:https://test.bauverein-ruestringen.de/wp-content/uploads/2022/11/wlancafe.jpg
END:VEVENT
BEGIN:VEVENT
DTSTART;TZID=Europe/Berlin:20280210T110000
DTEND;TZID=Europe/Berlin:20280210T120000
DTSTAMP:20260422T201055
CREATED:20210421T093201Z
LAST-MODIFIED:20250224T102240Z
UID:10013293-1833793200-1833796800@test.bauverein-ruestringen.de
SUMMARY:Digital-Kompass
DESCRIPTION:Unser Angebot für alle Senioren und Seniorinnen. Der Umgang mit Internet\, Smartphone\, Laptop und Tablet wird entspannt erklärt und geübt.
URL:https://test.bauverein-ruestringen.de/event/digital-kompass-3/2028-02-10/
LOCATION:freiraum\, Störtebekerstraße 3 \, 26386 Wilhelmshaven\, Germany
CATEGORIES:freiraum,Seniorenangebote,Treff – Auf Siebethsburg
ATTACH;FMTTYPE=image/jpeg:https://test.bauverein-ruestringen.de/wp-content/uploads/2021/04/Digital-Kompass_Bauverein_Ruestringen.jpg
END:VEVENT
BEGIN:VEVENT
DTSTART;TZID=Europe/Berlin:20280210T140000
DTEND;TZID=Europe/Berlin:20280210T163000
DTSTAMP:20260422T201055
CREATED:20221129T162209Z
LAST-MODIFIED:20240705T081757Z
UID:10012938-1833804000-1833813000@test.bauverein-ruestringen.de
SUMMARY:Treff für alleinerziehende Mütter
DESCRIPTION:Unterstützung und Vernetzung für Mütter mit Kindern im Alter von 0 bis 3 Jahren.
URL:https://test.bauverein-ruestringen.de/event/bastelgruppe/2028-02-10/
LOCATION:freiraum\, Störtebekerstraße 3 \, 26386 Wilhelmshaven\, Germany
CATEGORIES:freiraum
ATTACH;FMTTYPE=image/jpeg:https://test.bauverein-ruestringen.de/wp-content/uploads/2024/07/muetter.jpg
END:VEVENT
BEGIN:VEVENT
DTSTART;TZID=Europe/Berlin:20280210T183000
DTEND;TZID=Europe/Berlin:20280210T200000
DTSTAMP:20260422T201055
CREATED:20230630T091532Z
LAST-MODIFIED:20250224T205920Z
UID:10011336-1833820200-1833825600@test.bauverein-ruestringen.de
SUMMARY:Fotografieren auf Siebethsburg
DESCRIPTION:Offener Austausch für Interessierte\, die Spaß am Fotografieren haben.
URL:https://test.bauverein-ruestringen.de/event/fotografieren-auf-siebethsburg/2028-02-10/
LOCATION:freiraum\, Störtebekerstraße 3 \, 26386 Wilhelmshaven\, Germany
ATTACH;FMTTYPE=image/jpeg:https://test.bauverein-ruestringen.de/wp-content/uploads/2023/06/Fotografieren.jpg
END:VEVENT
BEGIN:VEVENT
DTSTART;TZID=Europe/Berlin:20280211T140000
DTEND;TZID=Europe/Berlin:20280211T163000
DTSTAMP:20260422T201055
CREATED:20210422T164755Z
LAST-MODIFIED:20250224T202425Z
UID:10013470-1833890400-1833899400@test.bauverein-ruestringen.de
SUMMARY:Bingo
DESCRIPTION:Aufmerksamkeit ist gefragt: Bingo ist ein heiteres\, geselliges Spiel für alle Altersgruppen. Termine auf Anfrage. \n 
URL:https://test.bauverein-ruestringen.de/event/bingo-2/2028-02-11/
LOCATION:freiraum\, Störtebekerstraße 3 \, 26386 Wilhelmshaven\, Germany
CATEGORIES:freiraum
ATTACH;FMTTYPE=image/jpeg:https://test.bauverein-ruestringen.de/wp-content/uploads/2021/04/Bingo_Bauverein_Ruestringen.jpg
END:VEVENT
BEGIN:VEVENT
DTSTART;TZID=Europe/Berlin:20280216T190000
DTEND;TZID=Europe/Berlin:20280216T210000
DTSTAMP:20260422T201055
CREATED:20221129T155839Z
LAST-MODIFIED:20250224T200953Z
UID:10010643-1834340400-1834347600@test.bauverein-ruestringen.de
SUMMARY:WLAN-Cafè
DESCRIPTION:Für Menschen ab 16 Jahren. In entspannter Atmosphäre erhalten Sie Unterstützung rund um Smartphone\, Tablet und Laptop.
URL:https://test.bauverein-ruestringen.de/event/wlan-cafe/2028-02-16/
LOCATION:freiraum\, Störtebekerstraße 3 \, 26386 Wilhelmshaven\, Germany
CATEGORIES:freiraum
ATTACH;FMTTYPE=image/jpeg:https://test.bauverein-ruestringen.de/wp-content/uploads/2022/11/wlancafe.jpg
END:VEVENT
BEGIN:VEVENT
DTSTART;TZID=Europe/Berlin:20280217T110000
DTEND;TZID=Europe/Berlin:20280217T120000
DTSTAMP:20260422T201055
CREATED:20210421T093201Z
LAST-MODIFIED:20250224T102240Z
UID:10013294-1834398000-1834401600@test.bauverein-ruestringen.de
SUMMARY:Digital-Kompass
DESCRIPTION:Unser Angebot für alle Senioren und Seniorinnen. Der Umgang mit Internet\, Smartphone\, Laptop und Tablet wird entspannt erklärt und geübt.
URL:https://test.bauverein-ruestringen.de/event/digital-kompass-3/2028-02-17/
LOCATION:freiraum\, Störtebekerstraße 3 \, 26386 Wilhelmshaven\, Germany
CATEGORIES:freiraum,Seniorenangebote,Treff – Auf Siebethsburg
ATTACH;FMTTYPE=image/jpeg:https://test.bauverein-ruestringen.de/wp-content/uploads/2021/04/Digital-Kompass_Bauverein_Ruestringen.jpg
END:VEVENT
BEGIN:VEVENT
DTSTART;TZID=Europe/Berlin:20280217T170000
DTEND;TZID=Europe/Berlin:20280217T190000
DTSTAMP:20260422T201055
CREATED:20250220T110339Z
LAST-MODIFIED:20250224T210353Z
UID:10011450-1834419600-1834426800@test.bauverein-ruestringen.de
SUMMARY:Lesekreis
DESCRIPTION:Lesebegeisterte Menschen jeden Alters teilen das Interesse für Bücher und tauschen sich aus.
URL:https://test.bauverein-ruestringen.de/event/gedaechtnistraining-2/2028-02-17/
LOCATION:freiraum\, Störtebekerstraße 3 \, 26386 Wilhelmshaven\, Germany
CATEGORIES:freiraum,Seniorenangebote,Treff – Auf Siebethsburg
ATTACH;FMTTYPE=image/jpeg:https://test.bauverein-ruestringen.de/wp-content/uploads/2024/07/lesekreis.jpg
END:VEVENT
BEGIN:VEVENT
DTSTART;TZID=Europe/Berlin:20280218T170000
DTEND;TZID=Europe/Berlin:20280218T190000
DTSTAMP:20260422T201055
CREATED:20240703T091914Z
LAST-MODIFIED:20250224T210331Z
UID:10013094-1834506000-1834513200@test.bauverein-ruestringen.de
SUMMARY:Haste Töne
DESCRIPTION:Jeder\, der Spaß am Musizieren oder Singen hat ist willkommen.
URL:https://test.bauverein-ruestringen.de/event/mal-anders-2-2/2028-02-18/
LOCATION:freiraum\, Störtebekerstraße 3 \, 26386 Wilhelmshaven\, Germany
CATEGORIES:freiraum
ATTACH;FMTTYPE=image/jpeg:https://test.bauverein-ruestringen.de/wp-content/uploads/2024/07/musik.jpg
END:VEVENT
BEGIN:VEVENT
DTSTART;TZID=Europe/Berlin:20280223T190000
DTEND;TZID=Europe/Berlin:20280223T210000
DTSTAMP:20260422T201055
CREATED:20221129T155839Z
LAST-MODIFIED:20250224T200953Z
UID:10010644-1834945200-1834952400@test.bauverein-ruestringen.de
SUMMARY:WLAN-Cafè
DESCRIPTION:Für Menschen ab 16 Jahren. In entspannter Atmosphäre erhalten Sie Unterstützung rund um Smartphone\, Tablet und Laptop.
URL:https://test.bauverein-ruestringen.de/event/wlan-cafe/2028-02-23/
LOCATION:freiraum\, Störtebekerstraße 3 \, 26386 Wilhelmshaven\, Germany
CATEGORIES:freiraum
ATTACH;FMTTYPE=image/jpeg:https://test.bauverein-ruestringen.de/wp-content/uploads/2022/11/wlancafe.jpg
END:VEVENT
BEGIN:VEVENT
DTSTART;TZID=Europe/Berlin:20280224T110000
DTEND;TZID=Europe/Berlin:20280224T120000
DTSTAMP:20260422T201055
CREATED:20210421T093201Z
LAST-MODIFIED:20250224T102240Z
UID:10013295-1835002800-1835006400@test.bauverein-ruestringen.de
SUMMARY:Digital-Kompass
DESCRIPTION:Unser Angebot für alle Senioren und Seniorinnen. Der Umgang mit Internet\, Smartphone\, Laptop und Tablet wird entspannt erklärt und geübt.
URL:https://test.bauverein-ruestringen.de/event/digital-kompass-3/2028-02-24/
LOCATION:freiraum\, Störtebekerstraße 3 \, 26386 Wilhelmshaven\, Germany
CATEGORIES:freiraum,Seniorenangebote,Treff – Auf Siebethsburg
ATTACH;FMTTYPE=image/jpeg:https://test.bauverein-ruestringen.de/wp-content/uploads/2021/04/Digital-Kompass_Bauverein_Ruestringen.jpg
END:VEVENT
BEGIN:VEVENT
DTSTART;TZID=Europe/Berlin:20280224T150000
DTEND;TZID=Europe/Berlin:20280224T163000
DTSTAMP:20260422T201055
CREATED:20250220T110359Z
LAST-MODIFIED:20250224T210413Z
UID:10011487-1835017200-1835022600@test.bauverein-ruestringen.de
SUMMARY:Treff für alleinerziehende Mütter
DESCRIPTION:Unterstützung und Vernetzung für Mütter mit Kindern im Alter von 0 bis 3 Jahren.
URL:https://test.bauverein-ruestringen.de/event/bastelgruppe-2/2028-02-24/
LOCATION:freiraum\, Störtebekerstraße 3 \, 26386 Wilhelmshaven\, Germany
CATEGORIES:freiraum
ATTACH;FMTTYPE=image/jpeg:https://test.bauverein-ruestringen.de/wp-content/uploads/2024/07/muetter.jpg
END:VEVENT
BEGIN:VEVENT
DTSTART;TZID=Europe/Berlin:20280225T140000
DTEND;TZID=Europe/Berlin:20280225T163000
DTSTAMP:20260422T201055
CREATED:20210422T164755Z
LAST-MODIFIED:20250224T202425Z
UID:10013471-1835100000-1835109000@test.bauverein-ruestringen.de
SUMMARY:Bingo
DESCRIPTION:Aufmerksamkeit ist gefragt: Bingo ist ein heiteres\, geselliges Spiel für alle Altersgruppen. Termine auf Anfrage. \n 
URL:https://test.bauverein-ruestringen.de/event/bingo-2/2028-02-25/
LOCATION:freiraum\, Störtebekerstraße 3 \, 26386 Wilhelmshaven\, Germany
CATEGORIES:freiraum
ATTACH;FMTTYPE=image/jpeg:https://test.bauverein-ruestringen.de/wp-content/uploads/2021/04/Bingo_Bauverein_Ruestringen.jpg
END:VEVENT
BEGIN:VEVENT
DTSTART;TZID=Europe/Berlin:20280301T190000
DTEND;TZID=Europe/Berlin:20280301T210000
DTSTAMP:20260422T201055
CREATED:20221129T155839Z
LAST-MODIFIED:20250224T200953Z
UID:10010645-1835550000-1835557200@test.bauverein-ruestringen.de
SUMMARY:WLAN-Cafè
DESCRIPTION:Für Menschen ab 16 Jahren. In entspannter Atmosphäre erhalten Sie Unterstützung rund um Smartphone\, Tablet und Laptop.
URL:https://test.bauverein-ruestringen.de/event/wlan-cafe/2028-03-01/
LOCATION:freiraum\, Störtebekerstraße 3 \, 26386 Wilhelmshaven\, Germany
CATEGORIES:freiraum
ATTACH;FMTTYPE=image/jpeg:https://test.bauverein-ruestringen.de/wp-content/uploads/2022/11/wlancafe.jpg
END:VEVENT
BEGIN:VEVENT
DTSTART;TZID=Europe/Berlin:20280302T110000
DTEND;TZID=Europe/Berlin:20280302T120000
DTSTAMP:20260422T201055
CREATED:20210421T093201Z
LAST-MODIFIED:20250224T102240Z
UID:10013296-1835607600-1835611200@test.bauverein-ruestringen.de
SUMMARY:Digital-Kompass
DESCRIPTION:Unser Angebot für alle Senioren und Seniorinnen. Der Umgang mit Internet\, Smartphone\, Laptop und Tablet wird entspannt erklärt und geübt.
URL:https://test.bauverein-ruestringen.de/event/digital-kompass-3/2028-03-02/
LOCATION:freiraum\, Störtebekerstraße 3 \, 26386 Wilhelmshaven\, Germany
CATEGORIES:freiraum,Seniorenangebote,Treff – Auf Siebethsburg
ATTACH;FMTTYPE=image/jpeg:https://test.bauverein-ruestringen.de/wp-content/uploads/2021/04/Digital-Kompass_Bauverein_Ruestringen.jpg
END:VEVENT
BEGIN:VEVENT
DTSTART;TZID=Europe/Berlin:20280302T143000
DTEND;TZID=Europe/Berlin:20280302T153000
DTSTAMP:20260422T201055
CREATED:20210223T121557Z
LAST-MODIFIED:20250224T202459Z
UID:10011034-1835620200-1835623800@test.bauverein-ruestringen.de
SUMMARY:Lesekreis
DESCRIPTION:Lesebegeisterte Menschen jeden Alters teilen das Interesse für Bücher und tauschen sich aus.
URL:https://test.bauverein-ruestringen.de/event/gedaechtnistraining-2-2/2028-03-02/
LOCATION:freiraum\, Störtebekerstraße 3 \, 26386 Wilhelmshaven\, Germany
CATEGORIES:freiraum,Seniorenangebote,Treff – Auf Siebethsburg
ATTACH;FMTTYPE=image/jpeg:https://test.bauverein-ruestringen.de/wp-content/uploads/2024/07/lesekreis.jpg
END:VEVENT
BEGIN:VEVENT
DTSTART;TZID=Europe/Berlin:20280303T170000
DTEND;TZID=Europe/Berlin:20280303T190000
DTSTAMP:20260422T201055
CREATED:20240703T091914Z
LAST-MODIFIED:20250224T210331Z
UID:10013095-1835715600-1835722800@test.bauverein-ruestringen.de
SUMMARY:Haste Töne
DESCRIPTION:Jeder\, der Spaß am Musizieren oder Singen hat ist willkommen.
URL:https://test.bauverein-ruestringen.de/event/mal-anders-2-2/2028-03-03/
LOCATION:freiraum\, Störtebekerstraße 3 \, 26386 Wilhelmshaven\, Germany
CATEGORIES:freiraum
ATTACH;FMTTYPE=image/jpeg:https://test.bauverein-ruestringen.de/wp-content/uploads/2024/07/musik.jpg
END:VEVENT
BEGIN:VEVENT
DTSTART;TZID=Europe/Berlin:20280308T190000
DTEND;TZID=Europe/Berlin:20280308T210000
DTSTAMP:20260422T201055
CREATED:20221129T155839Z
LAST-MODIFIED:20250224T200953Z
UID:10010646-1836154800-1836162000@test.bauverein-ruestringen.de
SUMMARY:WLAN-Cafè
DESCRIPTION:Für Menschen ab 16 Jahren. In entspannter Atmosphäre erhalten Sie Unterstützung rund um Smartphone\, Tablet und Laptop.
URL:https://test.bauverein-ruestringen.de/event/wlan-cafe/2028-03-08/
LOCATION:freiraum\, Störtebekerstraße 3 \, 26386 Wilhelmshaven\, Germany
CATEGORIES:freiraum
ATTACH;FMTTYPE=image/jpeg:https://test.bauverein-ruestringen.de/wp-content/uploads/2022/11/wlancafe.jpg
END:VEVENT
BEGIN:VEVENT
DTSTART;TZID=Europe/Berlin:20280309T110000
DTEND;TZID=Europe/Berlin:20280309T120000
DTSTAMP:20260422T201055
CREATED:20210421T093201Z
LAST-MODIFIED:20250224T102240Z
UID:10013297-1836212400-1836216000@test.bauverein-ruestringen.de
SUMMARY:Digital-Kompass
DESCRIPTION:Unser Angebot für alle Senioren und Seniorinnen. Der Umgang mit Internet\, Smartphone\, Laptop und Tablet wird entspannt erklärt und geübt.
URL:https://test.bauverein-ruestringen.de/event/digital-kompass-3/2028-03-09/
LOCATION:freiraum\, Störtebekerstraße 3 \, 26386 Wilhelmshaven\, Germany
CATEGORIES:freiraum,Seniorenangebote,Treff – Auf Siebethsburg
ATTACH;FMTTYPE=image/jpeg:https://test.bauverein-ruestringen.de/wp-content/uploads/2021/04/Digital-Kompass_Bauverein_Ruestringen.jpg
END:VEVENT
BEGIN:VEVENT
DTSTART;TZID=Europe/Berlin:20280309T140000
DTEND;TZID=Europe/Berlin:20280309T163000
DTSTAMP:20260422T201055
CREATED:20221129T162209Z
LAST-MODIFIED:20240705T081757Z
UID:10012939-1836223200-1836232200@test.bauverein-ruestringen.de
SUMMARY:Treff für alleinerziehende Mütter
DESCRIPTION:Unterstützung und Vernetzung für Mütter mit Kindern im Alter von 0 bis 3 Jahren.
URL:https://test.bauverein-ruestringen.de/event/bastelgruppe/2028-03-09/
LOCATION:freiraum\, Störtebekerstraße 3 \, 26386 Wilhelmshaven\, Germany
CATEGORIES:freiraum
ATTACH;FMTTYPE=image/jpeg:https://test.bauverein-ruestringen.de/wp-content/uploads/2024/07/muetter.jpg
END:VEVENT
BEGIN:VEVENT
DTSTART;TZID=Europe/Berlin:20280309T183000
DTEND;TZID=Europe/Berlin:20280309T200000
DTSTAMP:20260422T201055
CREATED:20230630T091532Z
LAST-MODIFIED:20250224T205920Z
UID:10011337-1836239400-1836244800@test.bauverein-ruestringen.de
SUMMARY:Fotografieren auf Siebethsburg
DESCRIPTION:Offener Austausch für Interessierte\, die Spaß am Fotografieren haben.
URL:https://test.bauverein-ruestringen.de/event/fotografieren-auf-siebethsburg/2028-03-09/
LOCATION:freiraum\, Störtebekerstraße 3 \, 26386 Wilhelmshaven\, Germany
ATTACH;FMTTYPE=image/jpeg:https://test.bauverein-ruestringen.de/wp-content/uploads/2023/06/Fotografieren.jpg
END:VEVENT
BEGIN:VEVENT
DTSTART;TZID=Europe/Berlin:20280310T140000
DTEND;TZID=Europe/Berlin:20280310T163000
DTSTAMP:20260422T201055
CREATED:20210422T164755Z
LAST-MODIFIED:20250224T202425Z
UID:10013472-1836309600-1836318600@test.bauverein-ruestringen.de
SUMMARY:Bingo
DESCRIPTION:Aufmerksamkeit ist gefragt: Bingo ist ein heiteres\, geselliges Spiel für alle Altersgruppen. Termine auf Anfrage. \n 
URL:https://test.bauverein-ruestringen.de/event/bingo-2/2028-03-10/
LOCATION:freiraum\, Störtebekerstraße 3 \, 26386 Wilhelmshaven\, Germany
CATEGORIES:freiraum
ATTACH;FMTTYPE=image/jpeg:https://test.bauverein-ruestringen.de/wp-content/uploads/2021/04/Bingo_Bauverein_Ruestringen.jpg
END:VEVENT
BEGIN:VEVENT
DTSTART;TZID=Europe/Berlin:20280315T190000
DTEND;TZID=Europe/Berlin:20280315T210000
DTSTAMP:20260422T201055
CREATED:20221129T155839Z
LAST-MODIFIED:20250224T200953Z
UID:10010647-1836759600-1836766800@test.bauverein-ruestringen.de
SUMMARY:WLAN-Cafè
DESCRIPTION:Für Menschen ab 16 Jahren. In entspannter Atmosphäre erhalten Sie Unterstützung rund um Smartphone\, Tablet und Laptop.
URL:https://test.bauverein-ruestringen.de/event/wlan-cafe/2028-03-15/
LOCATION:freiraum\, Störtebekerstraße 3 \, 26386 Wilhelmshaven\, Germany
CATEGORIES:freiraum
ATTACH;FMTTYPE=image/jpeg:https://test.bauverein-ruestringen.de/wp-content/uploads/2022/11/wlancafe.jpg
END:VEVENT
BEGIN:VEVENT
DTSTART;TZID=Europe/Berlin:20280316T110000
DTEND;TZID=Europe/Berlin:20280316T120000
DTSTAMP:20260422T201055
CREATED:20210421T093201Z
LAST-MODIFIED:20250224T102240Z
UID:10013298-1836817200-1836820800@test.bauverein-ruestringen.de
SUMMARY:Digital-Kompass
DESCRIPTION:Unser Angebot für alle Senioren und Seniorinnen. Der Umgang mit Internet\, Smartphone\, Laptop und Tablet wird entspannt erklärt und geübt.
URL:https://test.bauverein-ruestringen.de/event/digital-kompass-3/2028-03-16/
LOCATION:freiraum\, Störtebekerstraße 3 \, 26386 Wilhelmshaven\, Germany
CATEGORIES:freiraum,Seniorenangebote,Treff – Auf Siebethsburg
ATTACH;FMTTYPE=image/jpeg:https://test.bauverein-ruestringen.de/wp-content/uploads/2021/04/Digital-Kompass_Bauverein_Ruestringen.jpg
END:VEVENT
BEGIN:VEVENT
DTSTART;TZID=Europe/Berlin:20280316T170000
DTEND;TZID=Europe/Berlin:20280316T190000
DTSTAMP:20260422T201055
CREATED:20250220T110339Z
LAST-MODIFIED:20250224T210353Z
UID:10011451-1836838800-1836846000@test.bauverein-ruestringen.de
SUMMARY:Lesekreis
DESCRIPTION:Lesebegeisterte Menschen jeden Alters teilen das Interesse für Bücher und tauschen sich aus.
URL:https://test.bauverein-ruestringen.de/event/gedaechtnistraining-2/2028-03-16/
LOCATION:freiraum\, Störtebekerstraße 3 \, 26386 Wilhelmshaven\, Germany
CATEGORIES:freiraum,Seniorenangebote,Treff – Auf Siebethsburg
ATTACH;FMTTYPE=image/jpeg:https://test.bauverein-ruestringen.de/wp-content/uploads/2024/07/lesekreis.jpg
END:VEVENT
END:VCALENDAR