BEGIN:VCALENDAR
VERSION:2.0
PRODID:-//Bauverein Rüstringen - ECPv6.15.11//NONSGML v1.0//EN
CALSCALE:GREGORIAN
METHOD:PUBLISH
X-ORIGINAL-URL:https://test.bauverein-ruestringen.de
X-WR-CALDESC:Veranstaltungen für Bauverein Rüstringen
REFRESH-INTERVAL;VALUE=DURATION:PT1H
X-Robots-Tag:noindex
X-PUBLISHED-TTL:PT1H
BEGIN:VTIMEZONE
TZID:Europe/Berlin
BEGIN:DAYLIGHT
TZOFFSETFROM:+0100
TZOFFSETTO:+0200
TZNAME:CEST
DTSTART:20270328T010000
END:DAYLIGHT
BEGIN:STANDARD
TZOFFSETFROM:+0200
TZOFFSETTO:+0100
TZNAME:CET
DTSTART:20271031T010000
END:STANDARD
BEGIN:DAYLIGHT
TZOFFSETFROM:+0100
TZOFFSETTO:+0200
TZNAME:CEST
DTSTART:20280326T010000
END:DAYLIGHT
BEGIN:STANDARD
TZOFFSETFROM:+0200
TZOFFSETTO:+0100
TZNAME:CET
DTSTART:20281029T010000
END:STANDARD
BEGIN:DAYLIGHT
TZOFFSETFROM:+0100
TZOFFSETTO:+0200
TZNAME:CEST
DTSTART:20290325T010000
END:DAYLIGHT
BEGIN:STANDARD
TZOFFSETFROM:+0200
TZOFFSETTO:+0100
TZNAME:CET
DTSTART:20291028T010000
END:STANDARD
END:VTIMEZONE
BEGIN:VEVENT
DTSTART;TZID=Europe/Berlin:20280713T110000
DTEND;TZID=Europe/Berlin:20280713T120000
DTSTAMP:20260423T091808
CREATED:20210421T093201Z
LAST-MODIFIED:20250224T102240Z
UID:10013315-1847098800-1847102400@test.bauverein-ruestringen.de
SUMMARY:Digital-Kompass
DESCRIPTION:Unser Angebot für alle Senioren und Seniorinnen. Der Umgang mit Internet\, Smartphone\, Laptop und Tablet wird entspannt erklärt und geübt.
URL:https://test.bauverein-ruestringen.de/event/digital-kompass-3/2028-07-13/
LOCATION:freiraum\, Störtebekerstraße 3 \, 26386 Wilhelmshaven\, Germany
CATEGORIES:freiraum,Seniorenangebote,Treff – Auf Siebethsburg
ATTACH;FMTTYPE=image/jpeg:https://test.bauverein-ruestringen.de/wp-content/uploads/2021/04/Digital-Kompass_Bauverein_Ruestringen.jpg
END:VEVENT
BEGIN:VEVENT
DTSTART;TZID=Europe/Berlin:20280713T140000
DTEND;TZID=Europe/Berlin:20280713T163000
DTSTAMP:20260423T091808
CREATED:20221129T162209Z
LAST-MODIFIED:20240705T081757Z
UID:10012943-1847109600-1847118600@test.bauverein-ruestringen.de
SUMMARY:Treff für alleinerziehende Mütter
DESCRIPTION:Unterstützung und Vernetzung für Mütter mit Kindern im Alter von 0 bis 3 Jahren.
URL:https://test.bauverein-ruestringen.de/event/bastelgruppe/2028-07-13/
LOCATION:freiraum\, Störtebekerstraße 3 \, 26386 Wilhelmshaven\, Germany
CATEGORIES:freiraum
ATTACH;FMTTYPE=image/jpeg:https://test.bauverein-ruestringen.de/wp-content/uploads/2024/07/muetter.jpg
END:VEVENT
BEGIN:VEVENT
DTSTART;TZID=Europe/Berlin:20280713T183000
DTEND;TZID=Europe/Berlin:20280713T200000
DTSTAMP:20260423T091808
CREATED:20230630T091532Z
LAST-MODIFIED:20250224T205920Z
UID:10011341-1847125800-1847131200@test.bauverein-ruestringen.de
SUMMARY:Fotografieren auf Siebethsburg
DESCRIPTION:Offener Austausch für Interessierte\, die Spaß am Fotografieren haben.
URL:https://test.bauverein-ruestringen.de/event/fotografieren-auf-siebethsburg/2028-07-13/
LOCATION:freiraum\, Störtebekerstraße 3 \, 26386 Wilhelmshaven\, Germany
ATTACH;FMTTYPE=image/jpeg:https://test.bauverein-ruestringen.de/wp-content/uploads/2023/06/Fotografieren.jpg
END:VEVENT
BEGIN:VEVENT
DTSTART;TZID=Europe/Berlin:20280714T140000
DTEND;TZID=Europe/Berlin:20280714T163000
DTSTAMP:20260423T091808
CREATED:20210422T164755Z
LAST-MODIFIED:20250224T202425Z
UID:10013481-1847196000-1847205000@test.bauverein-ruestringen.de
SUMMARY:Bingo
DESCRIPTION:Aufmerksamkeit ist gefragt: Bingo ist ein heiteres\, geselliges Spiel für alle Altersgruppen. Termine auf Anfrage. \n 
URL:https://test.bauverein-ruestringen.de/event/bingo-2/2028-07-14/
LOCATION:freiraum\, Störtebekerstraße 3 \, 26386 Wilhelmshaven\, Germany
CATEGORIES:freiraum
ATTACH;FMTTYPE=image/jpeg:https://test.bauverein-ruestringen.de/wp-content/uploads/2021/04/Bingo_Bauverein_Ruestringen.jpg
END:VEVENT
BEGIN:VEVENT
DTSTART;TZID=Europe/Berlin:20280719T190000
DTEND;TZID=Europe/Berlin:20280719T210000
DTSTAMP:20260423T091808
CREATED:20221129T155839Z
LAST-MODIFIED:20250224T200953Z
UID:10010665-1847646000-1847653200@test.bauverein-ruestringen.de
SUMMARY:WLAN-Cafè
DESCRIPTION:Für Menschen ab 16 Jahren. In entspannter Atmosphäre erhalten Sie Unterstützung rund um Smartphone\, Tablet und Laptop.
URL:https://test.bauverein-ruestringen.de/event/wlan-cafe/2028-07-19/
LOCATION:freiraum\, Störtebekerstraße 3 \, 26386 Wilhelmshaven\, Germany
CATEGORIES:freiraum
ATTACH;FMTTYPE=image/jpeg:https://test.bauverein-ruestringen.de/wp-content/uploads/2022/11/wlancafe.jpg
END:VEVENT
BEGIN:VEVENT
DTSTART;TZID=Europe/Berlin:20280720T110000
DTEND;TZID=Europe/Berlin:20280720T120000
DTSTAMP:20260423T091808
CREATED:20210421T093201Z
LAST-MODIFIED:20250224T102240Z
UID:10013316-1847703600-1847707200@test.bauverein-ruestringen.de
SUMMARY:Digital-Kompass
DESCRIPTION:Unser Angebot für alle Senioren und Seniorinnen. Der Umgang mit Internet\, Smartphone\, Laptop und Tablet wird entspannt erklärt und geübt.
URL:https://test.bauverein-ruestringen.de/event/digital-kompass-3/2028-07-20/
LOCATION:freiraum\, Störtebekerstraße 3 \, 26386 Wilhelmshaven\, Germany
CATEGORIES:freiraum,Seniorenangebote,Treff – Auf Siebethsburg
ATTACH;FMTTYPE=image/jpeg:https://test.bauverein-ruestringen.de/wp-content/uploads/2021/04/Digital-Kompass_Bauverein_Ruestringen.jpg
END:VEVENT
BEGIN:VEVENT
DTSTART;TZID=Europe/Berlin:20280720T170000
DTEND;TZID=Europe/Berlin:20280720T190000
DTSTAMP:20260423T091808
CREATED:20250220T110339Z
LAST-MODIFIED:20250224T210353Z
UID:10011455-1847725200-1847732400@test.bauverein-ruestringen.de
SUMMARY:Lesekreis
DESCRIPTION:Lesebegeisterte Menschen jeden Alters teilen das Interesse für Bücher und tauschen sich aus.
URL:https://test.bauverein-ruestringen.de/event/gedaechtnistraining-2/2028-07-20/
LOCATION:freiraum\, Störtebekerstraße 3 \, 26386 Wilhelmshaven\, Germany
CATEGORIES:freiraum,Seniorenangebote,Treff – Auf Siebethsburg
ATTACH;FMTTYPE=image/jpeg:https://test.bauverein-ruestringen.de/wp-content/uploads/2024/07/lesekreis.jpg
END:VEVENT
BEGIN:VEVENT
DTSTART;TZID=Europe/Berlin:20280721T170000
DTEND;TZID=Europe/Berlin:20280721T190000
DTSTAMP:20260423T091808
CREATED:20240703T091914Z
LAST-MODIFIED:20250224T210331Z
UID:10013105-1847811600-1847818800@test.bauverein-ruestringen.de
SUMMARY:Haste Töne
DESCRIPTION:Jeder\, der Spaß am Musizieren oder Singen hat ist willkommen.
URL:https://test.bauverein-ruestringen.de/event/mal-anders-2-2/2028-07-21/
LOCATION:freiraum\, Störtebekerstraße 3 \, 26386 Wilhelmshaven\, Germany
CATEGORIES:freiraum
ATTACH;FMTTYPE=image/jpeg:https://test.bauverein-ruestringen.de/wp-content/uploads/2024/07/musik.jpg
END:VEVENT
BEGIN:VEVENT
DTSTART;TZID=Europe/Berlin:20280726T190000
DTEND;TZID=Europe/Berlin:20280726T210000
DTSTAMP:20260423T091808
CREATED:20221129T155839Z
LAST-MODIFIED:20250224T200953Z
UID:10010666-1848250800-1848258000@test.bauverein-ruestringen.de
SUMMARY:WLAN-Cafè
DESCRIPTION:Für Menschen ab 16 Jahren. In entspannter Atmosphäre erhalten Sie Unterstützung rund um Smartphone\, Tablet und Laptop.
URL:https://test.bauverein-ruestringen.de/event/wlan-cafe/2028-07-26/
LOCATION:freiraum\, Störtebekerstraße 3 \, 26386 Wilhelmshaven\, Germany
CATEGORIES:freiraum
ATTACH;FMTTYPE=image/jpeg:https://test.bauverein-ruestringen.de/wp-content/uploads/2022/11/wlancafe.jpg
END:VEVENT
BEGIN:VEVENT
DTSTART;TZID=Europe/Berlin:20280727T110000
DTEND;TZID=Europe/Berlin:20280727T120000
DTSTAMP:20260423T091808
CREATED:20210421T093201Z
LAST-MODIFIED:20250224T102240Z
UID:10013317-1848308400-1848312000@test.bauverein-ruestringen.de
SUMMARY:Digital-Kompass
DESCRIPTION:Unser Angebot für alle Senioren und Seniorinnen. Der Umgang mit Internet\, Smartphone\, Laptop und Tablet wird entspannt erklärt und geübt.
URL:https://test.bauverein-ruestringen.de/event/digital-kompass-3/2028-07-27/
LOCATION:freiraum\, Störtebekerstraße 3 \, 26386 Wilhelmshaven\, Germany
CATEGORIES:freiraum,Seniorenangebote,Treff – Auf Siebethsburg
ATTACH;FMTTYPE=image/jpeg:https://test.bauverein-ruestringen.de/wp-content/uploads/2021/04/Digital-Kompass_Bauverein_Ruestringen.jpg
END:VEVENT
BEGIN:VEVENT
DTSTART;TZID=Europe/Berlin:20280727T150000
DTEND;TZID=Europe/Berlin:20280727T163000
DTSTAMP:20260423T091808
CREATED:20250220T110359Z
LAST-MODIFIED:20250224T210413Z
UID:10011492-1848322800-1848328200@test.bauverein-ruestringen.de
SUMMARY:Treff für alleinerziehende Mütter
DESCRIPTION:Unterstützung und Vernetzung für Mütter mit Kindern im Alter von 0 bis 3 Jahren.
URL:https://test.bauverein-ruestringen.de/event/bastelgruppe-2/2028-07-27/
LOCATION:freiraum\, Störtebekerstraße 3 \, 26386 Wilhelmshaven\, Germany
CATEGORIES:freiraum
ATTACH;FMTTYPE=image/jpeg:https://test.bauverein-ruestringen.de/wp-content/uploads/2024/07/muetter.jpg
END:VEVENT
BEGIN:VEVENT
DTSTART;TZID=Europe/Berlin:20280728T140000
DTEND;TZID=Europe/Berlin:20280728T163000
DTSTAMP:20260423T091808
CREATED:20210422T164755Z
LAST-MODIFIED:20250224T202425Z
UID:10013482-1848405600-1848414600@test.bauverein-ruestringen.de
SUMMARY:Bingo
DESCRIPTION:Aufmerksamkeit ist gefragt: Bingo ist ein heiteres\, geselliges Spiel für alle Altersgruppen. Termine auf Anfrage. \n 
URL:https://test.bauverein-ruestringen.de/event/bingo-2/2028-07-28/
LOCATION:freiraum\, Störtebekerstraße 3 \, 26386 Wilhelmshaven\, Germany
CATEGORIES:freiraum
ATTACH;FMTTYPE=image/jpeg:https://test.bauverein-ruestringen.de/wp-content/uploads/2021/04/Bingo_Bauverein_Ruestringen.jpg
END:VEVENT
BEGIN:VEVENT
DTSTART;TZID=Europe/Berlin:20280802T190000
DTEND;TZID=Europe/Berlin:20280802T210000
DTSTAMP:20260423T091808
CREATED:20221129T155839Z
LAST-MODIFIED:20250224T200953Z
UID:10010667-1848855600-1848862800@test.bauverein-ruestringen.de
SUMMARY:WLAN-Cafè
DESCRIPTION:Für Menschen ab 16 Jahren. In entspannter Atmosphäre erhalten Sie Unterstützung rund um Smartphone\, Tablet und Laptop.
URL:https://test.bauverein-ruestringen.de/event/wlan-cafe/2028-08-02/
LOCATION:freiraum\, Störtebekerstraße 3 \, 26386 Wilhelmshaven\, Germany
CATEGORIES:freiraum
ATTACH;FMTTYPE=image/jpeg:https://test.bauverein-ruestringen.de/wp-content/uploads/2022/11/wlancafe.jpg
END:VEVENT
BEGIN:VEVENT
DTSTART;TZID=Europe/Berlin:20280803T110000
DTEND;TZID=Europe/Berlin:20280803T120000
DTSTAMP:20260423T091808
CREATED:20210421T093201Z
LAST-MODIFIED:20250224T102240Z
UID:10013318-1848913200-1848916800@test.bauverein-ruestringen.de
SUMMARY:Digital-Kompass
DESCRIPTION:Unser Angebot für alle Senioren und Seniorinnen. Der Umgang mit Internet\, Smartphone\, Laptop und Tablet wird entspannt erklärt und geübt.
URL:https://test.bauverein-ruestringen.de/event/digital-kompass-3/2028-08-03/
LOCATION:freiraum\, Störtebekerstraße 3 \, 26386 Wilhelmshaven\, Germany
CATEGORIES:freiraum,Seniorenangebote,Treff – Auf Siebethsburg
ATTACH;FMTTYPE=image/jpeg:https://test.bauverein-ruestringen.de/wp-content/uploads/2021/04/Digital-Kompass_Bauverein_Ruestringen.jpg
END:VEVENT
BEGIN:VEVENT
DTSTART;TZID=Europe/Berlin:20280803T143000
DTEND;TZID=Europe/Berlin:20280803T153000
DTSTAMP:20260423T091808
CREATED:20210223T121557Z
LAST-MODIFIED:20250224T202459Z
UID:10011039-1848925800-1848929400@test.bauverein-ruestringen.de
SUMMARY:Lesekreis
DESCRIPTION:Lesebegeisterte Menschen jeden Alters teilen das Interesse für Bücher und tauschen sich aus.
URL:https://test.bauverein-ruestringen.de/event/gedaechtnistraining-2-2/2028-08-03/
LOCATION:freiraum\, Störtebekerstraße 3 \, 26386 Wilhelmshaven\, Germany
CATEGORIES:freiraum,Seniorenangebote,Treff – Auf Siebethsburg
ATTACH;FMTTYPE=image/jpeg:https://test.bauverein-ruestringen.de/wp-content/uploads/2024/07/lesekreis.jpg
END:VEVENT
BEGIN:VEVENT
DTSTART;TZID=Europe/Berlin:20280804T170000
DTEND;TZID=Europe/Berlin:20280804T190000
DTSTAMP:20260423T091808
CREATED:20240703T091914Z
LAST-MODIFIED:20250224T210331Z
UID:10013106-1849021200-1849028400@test.bauverein-ruestringen.de
SUMMARY:Haste Töne
DESCRIPTION:Jeder\, der Spaß am Musizieren oder Singen hat ist willkommen.
URL:https://test.bauverein-ruestringen.de/event/mal-anders-2-2/2028-08-04/
LOCATION:freiraum\, Störtebekerstraße 3 \, 26386 Wilhelmshaven\, Germany
CATEGORIES:freiraum
ATTACH;FMTTYPE=image/jpeg:https://test.bauverein-ruestringen.de/wp-content/uploads/2024/07/musik.jpg
END:VEVENT
BEGIN:VEVENT
DTSTART;TZID=Europe/Berlin:20280809T190000
DTEND;TZID=Europe/Berlin:20280809T210000
DTSTAMP:20260423T091808
CREATED:20221129T155839Z
LAST-MODIFIED:20250224T200953Z
UID:10010668-1849460400-1849467600@test.bauverein-ruestringen.de
SUMMARY:WLAN-Cafè
DESCRIPTION:Für Menschen ab 16 Jahren. In entspannter Atmosphäre erhalten Sie Unterstützung rund um Smartphone\, Tablet und Laptop.
URL:https://test.bauverein-ruestringen.de/event/wlan-cafe/2028-08-09/
LOCATION:freiraum\, Störtebekerstraße 3 \, 26386 Wilhelmshaven\, Germany
CATEGORIES:freiraum
ATTACH;FMTTYPE=image/jpeg:https://test.bauverein-ruestringen.de/wp-content/uploads/2022/11/wlancafe.jpg
END:VEVENT
BEGIN:VEVENT
DTSTART;TZID=Europe/Berlin:20280810T110000
DTEND;TZID=Europe/Berlin:20280810T120000
DTSTAMP:20260423T091808
CREATED:20210421T093201Z
LAST-MODIFIED:20250224T102240Z
UID:10013319-1849518000-1849521600@test.bauverein-ruestringen.de
SUMMARY:Digital-Kompass
DESCRIPTION:Unser Angebot für alle Senioren und Seniorinnen. Der Umgang mit Internet\, Smartphone\, Laptop und Tablet wird entspannt erklärt und geübt.
URL:https://test.bauverein-ruestringen.de/event/digital-kompass-3/2028-08-10/
LOCATION:freiraum\, Störtebekerstraße 3 \, 26386 Wilhelmshaven\, Germany
CATEGORIES:freiraum,Seniorenangebote,Treff – Auf Siebethsburg
ATTACH;FMTTYPE=image/jpeg:https://test.bauverein-ruestringen.de/wp-content/uploads/2021/04/Digital-Kompass_Bauverein_Ruestringen.jpg
END:VEVENT
BEGIN:VEVENT
DTSTART;TZID=Europe/Berlin:20280810T140000
DTEND;TZID=Europe/Berlin:20280810T163000
DTSTAMP:20260423T091808
CREATED:20221129T162209Z
LAST-MODIFIED:20240705T081757Z
UID:10012944-1849528800-1849537800@test.bauverein-ruestringen.de
SUMMARY:Treff für alleinerziehende Mütter
DESCRIPTION:Unterstützung und Vernetzung für Mütter mit Kindern im Alter von 0 bis 3 Jahren.
URL:https://test.bauverein-ruestringen.de/event/bastelgruppe/2028-08-10/
LOCATION:freiraum\, Störtebekerstraße 3 \, 26386 Wilhelmshaven\, Germany
CATEGORIES:freiraum
ATTACH;FMTTYPE=image/jpeg:https://test.bauverein-ruestringen.de/wp-content/uploads/2024/07/muetter.jpg
END:VEVENT
BEGIN:VEVENT
DTSTART;TZID=Europe/Berlin:20280810T183000
DTEND;TZID=Europe/Berlin:20280810T200000
DTSTAMP:20260423T091808
CREATED:20230630T091532Z
LAST-MODIFIED:20250224T205920Z
UID:10011342-1849545000-1849550400@test.bauverein-ruestringen.de
SUMMARY:Fotografieren auf Siebethsburg
DESCRIPTION:Offener Austausch für Interessierte\, die Spaß am Fotografieren haben.
URL:https://test.bauverein-ruestringen.de/event/fotografieren-auf-siebethsburg/2028-08-10/
LOCATION:freiraum\, Störtebekerstraße 3 \, 26386 Wilhelmshaven\, Germany
ATTACH;FMTTYPE=image/jpeg:https://test.bauverein-ruestringen.de/wp-content/uploads/2023/06/Fotografieren.jpg
END:VEVENT
BEGIN:VEVENT
DTSTART;TZID=Europe/Berlin:20280811T140000
DTEND;TZID=Europe/Berlin:20280811T163000
DTSTAMP:20260423T091808
CREATED:20210422T164755Z
LAST-MODIFIED:20250224T202425Z
UID:10013483-1849615200-1849624200@test.bauverein-ruestringen.de
SUMMARY:Bingo
DESCRIPTION:Aufmerksamkeit ist gefragt: Bingo ist ein heiteres\, geselliges Spiel für alle Altersgruppen. Termine auf Anfrage. \n 
URL:https://test.bauverein-ruestringen.de/event/bingo-2/2028-08-11/
LOCATION:freiraum\, Störtebekerstraße 3 \, 26386 Wilhelmshaven\, Germany
CATEGORIES:freiraum
ATTACH;FMTTYPE=image/jpeg:https://test.bauverein-ruestringen.de/wp-content/uploads/2021/04/Bingo_Bauverein_Ruestringen.jpg
END:VEVENT
BEGIN:VEVENT
DTSTART;TZID=Europe/Berlin:20280816T190000
DTEND;TZID=Europe/Berlin:20280816T210000
DTSTAMP:20260423T091808
CREATED:20221129T155839Z
LAST-MODIFIED:20250224T200953Z
UID:10010669-1850065200-1850072400@test.bauverein-ruestringen.de
SUMMARY:WLAN-Cafè
DESCRIPTION:Für Menschen ab 16 Jahren. In entspannter Atmosphäre erhalten Sie Unterstützung rund um Smartphone\, Tablet und Laptop.
URL:https://test.bauverein-ruestringen.de/event/wlan-cafe/2028-08-16/
LOCATION:freiraum\, Störtebekerstraße 3 \, 26386 Wilhelmshaven\, Germany
CATEGORIES:freiraum
ATTACH;FMTTYPE=image/jpeg:https://test.bauverein-ruestringen.de/wp-content/uploads/2022/11/wlancafe.jpg
END:VEVENT
BEGIN:VEVENT
DTSTART;TZID=Europe/Berlin:20280817T110000
DTEND;TZID=Europe/Berlin:20280817T120000
DTSTAMP:20260423T091808
CREATED:20210421T093201Z
LAST-MODIFIED:20250224T102240Z
UID:10013320-1850122800-1850126400@test.bauverein-ruestringen.de
SUMMARY:Digital-Kompass
DESCRIPTION:Unser Angebot für alle Senioren und Seniorinnen. Der Umgang mit Internet\, Smartphone\, Laptop und Tablet wird entspannt erklärt und geübt.
URL:https://test.bauverein-ruestringen.de/event/digital-kompass-3/2028-08-17/
LOCATION:freiraum\, Störtebekerstraße 3 \, 26386 Wilhelmshaven\, Germany
CATEGORIES:freiraum,Seniorenangebote,Treff – Auf Siebethsburg
ATTACH;FMTTYPE=image/jpeg:https://test.bauverein-ruestringen.de/wp-content/uploads/2021/04/Digital-Kompass_Bauverein_Ruestringen.jpg
END:VEVENT
BEGIN:VEVENT
DTSTART;TZID=Europe/Berlin:20280817T170000
DTEND;TZID=Europe/Berlin:20280817T190000
DTSTAMP:20260423T091808
CREATED:20250220T110339Z
LAST-MODIFIED:20250224T210353Z
UID:10011456-1850144400-1850151600@test.bauverein-ruestringen.de
SUMMARY:Lesekreis
DESCRIPTION:Lesebegeisterte Menschen jeden Alters teilen das Interesse für Bücher und tauschen sich aus.
URL:https://test.bauverein-ruestringen.de/event/gedaechtnistraining-2/2028-08-17/
LOCATION:freiraum\, Störtebekerstraße 3 \, 26386 Wilhelmshaven\, Germany
CATEGORIES:freiraum,Seniorenangebote,Treff – Auf Siebethsburg
ATTACH;FMTTYPE=image/jpeg:https://test.bauverein-ruestringen.de/wp-content/uploads/2024/07/lesekreis.jpg
END:VEVENT
BEGIN:VEVENT
DTSTART;TZID=Europe/Berlin:20280818T170000
DTEND;TZID=Europe/Berlin:20280818T190000
DTSTAMP:20260423T091808
CREATED:20240703T091914Z
LAST-MODIFIED:20250224T210331Z
UID:10013107-1850230800-1850238000@test.bauverein-ruestringen.de
SUMMARY:Haste Töne
DESCRIPTION:Jeder\, der Spaß am Musizieren oder Singen hat ist willkommen.
URL:https://test.bauverein-ruestringen.de/event/mal-anders-2-2/2028-08-18/
LOCATION:freiraum\, Störtebekerstraße 3 \, 26386 Wilhelmshaven\, Germany
CATEGORIES:freiraum
ATTACH;FMTTYPE=image/jpeg:https://test.bauverein-ruestringen.de/wp-content/uploads/2024/07/musik.jpg
END:VEVENT
BEGIN:VEVENT
DTSTART;TZID=Europe/Berlin:20280823T190000
DTEND;TZID=Europe/Berlin:20280823T210000
DTSTAMP:20260423T091808
CREATED:20221129T155839Z
LAST-MODIFIED:20250224T200953Z
UID:10010670-1850670000-1850677200@test.bauverein-ruestringen.de
SUMMARY:WLAN-Cafè
DESCRIPTION:Für Menschen ab 16 Jahren. In entspannter Atmosphäre erhalten Sie Unterstützung rund um Smartphone\, Tablet und Laptop.
URL:https://test.bauverein-ruestringen.de/event/wlan-cafe/2028-08-23/
LOCATION:freiraum\, Störtebekerstraße 3 \, 26386 Wilhelmshaven\, Germany
CATEGORIES:freiraum
ATTACH;FMTTYPE=image/jpeg:https://test.bauverein-ruestringen.de/wp-content/uploads/2022/11/wlancafe.jpg
END:VEVENT
BEGIN:VEVENT
DTSTART;TZID=Europe/Berlin:20280824T110000
DTEND;TZID=Europe/Berlin:20280824T120000
DTSTAMP:20260423T091808
CREATED:20210421T093201Z
LAST-MODIFIED:20250224T102240Z
UID:10013321-1850727600-1850731200@test.bauverein-ruestringen.de
SUMMARY:Digital-Kompass
DESCRIPTION:Unser Angebot für alle Senioren und Seniorinnen. Der Umgang mit Internet\, Smartphone\, Laptop und Tablet wird entspannt erklärt und geübt.
URL:https://test.bauverein-ruestringen.de/event/digital-kompass-3/2028-08-24/
LOCATION:freiraum\, Störtebekerstraße 3 \, 26386 Wilhelmshaven\, Germany
CATEGORIES:freiraum,Seniorenangebote,Treff – Auf Siebethsburg
ATTACH;FMTTYPE=image/jpeg:https://test.bauverein-ruestringen.de/wp-content/uploads/2021/04/Digital-Kompass_Bauverein_Ruestringen.jpg
END:VEVENT
BEGIN:VEVENT
DTSTART;TZID=Europe/Berlin:20280824T150000
DTEND;TZID=Europe/Berlin:20280824T163000
DTSTAMP:20260423T091808
CREATED:20250220T110359Z
LAST-MODIFIED:20250224T210413Z
UID:10011493-1850742000-1850747400@test.bauverein-ruestringen.de
SUMMARY:Treff für alleinerziehende Mütter
DESCRIPTION:Unterstützung und Vernetzung für Mütter mit Kindern im Alter von 0 bis 3 Jahren.
URL:https://test.bauverein-ruestringen.de/event/bastelgruppe-2/2028-08-24/
LOCATION:freiraum\, Störtebekerstraße 3 \, 26386 Wilhelmshaven\, Germany
CATEGORIES:freiraum
ATTACH;FMTTYPE=image/jpeg:https://test.bauverein-ruestringen.de/wp-content/uploads/2024/07/muetter.jpg
END:VEVENT
BEGIN:VEVENT
DTSTART;TZID=Europe/Berlin:20280825T140000
DTEND;TZID=Europe/Berlin:20280825T163000
DTSTAMP:20260423T091808
CREATED:20210422T164755Z
LAST-MODIFIED:20250224T202425Z
UID:10013484-1850824800-1850833800@test.bauverein-ruestringen.de
SUMMARY:Bingo
DESCRIPTION:Aufmerksamkeit ist gefragt: Bingo ist ein heiteres\, geselliges Spiel für alle Altersgruppen. Termine auf Anfrage. \n 
URL:https://test.bauverein-ruestringen.de/event/bingo-2/2028-08-25/
LOCATION:freiraum\, Störtebekerstraße 3 \, 26386 Wilhelmshaven\, Germany
CATEGORIES:freiraum
ATTACH;FMTTYPE=image/jpeg:https://test.bauverein-ruestringen.de/wp-content/uploads/2021/04/Bingo_Bauverein_Ruestringen.jpg
END:VEVENT
BEGIN:VEVENT
DTSTART;TZID=Europe/Berlin:20280830T190000
DTEND;TZID=Europe/Berlin:20280830T210000
DTSTAMP:20260423T091808
CREATED:20221129T155839Z
LAST-MODIFIED:20250224T200953Z
UID:10010671-1851274800-1851282000@test.bauverein-ruestringen.de
SUMMARY:WLAN-Cafè
DESCRIPTION:Für Menschen ab 16 Jahren. In entspannter Atmosphäre erhalten Sie Unterstützung rund um Smartphone\, Tablet und Laptop.
URL:https://test.bauverein-ruestringen.de/event/wlan-cafe/2028-08-30/
LOCATION:freiraum\, Störtebekerstraße 3 \, 26386 Wilhelmshaven\, Germany
CATEGORIES:freiraum
ATTACH;FMTTYPE=image/jpeg:https://test.bauverein-ruestringen.de/wp-content/uploads/2022/11/wlancafe.jpg
END:VEVENT
END:VCALENDAR