BEGIN:VCALENDAR
VERSION:2.0
PRODID:-//Bauverein Rüstringen - ECPv6.15.11//NONSGML v1.0//EN
CALSCALE:GREGORIAN
METHOD:PUBLISH
X-ORIGINAL-URL:https://test.bauverein-ruestringen.de
X-WR-CALDESC:Veranstaltungen für Bauverein Rüstringen
REFRESH-INTERVAL;VALUE=DURATION:PT1H
X-Robots-Tag:noindex
X-PUBLISHED-TTL:PT1H
BEGIN:VTIMEZONE
TZID:Europe/Berlin
BEGIN:DAYLIGHT
TZOFFSETFROM:+0100
TZOFFSETTO:+0200
TZNAME:CEST
DTSTART:20270328T010000
END:DAYLIGHT
BEGIN:STANDARD
TZOFFSETFROM:+0200
TZOFFSETTO:+0100
TZNAME:CET
DTSTART:20271031T010000
END:STANDARD
BEGIN:DAYLIGHT
TZOFFSETFROM:+0100
TZOFFSETTO:+0200
TZNAME:CEST
DTSTART:20280326T010000
END:DAYLIGHT
BEGIN:STANDARD
TZOFFSETFROM:+0200
TZOFFSETTO:+0100
TZNAME:CET
DTSTART:20281029T010000
END:STANDARD
BEGIN:DAYLIGHT
TZOFFSETFROM:+0100
TZOFFSETTO:+0200
TZNAME:CEST
DTSTART:20290325T010000
END:DAYLIGHT
BEGIN:STANDARD
TZOFFSETFROM:+0200
TZOFFSETTO:+0100
TZNAME:CET
DTSTART:20291028T010000
END:STANDARD
END:VTIMEZONE
BEGIN:VEVENT
DTSTART;TZID=Europe/Berlin:20280405T190000
DTEND;TZID=Europe/Berlin:20280405T210000
DTSTAMP:20260425T210911
CREATED:20221129T155839Z
LAST-MODIFIED:20250224T200953Z
UID:10010650-1838574000-1838581200@test.bauverein-ruestringen.de
SUMMARY:WLAN-Cafè
DESCRIPTION:Für Menschen ab 16 Jahren. In entspannter Atmosphäre erhalten Sie Unterstützung rund um Smartphone\, Tablet und Laptop.
URL:https://test.bauverein-ruestringen.de/event/wlan-cafe/2028-04-05/
LOCATION:freiraum\, Störtebekerstraße 3 \, 26386 Wilhelmshaven\, Deutschland
CATEGORIES:freiraum
ATTACH;FMTTYPE=image/jpeg:https://test.bauverein-ruestringen.de/wp-content/uploads/2022/11/wlancafe.jpg
END:VEVENT
BEGIN:VEVENT
DTSTART;TZID=Europe/Berlin:20280406T100000
DTEND;TZID=Europe/Berlin:20280406T113000
DTSTAMP:20260425T210911
CREATED:20210421T093201Z
LAST-MODIFIED:20260424T094602Z
UID:10014301-1838628000-1838633400@test.bauverein-ruestringen.de
SUMMARY:Digital-Kompass
DESCRIPTION:Unser Angebot für alle Senioren und Seniorinnen. Der Umgang mit Internet\, Smartphone\, Laptop und Tablet wird entspannt erklärt und geübt.
URL:https://test.bauverein-ruestringen.de/event/digital-kompass-3/2028-04-06/
LOCATION:freiraum\, Störtebekerstraße 3 \, 26386 Wilhelmshaven\, Deutschland
CATEGORIES:freiraum,Seniorenangebote
ATTACH;FMTTYPE=image/jpeg:https://test.bauverein-ruestringen.de/wp-content/uploads/2021/04/Digital-Kompass_Bauverein_Ruestringen.jpg
END:VEVENT
BEGIN:VEVENT
DTSTART;TZID=Europe/Berlin:20280406T143000
DTEND;TZID=Europe/Berlin:20280406T153000
DTSTAMP:20260425T210911
CREATED:20210223T121557Z
LAST-MODIFIED:20250224T202459Z
UID:10011035-1838644200-1838647800@test.bauverein-ruestringen.de
SUMMARY:Lesekreis
DESCRIPTION:Lesebegeisterte Menschen jeden Alters teilen das Interesse für Bücher und tauschen sich aus.
URL:https://test.bauverein-ruestringen.de/event/gedaechtnistraining-2-2/2028-04-06/
LOCATION:freiraum\, Störtebekerstraße 3 \, 26386 Wilhelmshaven\, Deutschland
CATEGORIES:freiraum,Seniorenangebote,Treff – Auf Siebethsburg
ATTACH;FMTTYPE=image/jpeg:https://test.bauverein-ruestringen.de/wp-content/uploads/2024/07/lesekreis.jpg
END:VEVENT
BEGIN:VEVENT
DTSTART;TZID=Europe/Berlin:20280407T140000
DTEND;TZID=Europe/Berlin:20280407T163000
DTSTAMP:20260425T210911
CREATED:20210422T164755Z
LAST-MODIFIED:20250224T202425Z
UID:10013474-1838728800-1838737800@test.bauverein-ruestringen.de
SUMMARY:Bingo
DESCRIPTION:Aufmerksamkeit ist gefragt: Bingo ist ein heiteres\, geselliges Spiel für alle Altersgruppen. Termine auf Anfrage. \n 
URL:https://test.bauverein-ruestringen.de/event/bingo-2/2028-04-07/
LOCATION:freiraum\, Störtebekerstraße 3 \, 26386 Wilhelmshaven\, Deutschland
CATEGORIES:freiraum
ATTACH;FMTTYPE=image/jpeg:https://test.bauverein-ruestringen.de/wp-content/uploads/2021/04/Bingo_Bauverein_Ruestringen.jpg
END:VEVENT
BEGIN:VEVENT
DTSTART;TZID=Europe/Berlin:20280411T150000
DTEND;TZID=Europe/Berlin:20280411T160000
DTSTAMP:20260425T210911
CREATED:20260424T105006Z
LAST-MODIFIED:20260424T105108Z
UID:10015364-1839078000-1839081600@test.bauverein-ruestringen.de
SUMMARY: Frische Brise für den Kopf
DESCRIPTION:Bringen Sie Ihre grauen Zellen in Schwung. Unter Anleitung macht das besonders viel Spaß! Ab 60 Jahren.
URL:https://test.bauverein-ruestringen.de/event/frische-brise-fuer-den-kopf/2028-04-11/
LOCATION:freiraum\, Störtebekerstraße 3 \, 26386 Wilhelmshaven\, Deutschland
CATEGORIES:freiraum,Seniorenangebote
ATTACH;FMTTYPE=image/jpeg:https://test.bauverein-ruestringen.de/wp-content/uploads/2026/04/Bauverein-Ruestringen-Brise-fuer-den-Kopf.jpg
END:VEVENT
BEGIN:VEVENT
DTSTART;TZID=Europe/Berlin:20280412T104500
DTEND;TZID=Europe/Berlin:20280412T114500
DTSTAMP:20260425T210911
CREATED:20260424T110648Z
LAST-MODIFIED:20260424T110648Z
UID:10015627-1839149100-1839152700@test.bauverein-ruestringen.de
SUMMARY:Tanzen „Querbeet“
DESCRIPTION:In kleiner Gruppe wird mit viel Spaß in Reihen\, gemischt oder im Kreis getanzt.
URL:https://test.bauverein-ruestringen.de/event/tanzen-querbeet/2028-04-12/
LOCATION:freiraum\, Störtebekerstraße 3 \, 26386 Wilhelmshaven\, Deutschland
CATEGORIES:freiraum
ATTACH;FMTTYPE=image/jpeg:https://test.bauverein-ruestringen.de/wp-content/uploads/2026/04/Bauverein-Ruestringen-Tanz-Querbeet.jpg
END:VEVENT
BEGIN:VEVENT
DTSTART;TZID=Europe/Berlin:20280412T190000
DTEND;TZID=Europe/Berlin:20280412T210000
DTSTAMP:20260425T210911
CREATED:20221129T155839Z
LAST-MODIFIED:20250224T200953Z
UID:10010651-1839178800-1839186000@test.bauverein-ruestringen.de
SUMMARY:WLAN-Cafè
DESCRIPTION:Für Menschen ab 16 Jahren. In entspannter Atmosphäre erhalten Sie Unterstützung rund um Smartphone\, Tablet und Laptop.
URL:https://test.bauverein-ruestringen.de/event/wlan-cafe/2028-04-12/
LOCATION:freiraum\, Störtebekerstraße 3 \, 26386 Wilhelmshaven\, Deutschland
CATEGORIES:freiraum
ATTACH;FMTTYPE=image/jpeg:https://test.bauverein-ruestringen.de/wp-content/uploads/2022/11/wlancafe.jpg
END:VEVENT
BEGIN:VEVENT
DTSTART;TZID=Europe/Berlin:20280413T100000
DTEND;TZID=Europe/Berlin:20280413T113000
DTSTAMP:20260425T210911
CREATED:20210421T093201Z
LAST-MODIFIED:20260424T094602Z
UID:10014302-1839232800-1839238200@test.bauverein-ruestringen.de
SUMMARY:Digital-Kompass
DESCRIPTION:Unser Angebot für alle Senioren und Seniorinnen. Der Umgang mit Internet\, Smartphone\, Laptop und Tablet wird entspannt erklärt und geübt.
URL:https://test.bauverein-ruestringen.de/event/digital-kompass-3/2028-04-13/
LOCATION:freiraum\, Störtebekerstraße 3 \, 26386 Wilhelmshaven\, Deutschland
CATEGORIES:freiraum,Seniorenangebote
ATTACH;FMTTYPE=image/jpeg:https://test.bauverein-ruestringen.de/wp-content/uploads/2021/04/Digital-Kompass_Bauverein_Ruestringen.jpg
END:VEVENT
BEGIN:VEVENT
DTSTART;TZID=Europe/Berlin:20280413T183000
DTEND;TZID=Europe/Berlin:20280413T210000
DTSTAMP:20260425T210911
CREATED:20230630T091532Z
LAST-MODIFIED:20260424T093101Z
UID:10011338-1839263400-1839272400@test.bauverein-ruestringen.de
SUMMARY:Fotografieren auf Siebethsburg
DESCRIPTION:Offener Austausch für Interessierte\, die Spaß am Fotografieren haben.
URL:https://test.bauverein-ruestringen.de/event/fotografieren-auf-siebethsburg/2028-04-13/
LOCATION:freiraum\, Störtebekerstraße 3 \, 26386 Wilhelmshaven\, Deutschland
ATTACH;FMTTYPE=image/jpeg:https://test.bauverein-ruestringen.de/wp-content/uploads/2023/06/Fotografieren.jpg
END:VEVENT
BEGIN:VEVENT
DTSTART;TZID=Europe/Berlin:20280414T170000
DTEND;TZID=Europe/Berlin:20280414T190000
DTSTAMP:20260425T210911
CREATED:20240703T091914Z
LAST-MODIFIED:20250224T210331Z
UID:10013098-1839344400-1839351600@test.bauverein-ruestringen.de
SUMMARY:Haste Töne
DESCRIPTION:Jeder\, der Spaß am Musizieren oder Singen hat ist willkommen.
URL:https://test.bauverein-ruestringen.de/event/mal-anders-2-2/2028-04-14/
LOCATION:freiraum\, Störtebekerstraße 3 \, 26386 Wilhelmshaven\, Deutschland
CATEGORIES:freiraum
ATTACH;FMTTYPE=image/jpeg:https://test.bauverein-ruestringen.de/wp-content/uploads/2024/07/musik.jpg
END:VEVENT
BEGIN:VEVENT
DTSTART;TZID=Europe/Berlin:20280418T150000
DTEND;TZID=Europe/Berlin:20280418T160000
DTSTAMP:20260425T210911
CREATED:20260424T105006Z
LAST-MODIFIED:20260424T105108Z
UID:10015365-1839682800-1839686400@test.bauverein-ruestringen.de
SUMMARY: Frische Brise für den Kopf
DESCRIPTION:Bringen Sie Ihre grauen Zellen in Schwung. Unter Anleitung macht das besonders viel Spaß! Ab 60 Jahren.
URL:https://test.bauverein-ruestringen.de/event/frische-brise-fuer-den-kopf/2028-04-18/
LOCATION:freiraum\, Störtebekerstraße 3 \, 26386 Wilhelmshaven\, Deutschland
CATEGORIES:freiraum,Seniorenangebote
ATTACH;FMTTYPE=image/jpeg:https://test.bauverein-ruestringen.de/wp-content/uploads/2026/04/Bauverein-Ruestringen-Brise-fuer-den-Kopf.jpg
END:VEVENT
BEGIN:VEVENT
DTSTART;TZID=Europe/Berlin:20280419T104500
DTEND;TZID=Europe/Berlin:20280419T114500
DTSTAMP:20260425T210911
CREATED:20260424T110648Z
LAST-MODIFIED:20260424T110648Z
UID:10015628-1839753900-1839757500@test.bauverein-ruestringen.de
SUMMARY:Tanzen „Querbeet“
DESCRIPTION:In kleiner Gruppe wird mit viel Spaß in Reihen\, gemischt oder im Kreis getanzt.
URL:https://test.bauverein-ruestringen.de/event/tanzen-querbeet/2028-04-19/
LOCATION:freiraum\, Störtebekerstraße 3 \, 26386 Wilhelmshaven\, Deutschland
CATEGORIES:freiraum
ATTACH;FMTTYPE=image/jpeg:https://test.bauverein-ruestringen.de/wp-content/uploads/2026/04/Bauverein-Ruestringen-Tanz-Querbeet.jpg
END:VEVENT
BEGIN:VEVENT
DTSTART;TZID=Europe/Berlin:20280419T190000
DTEND;TZID=Europe/Berlin:20280419T210000
DTSTAMP:20260425T210911
CREATED:20221129T155839Z
LAST-MODIFIED:20250224T200953Z
UID:10010652-1839783600-1839790800@test.bauverein-ruestringen.de
SUMMARY:WLAN-Cafè
DESCRIPTION:Für Menschen ab 16 Jahren. In entspannter Atmosphäre erhalten Sie Unterstützung rund um Smartphone\, Tablet und Laptop.
URL:https://test.bauverein-ruestringen.de/event/wlan-cafe/2028-04-19/
LOCATION:freiraum\, Störtebekerstraße 3 \, 26386 Wilhelmshaven\, Deutschland
CATEGORIES:freiraum
ATTACH;FMTTYPE=image/jpeg:https://test.bauverein-ruestringen.de/wp-content/uploads/2022/11/wlancafe.jpg
END:VEVENT
BEGIN:VEVENT
DTSTART;TZID=Europe/Berlin:20280420T100000
DTEND;TZID=Europe/Berlin:20280420T113000
DTSTAMP:20260425T210911
CREATED:20210421T093201Z
LAST-MODIFIED:20260424T094602Z
UID:10014303-1839837600-1839843000@test.bauverein-ruestringen.de
SUMMARY:Digital-Kompass
DESCRIPTION:Unser Angebot für alle Senioren und Seniorinnen. Der Umgang mit Internet\, Smartphone\, Laptop und Tablet wird entspannt erklärt und geübt.
URL:https://test.bauverein-ruestringen.de/event/digital-kompass-3/2028-04-20/
LOCATION:freiraum\, Störtebekerstraße 3 \, 26386 Wilhelmshaven\, Deutschland
CATEGORIES:freiraum,Seniorenangebote
ATTACH;FMTTYPE=image/jpeg:https://test.bauverein-ruestringen.de/wp-content/uploads/2021/04/Digital-Kompass_Bauverein_Ruestringen.jpg
END:VEVENT
BEGIN:VEVENT
DTSTART;TZID=Europe/Berlin:20280420T170000
DTEND;TZID=Europe/Berlin:20280420T190000
DTSTAMP:20260425T210911
CREATED:20250220T110339Z
LAST-MODIFIED:20250224T210353Z
UID:10011452-1839862800-1839870000@test.bauverein-ruestringen.de
SUMMARY:Lesekreis
DESCRIPTION:Lesebegeisterte Menschen jeden Alters teilen das Interesse für Bücher und tauschen sich aus.
URL:https://test.bauverein-ruestringen.de/event/gedaechtnistraining-2/2028-04-20/
LOCATION:freiraum\, Störtebekerstraße 3 \, 26386 Wilhelmshaven\, Deutschland
CATEGORIES:freiraum,Seniorenangebote,Treff – Auf Siebethsburg
ATTACH;FMTTYPE=image/jpeg:https://test.bauverein-ruestringen.de/wp-content/uploads/2024/07/lesekreis.jpg
END:VEVENT
BEGIN:VEVENT
DTSTART;TZID=Europe/Berlin:20280421T140000
DTEND;TZID=Europe/Berlin:20280421T163000
DTSTAMP:20260425T210911
CREATED:20210422T164755Z
LAST-MODIFIED:20250224T202425Z
UID:10013475-1839938400-1839947400@test.bauverein-ruestringen.de
SUMMARY:Bingo
DESCRIPTION:Aufmerksamkeit ist gefragt: Bingo ist ein heiteres\, geselliges Spiel für alle Altersgruppen. Termine auf Anfrage. \n 
URL:https://test.bauverein-ruestringen.de/event/bingo-2/2028-04-21/
LOCATION:freiraum\, Störtebekerstraße 3 \, 26386 Wilhelmshaven\, Deutschland
CATEGORIES:freiraum
ATTACH;FMTTYPE=image/jpeg:https://test.bauverein-ruestringen.de/wp-content/uploads/2021/04/Bingo_Bauverein_Ruestringen.jpg
END:VEVENT
BEGIN:VEVENT
DTSTART;TZID=Europe/Berlin:20280425T150000
DTEND;TZID=Europe/Berlin:20280425T160000
DTSTAMP:20260425T210911
CREATED:20260424T105006Z
LAST-MODIFIED:20260424T105108Z
UID:10015366-1840287600-1840291200@test.bauverein-ruestringen.de
SUMMARY: Frische Brise für den Kopf
DESCRIPTION:Bringen Sie Ihre grauen Zellen in Schwung. Unter Anleitung macht das besonders viel Spaß! Ab 60 Jahren.
URL:https://test.bauverein-ruestringen.de/event/frische-brise-fuer-den-kopf/2028-04-25/
LOCATION:freiraum\, Störtebekerstraße 3 \, 26386 Wilhelmshaven\, Deutschland
CATEGORIES:freiraum,Seniorenangebote
ATTACH;FMTTYPE=image/jpeg:https://test.bauverein-ruestringen.de/wp-content/uploads/2026/04/Bauverein-Ruestringen-Brise-fuer-den-Kopf.jpg
END:VEVENT
BEGIN:VEVENT
DTSTART;TZID=Europe/Berlin:20280426T104500
DTEND;TZID=Europe/Berlin:20280426T114500
DTSTAMP:20260425T210911
CREATED:20260424T110648Z
LAST-MODIFIED:20260424T110648Z
UID:10015629-1840358700-1840362300@test.bauverein-ruestringen.de
SUMMARY:Tanzen „Querbeet“
DESCRIPTION:In kleiner Gruppe wird mit viel Spaß in Reihen\, gemischt oder im Kreis getanzt.
URL:https://test.bauverein-ruestringen.de/event/tanzen-querbeet/2028-04-26/
LOCATION:freiraum\, Störtebekerstraße 3 \, 26386 Wilhelmshaven\, Deutschland
CATEGORIES:freiraum
ATTACH;FMTTYPE=image/jpeg:https://test.bauverein-ruestringen.de/wp-content/uploads/2026/04/Bauverein-Ruestringen-Tanz-Querbeet.jpg
END:VEVENT
BEGIN:VEVENT
DTSTART;TZID=Europe/Berlin:20280426T190000
DTEND;TZID=Europe/Berlin:20280426T210000
DTSTAMP:20260425T210911
CREATED:20221129T155839Z
LAST-MODIFIED:20250224T200953Z
UID:10010653-1840388400-1840395600@test.bauverein-ruestringen.de
SUMMARY:WLAN-Cafè
DESCRIPTION:Für Menschen ab 16 Jahren. In entspannter Atmosphäre erhalten Sie Unterstützung rund um Smartphone\, Tablet und Laptop.
URL:https://test.bauverein-ruestringen.de/event/wlan-cafe/2028-04-26/
LOCATION:freiraum\, Störtebekerstraße 3 \, 26386 Wilhelmshaven\, Deutschland
CATEGORIES:freiraum
ATTACH;FMTTYPE=image/jpeg:https://test.bauverein-ruestringen.de/wp-content/uploads/2022/11/wlancafe.jpg
END:VEVENT
BEGIN:VEVENT
DTSTART;TZID=Europe/Berlin:20280427T100000
DTEND;TZID=Europe/Berlin:20280427T113000
DTSTAMP:20260425T210911
CREATED:20210421T093201Z
LAST-MODIFIED:20260424T094602Z
UID:10014304-1840442400-1840447800@test.bauverein-ruestringen.de
SUMMARY:Digital-Kompass
DESCRIPTION:Unser Angebot für alle Senioren und Seniorinnen. Der Umgang mit Internet\, Smartphone\, Laptop und Tablet wird entspannt erklärt und geübt.
URL:https://test.bauverein-ruestringen.de/event/digital-kompass-3/2028-04-27/
LOCATION:freiraum\, Störtebekerstraße 3 \, 26386 Wilhelmshaven\, Deutschland
CATEGORIES:freiraum,Seniorenangebote
ATTACH;FMTTYPE=image/jpeg:https://test.bauverein-ruestringen.de/wp-content/uploads/2021/04/Digital-Kompass_Bauverein_Ruestringen.jpg
END:VEVENT
BEGIN:VEVENT
DTSTART;TZID=Europe/Berlin:20280428T170000
DTEND;TZID=Europe/Berlin:20280428T190000
DTSTAMP:20260425T210911
CREATED:20240703T091914Z
LAST-MODIFIED:20250224T210331Z
UID:10013099-1840554000-1840561200@test.bauverein-ruestringen.de
SUMMARY:Haste Töne
DESCRIPTION:Jeder\, der Spaß am Musizieren oder Singen hat ist willkommen.
URL:https://test.bauverein-ruestringen.de/event/mal-anders-2-2/2028-04-28/
LOCATION:freiraum\, Störtebekerstraße 3 \, 26386 Wilhelmshaven\, Deutschland
CATEGORIES:freiraum
ATTACH;FMTTYPE=image/jpeg:https://test.bauverein-ruestringen.de/wp-content/uploads/2024/07/musik.jpg
END:VEVENT
BEGIN:VEVENT
DTSTART;TZID=Europe/Berlin:20280502T150000
DTEND;TZID=Europe/Berlin:20280502T160000
DTSTAMP:20260425T210911
CREATED:20260424T105006Z
LAST-MODIFIED:20260424T105108Z
UID:10015367-1840892400-1840896000@test.bauverein-ruestringen.de
SUMMARY: Frische Brise für den Kopf
DESCRIPTION:Bringen Sie Ihre grauen Zellen in Schwung. Unter Anleitung macht das besonders viel Spaß! Ab 60 Jahren.
URL:https://test.bauverein-ruestringen.de/event/frische-brise-fuer-den-kopf/2028-05-02/
LOCATION:freiraum\, Störtebekerstraße 3 \, 26386 Wilhelmshaven\, Deutschland
CATEGORIES:freiraum,Seniorenangebote
ATTACH;FMTTYPE=image/jpeg:https://test.bauverein-ruestringen.de/wp-content/uploads/2026/04/Bauverein-Ruestringen-Brise-fuer-den-Kopf.jpg
END:VEVENT
BEGIN:VEVENT
DTSTART;TZID=Europe/Berlin:20280503T104500
DTEND;TZID=Europe/Berlin:20280503T114500
DTSTAMP:20260425T210911
CREATED:20260424T110648Z
LAST-MODIFIED:20260424T110648Z
UID:10015630-1840963500-1840967100@test.bauverein-ruestringen.de
SUMMARY:Tanzen „Querbeet“
DESCRIPTION:In kleiner Gruppe wird mit viel Spaß in Reihen\, gemischt oder im Kreis getanzt.
URL:https://test.bauverein-ruestringen.de/event/tanzen-querbeet/2028-05-03/
LOCATION:freiraum\, Störtebekerstraße 3 \, 26386 Wilhelmshaven\, Deutschland
CATEGORIES:freiraum
ATTACH;FMTTYPE=image/jpeg:https://test.bauverein-ruestringen.de/wp-content/uploads/2026/04/Bauverein-Ruestringen-Tanz-Querbeet.jpg
END:VEVENT
BEGIN:VEVENT
DTSTART;TZID=Europe/Berlin:20280503T190000
DTEND;TZID=Europe/Berlin:20280503T210000
DTSTAMP:20260425T210911
CREATED:20221129T155839Z
LAST-MODIFIED:20250224T200953Z
UID:10010654-1840993200-1841000400@test.bauverein-ruestringen.de
SUMMARY:WLAN-Cafè
DESCRIPTION:Für Menschen ab 16 Jahren. In entspannter Atmosphäre erhalten Sie Unterstützung rund um Smartphone\, Tablet und Laptop.
URL:https://test.bauverein-ruestringen.de/event/wlan-cafe/2028-05-03/
LOCATION:freiraum\, Störtebekerstraße 3 \, 26386 Wilhelmshaven\, Deutschland
CATEGORIES:freiraum
ATTACH;FMTTYPE=image/jpeg:https://test.bauverein-ruestringen.de/wp-content/uploads/2022/11/wlancafe.jpg
END:VEVENT
BEGIN:VEVENT
DTSTART;TZID=Europe/Berlin:20280504T100000
DTEND;TZID=Europe/Berlin:20280504T113000
DTSTAMP:20260425T210911
CREATED:20210421T093201Z
LAST-MODIFIED:20260424T094602Z
UID:10014305-1841047200-1841052600@test.bauverein-ruestringen.de
SUMMARY:Digital-Kompass
DESCRIPTION:Unser Angebot für alle Senioren und Seniorinnen. Der Umgang mit Internet\, Smartphone\, Laptop und Tablet wird entspannt erklärt und geübt.
URL:https://test.bauverein-ruestringen.de/event/digital-kompass-3/2028-05-04/
LOCATION:freiraum\, Störtebekerstraße 3 \, 26386 Wilhelmshaven\, Deutschland
CATEGORIES:freiraum,Seniorenangebote
ATTACH;FMTTYPE=image/jpeg:https://test.bauverein-ruestringen.de/wp-content/uploads/2021/04/Digital-Kompass_Bauverein_Ruestringen.jpg
END:VEVENT
BEGIN:VEVENT
DTSTART;TZID=Europe/Berlin:20280504T143000
DTEND;TZID=Europe/Berlin:20280504T153000
DTSTAMP:20260425T210911
CREATED:20210223T121557Z
LAST-MODIFIED:20250224T202459Z
UID:10011036-1841063400-1841067000@test.bauverein-ruestringen.de
SUMMARY:Lesekreis
DESCRIPTION:Lesebegeisterte Menschen jeden Alters teilen das Interesse für Bücher und tauschen sich aus.
URL:https://test.bauverein-ruestringen.de/event/gedaechtnistraining-2-2/2028-05-04/
LOCATION:freiraum\, Störtebekerstraße 3 \, 26386 Wilhelmshaven\, Deutschland
CATEGORIES:freiraum,Seniorenangebote,Treff – Auf Siebethsburg
ATTACH;FMTTYPE=image/jpeg:https://test.bauverein-ruestringen.de/wp-content/uploads/2024/07/lesekreis.jpg
END:VEVENT
BEGIN:VEVENT
DTSTART;TZID=Europe/Berlin:20280505T140000
DTEND;TZID=Europe/Berlin:20280505T163000
DTSTAMP:20260425T210911
CREATED:20210422T164755Z
LAST-MODIFIED:20250224T202425Z
UID:10013476-1841148000-1841157000@test.bauverein-ruestringen.de
SUMMARY:Bingo
DESCRIPTION:Aufmerksamkeit ist gefragt: Bingo ist ein heiteres\, geselliges Spiel für alle Altersgruppen. Termine auf Anfrage. \n 
URL:https://test.bauverein-ruestringen.de/event/bingo-2/2028-05-05/
LOCATION:freiraum\, Störtebekerstraße 3 \, 26386 Wilhelmshaven\, Deutschland
CATEGORIES:freiraum
ATTACH;FMTTYPE=image/jpeg:https://test.bauverein-ruestringen.de/wp-content/uploads/2021/04/Bingo_Bauverein_Ruestringen.jpg
END:VEVENT
BEGIN:VEVENT
DTSTART;TZID=Europe/Berlin:20280509T150000
DTEND;TZID=Europe/Berlin:20280509T160000
DTSTAMP:20260425T210911
CREATED:20260424T105006Z
LAST-MODIFIED:20260424T105108Z
UID:10015368-1841497200-1841500800@test.bauverein-ruestringen.de
SUMMARY: Frische Brise für den Kopf
DESCRIPTION:Bringen Sie Ihre grauen Zellen in Schwung. Unter Anleitung macht das besonders viel Spaß! Ab 60 Jahren.
URL:https://test.bauverein-ruestringen.de/event/frische-brise-fuer-den-kopf/2028-05-09/
LOCATION:freiraum\, Störtebekerstraße 3 \, 26386 Wilhelmshaven\, Deutschland
CATEGORIES:freiraum,Seniorenangebote
ATTACH;FMTTYPE=image/jpeg:https://test.bauverein-ruestringen.de/wp-content/uploads/2026/04/Bauverein-Ruestringen-Brise-fuer-den-Kopf.jpg
END:VEVENT
BEGIN:VEVENT
DTSTART;TZID=Europe/Berlin:20280510T104500
DTEND;TZID=Europe/Berlin:20280510T114500
DTSTAMP:20260425T210911
CREATED:20260424T110648Z
LAST-MODIFIED:20260424T110648Z
UID:10015631-1841568300-1841571900@test.bauverein-ruestringen.de
SUMMARY:Tanzen „Querbeet“
DESCRIPTION:In kleiner Gruppe wird mit viel Spaß in Reihen\, gemischt oder im Kreis getanzt.
URL:https://test.bauverein-ruestringen.de/event/tanzen-querbeet/2028-05-10/
LOCATION:freiraum\, Störtebekerstraße 3 \, 26386 Wilhelmshaven\, Deutschland
CATEGORIES:freiraum
ATTACH;FMTTYPE=image/jpeg:https://test.bauverein-ruestringen.de/wp-content/uploads/2026/04/Bauverein-Ruestringen-Tanz-Querbeet.jpg
END:VEVENT
BEGIN:VEVENT
DTSTART;TZID=Europe/Berlin:20280510T190000
DTEND;TZID=Europe/Berlin:20280510T210000
DTSTAMP:20260425T210911
CREATED:20221129T155839Z
LAST-MODIFIED:20250224T200953Z
UID:10010655-1841598000-1841605200@test.bauverein-ruestringen.de
SUMMARY:WLAN-Cafè
DESCRIPTION:Für Menschen ab 16 Jahren. In entspannter Atmosphäre erhalten Sie Unterstützung rund um Smartphone\, Tablet und Laptop.
URL:https://test.bauverein-ruestringen.de/event/wlan-cafe/2028-05-10/
LOCATION:freiraum\, Störtebekerstraße 3 \, 26386 Wilhelmshaven\, Deutschland
CATEGORIES:freiraum
ATTACH;FMTTYPE=image/jpeg:https://test.bauverein-ruestringen.de/wp-content/uploads/2022/11/wlancafe.jpg
END:VEVENT
END:VCALENDAR